Package: interactiveDisplay Version: 1.47.1 Command: /home/biocbuild/bbs-3.22-bioc/R/bin/R CMD check --install=check:interactiveDisplay.install-out.txt --library=/home/biocbuild/bbs-3.22-bioc/R/site-library --timings interactiveDisplay_1.47.1.tar.gz StartedAt: 2025-10-25 00:46:00 -0400 (Sat, 25 Oct 2025) EndedAt: 2025-10-25 00:49:32 -0400 (Sat, 25 Oct 2025) EllapsedTime: 212.2 seconds RetCode: 0 Status: OK CheckDir: interactiveDisplay.Rcheck Warnings: 0