Package: interactiveDisplay Version: 1.47.1 Command: /home/biocbuild/bbs-3.22-bioc/R/bin/R CMD build --keep-empty-dirs --no-resave-data --md5 interactiveDisplay StartedAt: 2025-10-24 18:25:28 -0400 (Fri, 24 Oct 2025) EndedAt: 2025-10-24 18:26:19 -0400 (Fri, 24 Oct 2025) EllapsedTime: 51.1 seconds RetCode: 0 Status: OK PackageFile: interactiveDisplay_1.47.1.tar.gz PackageFileSize: 4.565 MiB