Package: interactiveDisplay Version: 1.47.1 Command: /Library/Frameworks/R.framework/Resources/bin/R CMD INSTALL interactiveDisplay StartedAt: 2025-10-24 15:57:17 -0400 (Fri, 24 Oct 2025) EndedAt: 2025-10-24 15:57:51 -0400 (Fri, 24 Oct 2025) EllapsedTime: 33.8 seconds RetCode: 0 Status: OK