Package: interacCircos Version: 1.20.0 Command: /Library/Frameworks/R.framework/Resources/bin/R CMD INSTALL interacCircos StartedAt: 2025-11-03 15:13:52 -0500 (Mon, 03 Nov 2025) EndedAt: 2025-11-03 15:14:39 -0500 (Mon, 03 Nov 2025) EllapsedTime: 46.7 seconds RetCode: 0 Status: OK