Package: interacCircos Version: 1.20.0 Command: /Library/Frameworks/R.framework/Resources/bin/R CMD build --keep-empty-dirs --no-resave-data interacCircos StartedAt: 2025-11-03 17:28:13 -0500 (Mon, 03 Nov 2025) EndedAt: 2025-11-03 17:28:24 -0500 (Mon, 03 Nov 2025) EllapsedTime: 11.5 seconds RetCode: 0 Status: OK PackageFile: interacCircos_1.20.0.tar.gz PackageFileSize: 710.3 KiB