Package: interacCircos Version: 1.19.0 Command: /Library/Frameworks/R.framework/Resources/bin/R CMD INSTALL interacCircos StartedAt: 2025-10-24 15:06:44 -0400 (Fri, 24 Oct 2025) EndedAt: 2025-10-24 15:07:03 -0400 (Fri, 24 Oct 2025) EllapsedTime: 19.0 seconds RetCode: 0 Status: OK