Package: interacCircos Version: 1.19.0 Command: /Library/Frameworks/R.framework/Resources/bin/R CMD build --keep-empty-dirs --no-resave-data interacCircos StartedAt: 2025-10-24 16:48:53 -0400 (Fri, 24 Oct 2025) EndedAt: 2025-10-24 16:48:57 -0400 (Fri, 24 Oct 2025) EllapsedTime: 4.0 seconds RetCode: 0 Status: OK PackageFile: interacCircos_1.19.0.tar.gz PackageFileSize: 710.1 KiB