Package: interacCircos Version: 1.19.0 Command: rm -rf interacCircos.buildbin-libdir && mkdir interacCircos.buildbin-libdir && /Users/biocbuild/BBS/utils/build-universal.sh interacCircos_1.19.0.tar.gz /Library/Frameworks/R.framework/Resources/bin/R interacCircos.buildbin-libdir StartedAt: 2025-10-24 23:06:50 -0400 (Fri, 24 Oct 2025) EndedAt: 2025-10-24 23:06:52 -0400 (Fri, 24 Oct 2025) EllapsedTime: 2.1 seconds RetCode: 0 Status: OK PackageFile: interacCircos_1.19.0.tgz PackageFileSize: 846.5 KiB