Package: intansv Version: 1.49.0 Command: /home/biocbuild/bbs-3.22-bioc/R/bin/R CMD build --keep-empty-dirs --no-resave-data --md5 intansv StartedAt: 2025-10-27 18:15:01 -0400 (Mon, 27 Oct 2025) EndedAt: 2025-10-27 18:16:31 -0400 (Mon, 27 Oct 2025) EllapsedTime: 90.0 seconds RetCode: 0 Status: OK PackageFile: intansv_1.49.0.tar.gz PackageFileSize: 615.8 KiB