Package: infinityFlow Version: 1.19.0 Command: /home/biocbuild/bbs-3.22-bioc/R/bin/R CMD INSTALL infinityFlow StartedAt: 2025-10-24 15:24:59 -0400 (Fri, 24 Oct 2025) EndedAt: 2025-10-24 15:25:22 -0400 (Fri, 24 Oct 2025) EllapsedTime: 23.0 seconds RetCode: 0 Status: OK