Package: infinityFlow Version: 1.20.0 Command: /Library/Frameworks/R.framework/Resources/bin/R CMD INSTALL infinityFlow StartedAt: 2025-11-03 15:20:35 -0500 (Mon, 03 Nov 2025) EndedAt: 2025-11-03 15:21:10 -0500 (Mon, 03 Nov 2025) EllapsedTime: 34.8 seconds RetCode: 0 Status: OK