Package: infinityFlow Version: 1.20.0 Command: rm -rf infinityFlow.buildbin-libdir && mkdir infinityFlow.buildbin-libdir && /Users/biocbuild/BBS/utils/build-universal.sh infinityFlow_1.20.0.tar.gz /Library/Frameworks/R.framework/Resources/bin/R infinityFlow.buildbin-libdir StartedAt: 2025-11-04 01:45:46 -0500 (Tue, 04 Nov 2025) EndedAt: 2025-11-04 01:46:21 -0500 (Tue, 04 Nov 2025) EllapsedTime: 34.8 seconds RetCode: 0 Status: OK PackageFile: infinityFlow_1.20.0.tgz PackageFileSize: 1.774 MiB