Switch to long report

Multiple platform build/check report for BioC 3.22

This page was generated on 2025-10-24 12:08 -0400 (Fri, 24 Oct 2025).

Approx. Package Snapshot Date/Time (git pull): 2025-10-23 14:17 -0400 (Thu, 23 Oct 2025)
See this page for all the Bioconductor builds and their schedule.

Package status is indicated by one of the following glyphs
  TIMEOUT  
INSTALL, BUILD, CHECK or BUILD BIN of package took more than 40 minutes
  ERROR  
Bad DESCRIPTION file, or INSTALL, BUILD or BUILD BIN of package failed, or CHECK produced errors
  WARNINGS  
CHECK of package produced warnings
  OK  
INSTALL, BUILD, CHECK and BUILD BIN of package went OK
  NA  
INSTALL, BUILD, CHECK or BUILD BIN result is not available because of an anomaly in the Build System
Click on any glyph in the report below to access the detailed report.
A
ABCDEFGHIJKLMNOPQRSTUVWXYZ
PackageMaintainerINSTALL/BUILD/CHECK
1/2359a4 1.57.0  (landing page)Laure Cougnaud  OK  
2/2359a4Base 1.57.0  (landing page)Laure Cougnaud  OK  
3/2359a4Classif 1.57.0  (landing page)Laure Cougnaud  OK  
4/2359a4Core 1.57.0  (landing page)Laure Cougnaud  OK  
5/2359a4Preproc 1.57.0  (landing page)Laure Cougnaud  OK  
6/2359a4Reporting 1.57.0  (landing page)Laure Cougnaud  OK  
7/2359ABarray 1.77.0  (landing page)Yongming Andrew Sun  OK  
8/2359abseqR 1.27.0  (landing page)JiaHong Fong  OK  
9/2359ABSSeq 1.63.0  (landing page)Wentao Yang  OK  
10/2359acde 1.39.0  (landing page)Juan Pablo Acosta  OK  
11/2359ACE 1.27.1  (landing page)Jos B Poell  OK  
12/2359aCGH 1.87.0  (landing page)Peter Dimitrov  OK  
13/2359ACME 2.65.0  (landing page)Sean Davis  ERROR  
14/2359ADaCGH2 2.49.0  (landing page)Ramon Diaz-Uriarte  OK  
15/2359ADAM 1.25.0  (landing page)Jose Luiz Rybarczyk Filho  OK  
16/2359ADAMgui 1.25.0  (landing page)Jose Luiz Rybarczyk Filho  OK  
17/2359ADAPT 1.3.0  (landing page)Mukai Wang  ERROR  
18/2359adductomicsR 1.25.0  (landing page)Josie Hayes  ERROR  
19/2359ADImpute 1.19.0  (landing page)Ana Carolina Leote  WARNINGS  
20/2359adSplit 1.79.0  (landing page)Claudio Lottaz  OK  
21/2359adverSCarial 1.7.1  (landing page)Ghislain FIEVET  WARNINGS  
22/2359AffiXcan 1.27.0  (landing page)Alessandro Lussana  OK  
23/2359affxparser 1.81.0  (landing page)Kasper Daniel Hansen  ERROR  
24/2359affy 1.87.0  (landing page)Robert D. Shear  WARNINGS  
25/2359affycomp 1.85.0  (landing page)Robert D. Shear  OK  
26/2359affyContam 1.67.0  (landing page)V. Carey  OK  
27/2359affycoretools 1.81.1  (landing page)James W. MacDonald  OK  
28/2359affyILM 1.61.0  (landing page)Myriam Kroll and Fabrice Berger  OK  
29/2359affyio 1.79.0  (landing page)Ben Bolstad  WARNINGS  
30/2359affylmGUI 1.83.0  (landing page)Gordon Smyth  OK  
31/2359affyPLM 1.85.0  (landing page)Ben Bolstad  WARNINGS  
32/2359AffyRNADegradation 1.55.0  (landing page)Mario Fasold  OK  
33/2359AGDEX 1.57.0  (landing page)Cuilan lani Gao  OK  
34/2359aggregateBioVar 1.19.1  (landing page)Jason Ratcliff  OK  
35/2359agilp 3.41.0  (landing page)Benny Chain  OK  
36/2359AgiMicroRna 2.59.0  (landing page)Pedro Lopez-Romero  WARNINGS  
37/2359AHMassBank 1.9.0  (landing page)Johannes Rainer  OK  
38/2359AIMS 1.41.0  (landing page)Eric R Paquet  OK  
39/2359airpart 1.17.0  (landing page)Wancen Mu  OK  
40/2359alabaster 1.9.0  (landing page)Aaron Lun  OK  
41/2359alabaster.base 1.9.5  (landing page)Aaron Lun  WARNINGS  
42/2359alabaster.bumpy 1.9.1  (landing page)Aaron Lun  OK  
43/2359alabaster.files 1.7.0  (landing page)Aaron Lun  OK  
44/2359alabaster.mae 1.9.0  (landing page)Aaron Lun  OK  
45/2359alabaster.matrix 1.9.0  (landing page)Aaron Lun  OK  
46/2359alabaster.ranges 1.9.1  (landing page)Aaron Lun  OK  
47/2359alabaster.sce 1.9.0  (landing page)Aaron Lun  OK  
48/2359alabaster.schemas 1.9.0  (landing page)Aaron Lun  OK  
49/2359alabaster.se 1.9.0  (landing page)Aaron Lun  OK  
50/2359alabaster.sfe 1.1.0  (landing page)Lambda Moses  ERROR  
51/2359alabaster.spatial 1.9.0  (landing page)Aaron Lun  OK  
52/2359alabaster.string 1.9.0  (landing page)Aaron Lun  OK  
53/2359alabaster.vcf 1.9.0  (landing page)Aaron Lun  OK  
54/2359ALDEx2 1.41.0  (landing page)Greg Gloor  OK  
55/2359alevinQC 1.25.1  (landing page)Charlotte Soneson  OK  
56/2359AllelicImbalance 1.47.0  (landing page)Jesper R Gadin  OK  
57/2359AlphaBeta 1.23.0  (landing page)Yadollah Shahryary Dizaji  OK  
58/2359AlphaMissenseR 1.5.4  (landing page)Martin Morgan  ERROR  
59/2359AlpsNMR 4.11.1  (landing page)Sergio Oller Moreno  ERROR  
60/2359altcdfenvs 2.71.0  (landing page)Laurent Gautier  OK  
61/2359AMARETTO 1.25.0  (landing page)Olivier Gevaert  WARNINGS  
62/2359AMOUNTAIN 1.35.0  (landing page)Dong Li  OK  
63/2359amplican 1.31.2  (landing page)Eivind Valen  ERROR  
64/2359anansi 0.99.4  (landing page)Thomaz Bastiaanssen  OK  
65/2359Anaquin 2.33.0  (landing page)Ted Wong  OK  
66/2359ANCOMBC 2.11.1  (landing page)Huang Lin  OK  
67/2359ANF 1.31.0  (landing page)Tianle Ma  OK  
68/2359anglemania 0.99.7  (landing page)Aaron Kollotzek  ERROR  
69/2359animalcules 1.25.0  (landing page)Jessica McClintock  OK  
70/2359annaffy 1.81.0  (landing page)Colin A. Smith  WARNINGS  
71/2359anndataR 0.99.6  (landing page)Robrecht Cannoodt  ERROR  
72/2359annmap 1.51.0  (landing page)Chris Wirth  WARNINGS  
73/2359annotate 1.87.0  (landing page)Bioconductor Package Maintainer  OK  
74/2359AnnotationDbi 1.71.2  (landing page)Bioconductor Package Maintainer  OK  
75/2359AnnotationFilter 1.33.0  (landing page)Bioconductor Package Maintainer  OK  
76/2359AnnotationForge 1.51.1  (landing page)Bioconductor Package Maintainer  OK  
77/2359AnnotationHub 3.99.6  (landing page)Bioconductor Package Maintainer  ERROR  
78/2359AnnotationHubData 1.39.2  (landing page)Bioconductor Package Maintainer  WARNINGS  
79/2359annotationTools 1.83.0  (landing page)Alexandre Kuhn  OK  
80/2359annotatr 1.35.2  (landing page)Raymond G. Cavalcante  OK  
81/2359anota 1.57.0  (landing page)Ola Larsson  OK  
82/2359anota2seq 1.31.0  (landing page)Christian Oertlin , Ola Larsson  WARNINGS  
83/2359antiProfiles 1.49.0  (landing page)Hector Corrada Bravo  OK  
84/2359AnVIL 1.21.10  (landing page)Marcel Ramos  OK  
85/2359AnVILAz 1.3.1  (landing page)Marcel Ramos  OK  
86/2359AnVILBase 1.3.1  (landing page)Marcel Ramos  OK  
87/2359AnVILBilling 1.19.0  (landing page)Vince Carey  OK  
88/2359AnVILGCP 1.3.11  (landing page)Marcel Ramos  OK  
89/2359AnVILPublish 1.19.1  (landing page)Marcel Ramos  OK  
90/2359AnVILWorkflow 1.9.0  (landing page)Sehyun Oh  WARNINGS  
91/2359APAlyzer 1.23.0  (landing page)Ruijia Wang  ERROR  
92/2359apComplex 2.75.0  (landing page)Denise Scholtens  OK  
93/2359apeglm 1.31.0  (landing page)Anqi Zhu  WARNINGS  
94/2359APL 1.13.0  (landing page)Clemens Kohl  OK  
95/2359appreci8R 1.27.0  (landing page)Sarah Sandmann  OK  
96/2359aroma.light 3.39.0  (landing page)Henrik Bengtsson  OK  
97/2359ArrayExpress 1.69.0  (landing page)Jose Marugan  TIMEOUT  
98/2359arrayMvout 1.67.0  (landing page)V. Carey  OK  
99/2359arrayQuality 1.87.0  (landing page)Agnes Paquet  WARNINGS  
100/2359arrayQualityMetrics 3.65.0  (landing page)Mike Smith  OK  
101/2359ARRmNormalization 1.49.0  (landing page)Jean-Philippe Fortin  OK  
102/2359artMS 1.27.0  (landing page)David Jimenez-Morales  OK  
103/2359ASAFE 1.35.0  (landing page)Qian Zhang  OK  
104/2359ASEB 1.53.0  (landing page)Likun Wang  WARNINGS  
105/2359ASGSCA 1.43.0  (landing page)Hela Romdhani  OK  
106/2359ASICS 2.25.0  (landing page)Gaëlle Lefort  WARNINGS  
107/2359ASpli 2.19.0  (landing page)Ariel Chernomoretz  WARNINGS  
108/2359AssessORF 1.27.0  (landing page)Deepank Korandla  OK  
109/2359ASSET 2.27.0  (landing page)Samsiddhi Bhattacharjee  OK  
110/2359ASSIGN 1.45.0  (landing page)Ying Shen , W. Evan Johnson  OK  
111/2359assorthead 1.3.13  (landing page)Aaron Lun  OK  
112/2359ASURAT 1.13.1  (landing page)Keita Iida  ERROR  
113/2359ATACseqQC 1.33.1  (landing page)Jianhong Ou  ERROR  
114/2359ATACseqTFEA 1.11.1  (landing page)Jianhong Ou  OK  
115/2359atena 1.15.2  (landing page)Robert Castelo  ERROR  
116/2359atSNP 1.25.0  (landing page)Sunyoung Shin  OK  
117/2359attract 1.61.0  (landing page)Samuel Zimmerman  OK  
118/2359AUCell 1.31.0  (landing page)Gert Hulselmans  OK  
119/2359autonomics 1.17.16  (landing page)Aditya Bhagwat  OK  
120/2359AWAggregator 0.99.4  (landing page)Jiahua Tan  OK  
121/2359AWFisher 1.23.0  (landing page)Zhiguang Huo  OK  
122/2359awst 1.17.0  (landing page)Davide Risso  OK  
B
ABCDEFGHIJKLMNOPQRSTUVWXYZ
PackageMaintainerINSTALL/BUILD/CHECK
123/2359BaalChIP 1.35.0  (landing page)Ines de Santiago  WARNINGS  
124/2359bacon 1.37.0  (landing page)Maarten van Iterson  OK  
125/2359BADER 1.47.0  (landing page)Andreas Neudecker  OK  
126/2359BadRegionFinder 1.37.0  (landing page)Sarah Sandmann  OK  
127/2359BAGS 2.49.0  (landing page)Alejandro Quiroz-Zarate  OK  
128/2359ballgown 2.41.1  (landing page)Jack Fu  OK  
129/2359bambu 3.11.2  (landing page)Ying Chen  OK  
130/2359bamsignals 1.41.2  (landing page)Johannes Helmuth  OK  
131/2359BANDITS 1.25.1  (landing page)Simone Tiberi  TIMEOUT  
132/2359bandle 1.13.0  (landing page)Oliver M. Crook  WARNINGS  
133/2359Banksy 1.5.10  (landing page)Joseph Lee  OK  
134/2359banocc 1.33.0  (landing page)George Weingart  ERROR  
135/2359barbieQ 1.1.2  (landing page)Liyang Fei  OK  
136/2359barcodetrackR 1.17.0  (landing page)Diego Alexander Espinoza  ERROR  
137/2359basecallQC 1.33.0  (landing page)Thomas Carroll  OK  
138/2359BaseSpaceR 1.53.0  (landing page)Jared O'Connell  WARNINGS  
139/2359Basic4Cseq 1.45.1  (landing page)Carolin Walter  OK  
140/2359BASiCS 2.21.1  (landing page)Catalina Vallejos  WARNINGS  
141/2359BASiCStan 1.11.0  (landing page)Alan O'Callaghan  WARNINGS  
142/2359BasicSTARRseq 1.37.1  (landing page)Annika Buerger  OK  
143/2359basilisk 1.21.5  (landing page)Aaron Lun  OK  
144/2359basilisk.utils 1.21.2  (landing page)Aaron Lun  OK  
145/2359batchCorr 0.99.8  (landing page)Anton Ribbenstedt  OK  
146/2359batchelor 1.25.0  (landing page)Aaron Lun  OK  
147/2359BatchQC 2.5.14  (landing page)Jessica Anderson  OK  
148/2359BatchSVG 1.1.1  (landing page)Kinnary Shah  OK  
149/2359BayesKnockdown 1.35.0  (landing page)William Chad Young  OK  
150/2359BayesSpace 1.19.5  (landing page)Senbai Kang  OK  
151/2359bayNorm 1.27.0  (landing page)Wenhao Tang  OK  
152/2359baySeq 2.43.0  (landing page)Samuel Granjeaud  OK  
153/2359BBCAnalyzer 1.39.0  (landing page)Sarah Sandmann  OK  
154/2359BCRANK 1.71.0  (landing page)Adam Ameur  OK  
155/2359bcSeq 1.31.0  (landing page)Jiaxing Lin  ERROR  
156/2359beachmat 2.25.5  (landing page)Aaron Lun  OK  
157/2359beachmat.hdf5 1.7.2  (landing page)Aaron Lun  WARNINGS  
158/2359beachmat.tiledb 1.1.1  (landing page)Aaron Lun  ERROR  
159/2359beadarray 2.59.0  (landing page)Mark Dunning  ERROR  
160/2359BeadDataPackR 1.61.0  (landing page)Mike Smith  OK  
161/2359BEAT 1.47.0  (landing page)Kemal Akman  OK  
162/2359BEclear 2.25.0  (landing page)Livia Rasp  OK  
163/2359bedbaser 1.1.3  (landing page)Andres Wokaty  ERROR  
164/2359beer 1.13.0  (landing page)Athena Chen  ERROR  
165/2359benchdamic 1.15.4  (landing page)Matteo Calgaro  TIMEOUT  
166/2359BERT 1.5.0  (landing page)Yannis Schumann  OK  
167/2359betaHMM 1.5.1  (landing page)Koyel Majumdar  TIMEOUT  
168/2359bettr 1.5.4  (landing page)Charlotte Soneson  OK  
169/2359BG2 1.9.0  (landing page)Jacob Williams  OK  
170/2359BgeeCall 1.25.1  (landing page)Julien Wollbrett  ERROR  
171/2359BgeeDB 2.35.1  (landing page)Julien Wollbrett , Julien Roux , Andrea Komljenovic , Frederic Bastian  TIMEOUT  
172/2359bgx 1.75.1  (landing page)Ernest Turro  ERROR  
173/2359BicARE 1.67.0  (landing page)Pierre Gestraud  OK  
174/2359BiFET 1.29.1  (landing page)Ahrim Youn  OK  
175/2359BiGGR 1.45.1  (landing page)Anand K. Gavai  ERROR  
176/2359bigmelon 1.35.0  (landing page)Leonard C. Schalkwyk  TIMEOUT  
177/2359BindingSiteFinder 2.7.1  (landing page)Mirko Brüggemann  TIMEOUT  
178/2359bioassayR 1.47.0  (landing page)Thomas Girke  ERROR  
179/2359Biobase 2.69.1  (landing page)Bioconductor Package Maintainer  OK  
180/2359biobroom 1.41.0  (landing page)John D. Storey and Andrew J. Bass  WARNINGS  
181/2359biobtreeR 1.21.0  (landing page)Tamer Gur  ERROR  
182/2359Bioc.gff 0.99.17  (landing page)Bioconductor Package Maintainer  OK  
183/2359bioCancer 1.37.0  (landing page)Karim Mezhoud  TIMEOUT  
184/2359BioCartaImage 1.7.0  (landing page)Zuguang Gu  OK  
185/2359BiocBaseUtils 1.11.2  (landing page)Marcel Ramos  OK  
186/2359BiocBook 1.7.0  (landing page)Jacques Serizay  OK  
187/2359BiocCheck 1.45.20  (landing page)Marcel Ramos  ERROR  
188/2359BiocFHIR 1.11.0  (landing page)Vincent Carey  OK  
189/2359BiocFileCache 2.99.6  (landing page)Lori Shepherd  ERROR  
190/2359BiocGenerics 0.55.4  (landing page)Hervé Pagès  WARNINGS  
191/2359biocGraph 1.71.0  (landing page)Florian Hahne  OK  
192/2359BiocHail 1.9.4  (landing page)Vincent Carey  TIMEOUT  
193/2359BiocHubsShiny 1.9.2  (landing page)Marcel Ramos  OK  
194/2359BiocIO 1.19.0  (landing page)Marcel Ramos  OK  
195/2359biocmake 1.1.4  (landing page)Aaron Lun  OK  
196/2359BiocNeighbors 2.3.1  (landing page)Aaron Lun  OK  
197/2359BioCor 1.33.3  (landing page)Lluís Revilla Sancho  TIMEOUT  
198/2359BiocParallel 1.43.4  (landing page)Jiefei Wang  TIMEOUT  
199/2359BiocPkgTools 1.27.14  (landing page)Sean Davis  ERROR  
200/2359biocroxytest 1.5.0  (landing page)Francesc Catala-Moll  OK  
201/2359BiocSet 1.23.0  (landing page)Kayla Morrell  TIMEOUT  
202/2359BiocSingular 1.25.0  (landing page)Aaron Lun  ERROR  
203/2359BiocSklearn 1.31.0  (landing page)Vince Carey  TIMEOUT  
204/2359BiocStyle 2.37.1  (landing page)Bioconductor Package Maintainer  OK  
205/2359biocthis 1.19.0  (landing page)Leonardo Collado-Torres  OK  
206/2359BiocVersion 3.22.0  (landing page)Bioconductor Package Maintainer  OK  
207/2359biocViews 1.77.4  (landing page)Bioconductor Package Maintainer  TIMEOUT  
208/2359BiocWorkflowTools 1.35.0  (landing page)Mike Smith  TIMEOUT  
209/2359biodb 1.17.2  (landing page)Pierrick Roger  ERROR  
210/2359biodbChebi 1.15.1  (landing page)Pierrick Roger  ERROR  
211/2359biodbHmdb 1.15.1  (landing page)Pierrick Roger  ERROR  
212/2359biodbNcbi 1.13.1  (landing page)Pierrick Roger  ERROR  
213/2359biodbNci 1.13.1  (landing page)Pierrick Roger  ERROR  
214/2359biodbUniprot 1.15.1  (landing page)Pierrick Roger  ERROR  
215/2359bioDist 1.81.0  (landing page)Bioconductor Package Maintainer  TIMEOUT  
216/2359BioGA 1.3.0  (landing page)Dany Mukesha  TIMEOUT  
217/2359biomaRt 2.65.16  (landing page)Hugo Gruson  TIMEOUT  
218/2359biomformat 1.37.0  (landing page)Paul J. McMurdie  TIMEOUT  
219/2359BioMVCClass 1.77.0  (landing page)Elizabeth Whalen  TIMEOUT  
220/2359biomvRCNS 1.49.0  (landing page)Yang Du  ERROR  
221/2359BioNAR 1.11.0  (landing page)Anatoly Sorokin  ERROR  
222/2359BioNERO 1.17.3  (landing page)Fabricio Almeida-Silva  TIMEOUT  
223/2359BioNet 1.69.0  (landing page)Marcus Dittrich  TIMEOUT  
224/2359BioQC 1.37.0  (landing page)Jitao David Zhang  OK  
225/2359biosigner 1.37.4  (landing page)Etienne A. Thevenot  ERROR  
226/2359Biostrings 2.77.2  (landing page)Hervé Pagès  WARNINGS  
227/2359BioTIP 1.23.1  (landing page)Felix Yu and X Holly Yang  WARNINGS  
228/2359biotmle 1.33.0  (landing page)Nima Hejazi  OK  
229/2359biovizBase 1.57.1  (landing page)Michael Lawrence  WARNINGS  
230/2359BiRewire 3.41.0  (landing page)Andrea Gobbi  ERROR  
231/2359biscuiteer 1.23.0  (landing page)Jacob Morrison  WARNINGS  
232/2359BiSeq 1.49.1  (landing page)Katja Hebestreit  OK  
233/2359blacksheepr 1.23.0  (landing page)RugglesLab  OK  
234/2359blase 0.99.5  (landing page)Andrew McCluskey  OK  
235/2359blima 1.43.0  (landing page)Vojtěch Kulvait  OK  
236/2359BLMA 1.33.0  (landing page)Van-Dung Pham  OK  
237/2359BloodGen3Module 1.17.0  (landing page)Darawan Rinchai  WARNINGS  
238/2359bluster 1.19.1  (landing page)Aaron Lun  ERROR  
239/2359bnbc 1.31.1  (landing page)Kipper Fletez-Brant  OK  
240/2359bnem 1.17.0  (landing page)Martin Pirkl  OK  
241/2359BOBaFIT 1.13.0  (landing page)Gaia Mazzocchetti  WARNINGS  
242/2359borealis 1.13.0  (landing page)Garrett Jenkinson  OK  
243/2359BPRMeth 1.35.0  (landing page)Chantriolnt-Andreas Kapourani  ERROR  
244/2359BRAIN 1.55.0  (landing page)Piotr Dittwald  WARNINGS  
245/2359branchpointer 1.35.1  (landing page)Beth Signal  ERROR  
246/2359breakpointR 1.27.0  (landing page)David Porubsky  OK  
247/2359BreastSubtypeR 1.1.8  (landing page)Qiao Yang  OK  
248/2359brendaDb 1.23.0  (landing page)Yi Zhou  OK  
249/2359BREW3R.r 1.5.0  (landing page)Lucille Lopez-Delisle  OK  
250/2359BridgeDbR 2.19.3  (landing page)Egon Willighagen  OK  
251/2359broadSeq 1.3.3  (landing page)Rishi Das Roy  WARNINGS  
252/2359BrowserViz 2.31.0  (landing page)Arkadiusz Gladki  OK  
253/2359BSgenome 1.77.2  (landing page)Hervé Pagès  ERROR  
254/2359BSgenomeForge 1.9.2  (landing page)Hervé Pagès  OK  
255/2359bsseq 1.45.4  (landing page)Kasper Daniel Hansen  OK  
256/2359BubbleTree 2.39.0  (landing page)Todd Creasy , Wei Zhu  ERROR  
257/2359BufferedMatrix 1.73.0  (landing page)Ben Bolstad  WARNINGS  
258/2359BufferedMatrixMethods 1.73.0  (landing page)Ben Bolstad  OK  
259/2359bugsigdbr 1.15.3  (landing page)Ludwig Geistlinger  OK  
260/2359BulkSignalR 1.1.5  (landing page)Jean-Philippe Villemin  ERROR  
261/2359BUMHMM 1.33.0  (landing page)Alina Selega  OK  
262/2359bumphunter 1.51.1  (landing page)Tamilselvi Guharaj  OK  
263/2359BumpyMatrix 1.17.0  (landing page)Aaron Lun  OK  
264/2359BUS 1.65.0  (landing page)Yuanhua Liu  OK  
265/2359BUScorrect 1.27.0  (landing page)Xiangyu Luo  OK  
266/2359BUSpaRse 1.23.2  (landing page)Lambda Moses  OK  
267/2359BUSseq 1.15.1  (landing page)Fangda Song  OK  
C
ABCDEFGHIJKLMNOPQRSTUVWXYZ
PackageMaintainerINSTALL/BUILD/CHECK
268/2359CaDrA 1.7.0  (landing page)Reina Chau  OK  
269/2359CAEN 1.17.0  (landing page)Zhou Yan  OK  
270/2359CAFE 1.45.0  (landing page)Sander Bollen  WARNINGS  
271/2359CAGEfightR 1.29.1  (landing page)Malte Thodberg  OK  
272/2359cageminer 1.15.2  (landing page)Fabrício Almeida-Silva  OK  
273/2359CAGEr 2.15.2  (landing page)Charles Plessy  OK  
274/2359CalibraCurve 0.99.2  (landing page)Karin Schork  OK  
275/2359calm 1.23.0  (landing page)Kun Liang  OK  
276/2359CAMERA 1.65.1  (landing page)Steffen Neumann  ERROR  
277/2359CaMutQC 1.5.6  (landing page)Xin Wang  OK  
278/2359canceR 1.43.0  (landing page)Karim Mezhoud  ERROR  
279/2359cancerclass 1.53.0  (landing page)Daniel Kosztyla  WARNINGS  
280/2359cardelino 1.11.0  (landing page)Davis McCarthy  OK  
281/2359Cardinal 3.11.1  (landing page)Kylie Ariel Bemis  OK  
282/2359CardinalIO 1.7.0  (landing page)Kylie Ariel Bemis  OK  
283/2359CARDspa 1.1.0  (landing page)Jing Fu  OK  
284/2359CARNIVAL 2.19.0  (landing page)Attila Gabor  OK  
285/2359casper 2.43.1  (landing page)David Rossell  ERROR  
286/2359CATALYST 1.33.1  (landing page)Helena L. Crowell  OK  
287/2359Category 2.75.0  (landing page)Bioconductor Package Maintainer  OK  
288/2359categoryCompare 1.53.0  (landing page)Robert M. Flight  OK  
289/2359CatsCradle 1.3.1  (landing page)Michael Shapiro  NA  
290/2359CausalR 1.41.0  (landing page)Glyn Bradley , Steven Barrett  OK  
291/2359cbaf 1.31.0  (landing page)Arman Shahrisa  OK  
292/2359cBioPortalData 2.21.5  (landing page)Marcel Ramos  ERROR  
293/2359CBN2Path 0.99.17  (landing page)William Choi-Kim  WARNINGS  
294/2359CBNplot 1.9.0  (landing page)Noriaki Sato  OK  
295/2359cbpManager 1.17.0  (landing page)Arsenij Ustjanzew  WARNINGS  
296/2359CCAFE 1.1.0  (landing page)Hayley Wolff  OK  
297/2359ccfindR 1.29.0  (landing page)Jun Woo  ERROR  
298/2359ccImpute 1.11.0  (landing page)Marcin Malec  WARNINGS  
299/2359ccmap 1.35.1  (landing page)Alex Pickering  ERROR  
300/2359CCPlotR 1.7.0  (landing page)Sarah Ennis  OK  
301/2359CCPROMISE 1.35.0  (landing page)Xueyuan Cao  WARNINGS  
302/2359ccrepe 1.45.0  (landing page)Emma Schwager ,Craig Bielski, George Weingart  OK  
303/2359CDI 1.7.0  (landing page)Jiyuan Fang  OK  
304/2359celaref 1.27.0  (landing page)Sarah Williams  OK  
305/2359celda 1.25.0  (landing page)Joshua Campbell  WARNINGS  
306/2359CellBarcode 1.15.0  (landing page)Wenjie Sun  OK  
307/2359cellbaseR 1.33.0  (landing page)Mohammed OE Abdallah  OK  
308/2359CellBench 1.25.1  (landing page)Shian Su  OK  
309/2359CelliD 1.17.0  (landing page)Akira Cortal  WARNINGS  
310/2359cellity 1.37.0  (landing page)Tomislav Ilicic  OK  
311/2359CellMapper 1.35.0  (landing page)Brad Nelms  WARNINGS  
312/2359cellmig 0.99.16  (landing page)Simo Kitanovski  WARNINGS  
313/2359cellmigRation 1.17.0  (landing page)Waldir Leoncio  OK  
314/2359CellMixS 1.25.1  (landing page)Almut Lütge  OK  
315/2359CellNOptR 1.55.0  (landing page)Attila Gabor  OK  
316/2359cellscape 1.33.0  (landing page)Shixiang Wang  OK  
317/2359CellScore 1.29.1  (landing page)Nancy Mah  ERROR  
318/2359CellTrails 1.27.1  (landing page)Daniel Ellwanger  OK  
319/2359cellxgenedp 1.13.1  (landing page)Martin Morgan  OK  
320/2359CEMiTool 1.33.2  (landing page)Helder Nakaya  OK  
321/2359censcyt 1.17.0  (landing page)Reto Gerber  OK  
322/2359Cepo 1.15.1  (landing page)Hani Jieun Kim  OK  
323/2359ceRNAnetsim 1.21.1  (landing page)Selcen Ari Yuka  OK  
324/2359CeTF 1.21.0  (landing page)Carlos Alberto Oliveira de Biagi Junior  OK  
325/2359CexoR 1.47.1  (landing page)Pedro Madrigal  OK  
326/2359CFAssay 1.43.0  (landing page)Herbert Braselmann  OK  
327/2359cfdnakit 1.7.0  (landing page)Pitithat Puranachot  OK  
328/2359cfDNAPro 1.15.0  (landing page)Haichao Wang  WARNINGS  
329/2359cfTools 1.9.0  (landing page)Ran Hu  ERROR  
330/2359CGEN 3.45.0  (landing page)Justin Lee  ERROR  
331/2359CGHbase 1.69.0  (landing page)Mark van de Wiel  OK  
332/2359CGHcall 2.71.0  (landing page)Mark van de Wiel  WARNINGS  
333/2359cghMCR 1.67.0  (landing page)J. Zhang  WARNINGS  
334/2359CGHnormaliter 1.63.0  (landing page)Bart P.P. van Houte  OK  
335/2359CGHregions 1.67.0  (landing page)Sjoerd Vosse  OK  
336/2359ChAMP 2.39.1  (landing page)Yuan Tian  WARNINGS  
337/2359ChemmineOB 1.47.5  (landing page)Thomas Girke  ERROR  
338/2359ChemmineR 3.61.2  (landing page)Thomas Girke  WARNINGS  
339/2359CHETAH 1.25.1  (landing page)Jurrian de Kanter  OK  
340/2359chevreulPlot 1.1.2  (landing page)Kevin Stachelek  OK  
341/2359chevreulProcess 1.1.2  (landing page)Kevin Stachelek  OK  
342/2359chevreulShiny 1.1.2  (landing page)Kevin Stachelek  OK  
343/2359Chicago 1.37.1  (landing page)Mikhail Spivakov  OK  
344/2359chihaya 1.9.0  (landing page)Aaron Lun  WARNINGS  
345/2359chimeraviz 1.35.0  (landing page)Stian Lågstad  OK  
346/2359ChIPanalyser 1.31.0  (landing page)Patrick C.N. Martin  OK  
347/2359ChIPComp 1.39.1  (landing page)Li Chen  OK  
348/2359chipenrich 2.33.1  (landing page)Kai Wang  OK  
349/2359ChIPexoQual 1.33.1  (landing page)Rene Welch  OK  
350/2359ChIPpeakAnno 3.43.2  (landing page)Jianhong Ou  OK  
351/2359ChIPQC 1.45.0  (landing page)Tom Carroll , Rory Stark  ERROR  
352/2359ChIPseeker 1.45.3  (landing page)Guangchuang Yu  ERROR  
353/2359chipseq 1.59.0  (landing page)Bioconductor Package Maintainer  WARNINGS  
354/2359ChIPseqR 1.63.0  (landing page)Peter Humburg  WARNINGS  
355/2359ChIPsim 1.63.0  (landing page)Peter Humburg  OK  
356/2359ChIPXpress 1.53.0  (landing page)George Wu  OK  
357/2359chopsticks 1.75.0  (landing page)Hin-Tak Leung  ERROR  
358/2359Chromatograms 0.99.7  (landing page)Philippine Louail  OK  
359/2359chromDraw 2.39.0  (landing page)Jan Janecka  WARNINGS  
360/2359ChromHeatMap 1.63.0  (landing page)Tim F. Rayner  OK  
361/2359chromPlot 1.37.0  (landing page)Karen Y. Orostica  OK  
362/2359ChromSCape 1.19.1  (landing page)Pacome Prompsy  WARNINGS  
363/2359chromVAR 1.31.1  (landing page)Alicia Schep  OK  
364/2359CHRONOS 1.37.0  (landing page)Panos Balomenos  ERROR  
365/2359cicero 1.27.0  (landing page)Hannah Pliner  OK  
366/2359CIMICE 1.17.0  (landing page)Nicolò Rossi  OK  
367/2359CINdex 1.37.2  (landing page)Yuriy Gusev  ERROR  
368/2359circRNAprofiler 1.23.1  (landing page)Simona Aufiero  ERROR  
369/2359CircSeqAlignTk 1.11.2  (landing page)Jianqiang Sun  OK  
370/2359cisPath 1.49.1  (landing page)Likun Wang  ERROR  
371/2359CiteFuse 1.21.1  (landing page)Yingxin Lin  OK  
372/2359ClassifyR 3.13.8  (landing page)Dario Strbenac  WARNINGS  
373/2359cleanUpdTSeq 1.47.1  (landing page)Jianhong Ou ; Lihua Julie Zhu  OK  
374/2359CleanUpRNAseq 1.3.2  (landing page)Haibo Liu  OK  
375/2359cleaver 1.47.1  (landing page)Sebastian Gibb  OK  
376/2359clevRvis 1.9.0  (landing page)Sarah Sandmann  OK  
377/2359clippda 1.59.0  (landing page)Stephen Nyangoma  OK  
378/2359clipper 1.49.0  (landing page)Paolo Martini  OK  
379/2359cliProfiler 1.15.0  (landing page)You Zhou  ERROR  
380/2359cliqueMS 1.23.0  (landing page)Oriol Senan Campos  WARNINGS  
381/2359Clomial 1.45.0  (landing page)Habil Zare  OK  
382/2359clst 1.57.0  (landing page)Noah Hoffman  WARNINGS  
383/2359clstutils 1.57.0  (landing page)Noah Hoffman  WARNINGS  
384/2359CluMSID 1.25.0  (landing page)Tobias Depke  ERROR  
385/2359ClustAll 1.5.0  (landing page)Asier Ortega-Legarreta  OK  
386/2359clustComp 1.37.0  (landing page)Aurora Torrente  OK  
387/2359clusterExperiment 2.29.1  (landing page)Elizabeth Purdom  WARNINGS  
388/2359ClusterFoldSimilarity 1.5.0  (landing page)Oscar Gonzalez-Velasco  WARNINGS  
389/2359ClusterJudge 1.31.0  (landing page)Adrian Pasculescu  OK  
390/2359clusterProfiler 4.17.0  (landing page)Guangchuang Yu  OK  
391/2359clusterSeq 1.33.0  (landing page)Samuel Granjeaud  OK  
392/2359ClusterSignificance 1.37.0  (landing page)Jason T Serviss  OK  
393/2359clusterStab 1.81.0  (landing page)James W. MacDonald  OK  
394/2359clustifyr 1.21.0  (landing page)Rui Fu  OK  
395/2359ClustIRR 1.7.15  (landing page)Simo Kitanovski  WARNINGS  
396/2359clustSIGNAL 1.1.1  (landing page)Pratibha Panwar  OK  
397/2359CMA 1.67.0  (landing page)Roman Hornung  OK  
398/2359cmapR 1.21.0  (landing page)Ted Natoli  OK  
399/2359cn.farms 1.57.2  (landing page)Andreas Mitterecker  OK  
400/2359cn.mops 1.55.1  (landing page)Gundula Povysil  OK  
401/2359CNAnorm 1.55.0  (landing page)Stefano Berri  OK  
402/2359CNEr 1.45.2  (landing page)Boris Lenhard Damir Baranasic  ERROR  
403/2359CNORdt 1.51.0  (landing page)A. MacNamara  OK  
404/2359CNORfeeder 1.49.0  (landing page)Attila Gabor  WARNINGS  
405/2359CNORfuzzy 1.51.0  (landing page)T. Cokelaer  OK  
406/2359CNORode 1.51.0  (landing page)Attila Gabor  WARNINGS  
407/2359CNTools 1.65.0  (landing page)J. Zhang  OK  
408/2359CNVfilteR 1.23.0  (landing page)Jose Marcos Moreno-Cabrera  OK  
409/2359cnvGSA 1.53.0  (landing page)Joseph Lugo  OK  
410/2359CNViz 1.17.0  (landing page)Rebecca Greenblatt  OK  
411/2359CNVMetrics 1.13.0  (landing page)Astrid Deschênes  OK  
412/2359CNVPanelizer 1.41.0  (landing page)Thomas Wolf  OK  
413/2359CNVRanger 1.25.4  (landing page)Ludwig Geistlinger  OK  
414/2359CNVrd2 1.47.0  (landing page)Hoang Tan Nguyen  ERROR  
415/2359CoCiteStats 1.81.0  (landing page)Bioconductor Package Maintainer  OK  
416/2359COCOA 2.23.1  (landing page)John Lawson  OK  
417/2359codelink 1.77.0  (landing page)Diego Diez  OK  
418/2359CODEX 1.41.0  (landing page)Yuchao Jiang  OK  
419/2359CoGAPS 3.29.1  (landing page)Elana J. Fertig  OK  
420/2359cogena 1.43.0  (landing page)Zhilong Jia  WARNINGS  
421/2359cogeqc 1.13.0  (landing page)Fabrício Almeida-Silva  ERROR  
422/2359Cogito 1.15.2  (landing page)Annika Bürger  OK  
423/2359coGPS 1.53.0  (landing page)Yingying Wei  OK  
424/2359cola 2.15.0  (landing page)Zuguang Gu  OK  
425/2359comapr 1.13.0  (landing page)Ruqian Lyu  ERROR  
426/2359combi 1.21.0  (landing page)Stijn Hawinkel  OK  
427/2359coMethDMR 1.13.0  (landing page)Fernanda Veitzman  WARNINGS  
428/2359COMPASS 1.47.0  (landing page)Greg Finak  OK  
429/2359compcodeR 1.45.0  (landing page)Charlotte Soneson  OK  
430/2359compEpiTools 1.43.1  (landing page)Mattia Furlan  OK  
431/2359ComplexHeatmap 2.25.2  (landing page)Zuguang Gu  OK  
432/2359CompoundDb 1.13.0  (landing page)Johannes Rainer  OK  
433/2359ComPrAn 1.17.0  (landing page)Petra Palenikova  OK  
434/2359compSPOT 1.7.0  (landing page)Sydney Grant  OK  
435/2359concordexR 1.9.1  (landing page)Kayla Jackson  WARNINGS  
436/2359condiments 1.17.0  (landing page)Hector Roux de Bezieux  OK  
437/2359CONFESS 1.37.0  (landing page)Diana LOW  WARNINGS  
438/2359consensus 1.27.0  (landing page)Tim Peters  OK  
439/2359ConsensusClusterPlus 1.73.0  (landing page)Matt Wilkerson  OK  
440/2359consensusDE 1.27.0  (landing page)Ashley J. Waardenberg  OK  
441/2359consensusOV 1.31.0  (landing page)Benjamin Haibe-Kains  OK  
442/2359consensusSeekeR 1.37.3  (landing page)Astrid Deschênes  OK  
443/2359consICA 2.7.5  (landing page)Petr V. Nazarov  TIMEOUT  
444/2359CONSTANd 1.17.0  (landing page)Dirk Valkenborg  OK  
445/2359conumee 1.43.1  (landing page)Volker Hovestadt  OK  
446/2359convert 1.85.0  (landing page)Yee Hwa (Jean) Yang  OK  
447/2359copa 1.77.0  (landing page)James W. MacDonald  OK  
448/2359CopyNumberPlots 1.25.0  (landing page)Bernat Gel  OK  
449/2359Coralysis 0.99.10  (landing page)António Sousa  OK  
450/2359coRdon 1.27.0  (landing page)Anamaria Elek  OK  
451/2359CoreGx 2.13.0  (landing page)Benjamin Haibe-Kains  OK  
452/2359Cormotif 1.55.0  (landing page)Yingying Wei  OK  
453/2359corral 1.19.0  (landing page)Lauren Hsu  ERROR  
454/2359coseq 1.33.0  (landing page)Andrea Rau  OK  
455/2359CoSIA 1.9.0  (landing page)Amanda D. Clark  TIMEOUT  
456/2359cosmiq 1.43.0  (landing page)David Fischer  OK  
457/2359cosmosR 1.17.0  (landing page)Attila Gabor  OK  
458/2359COSNet 1.43.0  (landing page)Marco Frasca  WARNINGS  
459/2359COTAN 2.9.7  (landing page)Galfrè Silvia Giulia  OK  
460/2359countsimQC 1.27.1  (landing page)Charlotte Soneson  OK  
461/2359covEB 1.35.0  (landing page)C. Pacini  OK  
462/2359CoverageView 1.47.0  (landing page)Ernesto Lowy  WARNINGS  
463/2359covRNA 1.35.0  (landing page)Lara Urban  OK  
464/2359CPSM 1.1.4  (landing page)Harpreet Kaur  OK  
465/2359cpvSNP 1.41.0  (landing page)Caitlin McHugh  OK  
466/2359cqn 1.55.0  (landing page)Kasper Daniel Hansen  OK  
467/2359CRImage 1.57.0  (landing page)Henrik Failmezger , Yinyin Yuan  OK  
468/2359CRISPRball 1.5.0  (landing page)Jared Andrews  OK  
469/2359crisprBase 1.13.0  (landing page)Jean-Philippe Fortin  OK  
470/2359crisprBowtie 1.13.1  (landing page)Jean-Philippe Fortin  OK  
471/2359crisprBwa 1.13.1  (landing page)Jean-Philippe Fortin  OK  
472/2359crisprDesign 1.11.1  (landing page)Jean-Philippe Fortin  ERROR  
473/2359crisprScore 1.13.1  (landing page)Jean-Philippe Fortin  OK  
474/2359CRISPRseek 1.49.2  (landing page)Lihua Julie Zhu  ERROR  
475/2359crisprShiny 1.5.1  (landing page)Jean-Philippe Fortin  OK  
476/2359CrispRVariants 1.37.0  (landing page)Helen Lindsay  WARNINGS  
477/2359crisprVerse 1.11.0  (landing page)Jean-Philippe Fortin  OK  
478/2359crisprViz 1.11.1  (landing page)Jean-Philippe Fortin  OK  
479/2359crlmm 1.67.0  (landing page)Benilton S Carvalho  WARNINGS  
480/2359crumblr 1.1.0  (landing page)Gabriel Hoffman  OK  
481/2359crupR 1.1.1  (landing page)Persia Akbari Omgba  OK  
482/2359CSAR 1.61.1  (landing page)Jose M Muino  OK  
483/2359csaw 1.43.1  (landing page)Aaron Lun  WARNINGS  
484/2359csdR 1.15.0  (landing page)Jakob Peder Pettersen  OK  
485/2359CSOA 0.99.3  (landing page)Andrei-Florian Stoica  OK  
486/2359CSSQ 1.21.0  (landing page)Fan Lab at Georgia Institute of Technology  OK  
487/2359ctc 1.83.0  (landing page)Antoine Lucas  OK  
488/2359CTdata 1.9.0  (landing page)Laurent Gatto  OK  
489/2359CTDquerier 2.17.0  (landing page)Xavier Escribà-Montagut  WARNINGS  
490/2359CTexploreR 1.5.2  (landing page)Axelle Loriot  NA  
491/2359cTRAP 1.27.0  (landing page)Nuno Saraiva-Agostinho  ERROR  
492/2359ctsGE 1.35.0  (landing page)Michal Sharabi-Schwager  OK  
493/2359CTSV 1.11.0  (landing page)Jinge Yu Developer  OK  
494/2359cummeRbund 2.51.0  (landing page)Loyal A. Goff  ERROR  
495/2359CuratedAtlasQueryR 1.7.0  (landing page)Stefano Mangiola  OK  
496/2359customCMPdb 1.19.0  (landing page)Yuzhu Duan  OK  
497/2359customProDB 1.49.0  (landing page)Xiaojing Wang  ERROR  
498/2359cyanoFilter 1.17.0  (landing page)Oluwafemi Olusoji  OK  
499/2359cycle 1.63.0  (landing page)Matthias Futschik  OK  
500/2359cydar 1.33.0  (landing page)Aaron Lun  OK  
501/2359cypress 1.5.0  (landing page)Shilin Yu  OK  
502/2359CytoDx 1.29.0  (landing page)Zicheng Hu  OK  
503/2359CyTOFpower 1.15.0  (landing page)Anne-Maud Ferreira  OK  
504/2359cytofQC 1.9.0  (landing page)Jill Lundell  ERROR  
505/2359CytoGLMM 1.17.3  (landing page)Christof Seiler  OK  
506/2359cytoKernel 1.15.0  (landing page)Tusharkanti Ghosh  OK  
507/2359cytolib 2.21.0  (landing page)Mike Jiang  WARNINGS  
508/2359cytomapper 1.21.1  (landing page)Lasse Meyer  OK  
509/2359CytoMDS 1.5.0  (landing page)Philippe Hauchamps  OK  
510/2359cytoMEM 1.13.0  (landing page)Jonathan Irish  OK  
511/2359CytoML 2.21.0  (landing page)Mike Jiang  WARNINGS  
512/2359CytoPipeline 1.9.4  (landing page)Philippe Hauchamps  OK  
513/2359CytoPipelineGUI 1.7.2  (landing page)Philippe Hauchamps  OK  
514/2359cytoviewer 1.9.0  (landing page)Lasse Meyer  OK  
D
ABCDEFGHIJKLMNOPQRSTUVWXYZ
PackageMaintainerINSTALL/BUILD/CHECK
515/2359dada2 1.37.0  (landing page)Benjamin Callahan  ERROR  
516/2359dagLogo 1.47.0  (landing page)Jianhong Ou  OK  
517/2359daMA 1.81.0  (landing page)Jobst Landgrebe  OK  
518/2359DAMEfinder 1.21.2  (landing page)Stephany Orjuela  OK  
519/2359DaMiRseq 2.21.0  (landing page)Mattia Chiesa  OK  
520/2359Damsel 1.5.0  (landing page)Caitlin Page  ERROR  
521/2359dandelionR 1.1.5  (landing page)Kelvin Tuong  OK  
522/2359DAPAR 1.41.0  (landing page)Samuel Wieczorek  OK  
523/2359dar 1.5.2  (landing page)Francesc Catala-Moll  OK  
524/2359DART 1.57.0  (landing page)Charles Shijie Zheng  OK  
525/2359dcanr 1.25.0  (landing page)Dharmesh D. Bhuva  OK  
526/2359DCATS 1.7.0  (landing page)Xinyi Lin  OK  
527/2359dcGSA 1.37.0  (landing page)Jiehuan sun  WARNINGS  
528/2359ddCt 1.65.0  (landing page)Jitao David Zhang  WARNINGS  
529/2359ddPCRclust 1.29.0  (landing page)Benedikt G. Brink  OK  
530/2359dearseq 1.21.0  (landing page)Boris P. Hejblum  OK  
531/2359debCAM 1.27.0  (landing page)Lulu Chen  ERROR  
532/2359debrowser 1.37.0  (landing page)Alper Kucukural  OK  
533/2359DECIPHER 3.5.1  (landing page)Erik Wright  OK  
534/2359decompTumor2Sig 2.25.1  (landing page)Rosario M. Piro  TIMEOUT  
535/2359DeconRNASeq 1.51.0  (landing page)Ting Gong  ERROR  
536/2359decontam 1.29.0  (landing page)Benjamin Callahan  OK  
537/2359decontX 1.7.0  (landing page)Joshua Campbell  WARNINGS  
538/2359DeconvoBuddies 1.1.5  (landing page)Louise Huuki-Myers  NA  
539/2359deconvR 1.15.1  (landing page)Irem B. Gündüz  NA  
540/2359decoupleR 2.15.0  (landing page)Pau Badia-i-Mompel  ERROR  
541/2359DeeDeeExperiment 0.99.5  (landing page)Najla Abassi  OK  
542/2359DeepPINCS 1.17.0  (landing page)Dongmin Jung  ERROR  
543/2359deepSNV 1.55.0  (landing page)Moritz Gerstung  OK  
544/2359DeepTarget 1.3.0  (landing page)Trinh Nguyen  OK  
545/2359DEFormats 1.37.0  (landing page)Andrzej Oleś  OK  
546/2359DegCre 1.5.1  (landing page)Brian S. Roberts  OK  
547/2359DegNorm 1.19.1  (landing page)Ji-Ping Wang  OK  
548/2359DEGraph 1.61.0  (landing page)Laurent Jacob  OK  
549/2359DEGreport 1.45.1  (landing page)Lorena Pantano  OK  
550/2359DEGseq 1.63.0  (landing page)Likun Wang  WARNINGS  
551/2359DelayedArray 0.35.3  (landing page)Hervé Pagès  WARNINGS  
552/2359DelayedDataFrame 1.25.0  (landing page)Qian Liu  OK  
553/2359DelayedMatrixStats 1.31.0  (landing page)Peter Hickey  OK  
554/2359DelayedRandomArray 1.17.0  (landing page)Aaron Lun  OK  
555/2359DelayedTensor 1.15.0  (landing page)Koki Tsuyuzaki  WARNINGS  
556/2359DELocal 1.9.0  (landing page)Rishi Das Roy  ERROR  
557/2359deltaCaptureC 1.23.1  (landing page)Michael Shapiro  OK  
558/2359deltaGseg 1.49.0  (landing page)Diana Low  WARNINGS  
559/2359DeMAND 1.39.0  (landing page)Jung Hoon Woo , Mariano Alvarez  OK  
560/2359DeMixT 1.25.0  (landing page)Ruonan Li  WARNINGS  
561/2359demuxmix 1.11.0  (landing page)Hans-Ulrich Klein  OK  
562/2359demuxSNP 1.7.1  (landing page)Michael Lynch  OK  
563/2359densvis 1.19.0  (landing page)Alan O'Callaghan  ERROR  
564/2359DEP 1.31.2  (landing page)Arne Smits  OK  
565/2359DepecheR 1.25.0  (landing page)Jakob Theorell  ERROR  
566/2359DepInfeR 1.13.0  (landing page)Junyan Lu  OK  
567/2359DEqMS 1.27.1  (landing page)Yafeng Zhu  NA  
568/2359derfinder 1.43.1  (landing page)Leonardo Collado-Torres  OK  
569/2359derfinderHelper 1.43.0  (landing page)Leonardo Collado-Torres  OK  
570/2359derfinderPlot 1.43.1  (landing page)Leonardo Collado-Torres  OK  
571/2359DEScan2 1.29.2  (landing page)Dario Righelli  OK  
572/2359DESeq2 1.49.8  (landing page)Michael Love  OK  
573/2359DEsingle 1.29.0  (landing page)Zhun Miao  OK  
574/2359DESpace 2.1.0  (landing page)Peiying Cai  ERROR  
575/2359destiny 3.23.0  (landing page)Philipp Angerer  ERROR  
576/2359DEsubs 1.35.0  (landing page)Aristidis G. Vrahatis , Panos Balomenos  WARNINGS  
577/2359DEWSeq 1.23.1  (landing page)bioinformatics team Hentze  OK  
578/2359DExMA 1.17.0  (landing page)Juan Antonio Villatoro-García  OK  
579/2359DEXSeq 1.55.1  (landing page)Alejandro Reyes  OK  
580/2359DFP 1.67.0  (landing page)Rodrigo Alvarez-Glez  OK  
581/2359DFplyr 1.3.2  (landing page)Jonathan Carroll  OK  
582/2359DiffBind 3.19.0  (landing page)Rory Stark  NA  
583/2359diffcoexp 1.29.0  (landing page)Wenbin Wei  OK  
584/2359diffcyt 1.29.0  (landing page)Lukas M. Weber  OK  
585/2359DifferentialRegulation 2.7.0  (landing page)Simone Tiberi  TIMEOUT  
586/2359diffGeneAnalysis 1.91.0  (landing page)Choudary Jagarlamudi  OK  
587/2359diffHic 1.41.0  (landing page)Aaron Lun , Gordon Smyth , Hannah Coughlin  OK  
588/2359DiffLogo 2.33.0  (landing page)Hendrik Treutler  WARNINGS  
589/2359diffuStats 1.29.0  (landing page)Sergio Picart-Armada  ERROR  
590/2359diffUTR 1.17.0  (landing page)Pierre-Luc Germain  OK  
591/2359diggit 1.41.0  (landing page)Mariano J Alvarez  WARNINGS  
592/2359Dino 1.15.0  (landing page)Jared Brown  OK  
593/2359dinoR 1.5.0  (landing page)Michaela Schwaiger  OK  
594/2359dir.expiry 1.17.0  (landing page)Aaron Lun  OK  
595/2359DirichletMultinomial 1.51.0  (landing page)Martin Morgan  WARNINGS  
596/2359discordant 1.33.0  (landing page)McGrath Max  OK  
597/2359DiscoRhythm 1.25.0  (landing page)Matthew Carlucci  OK  
598/2359distinct 1.21.1  (landing page)Simone Tiberi  OK  
599/2359dittoSeq 1.21.1  (landing page)Daniel Bunis  NA  
600/2359divergence 1.25.0  (landing page)Wikum Dinalankara , Luigi Marchionni  OK  
601/2359dks 1.55.0  (landing page)Jeffrey T. Leek  OK  
602/2359DMCFB 1.23.0  (landing page)Farhad Shokoohi  NA  
603/2359DMCHMM 1.31.0  (landing page)Farhad Shokoohi  ERROR  
604/2359dmGsea 0.99.11  (landing page)Zongli Xu  ERROR  
605/2359DMRcaller 1.41.2  (landing page)Nicolae Radu Zabet  NA  
606/2359DMRcate 3.5.2  (landing page)Tim Peters  ERROR  
607/2359DMRScan 1.31.1  (landing page)Christian M Page  NA  
608/2359dmrseq 1.29.2  (landing page)Keegan Korthauer  NA  
609/2359DNABarcodeCompatibility 1.25.0  (landing page)Céline Trébeau  OK  
610/2359DNABarcodes 1.39.0  (landing page)Tilo Buschmann  OK  
611/2359DNAcopy 1.83.0  (landing page)Venkatraman E. Seshan  OK  
612/2359DNAcycP2 1.1.0  (landing page)Ji-Ping Wang  ERROR  
613/2359DNAfusion 1.11.0  (landing page)Christoffer Trier Maansson  ERROR  
614/2359DNAshapeR 1.37.0  (landing page)Tsu-Pei Chiu  ERROR  
615/2359DNEA 0.99.14  (landing page)Christopher Patsalis  NA  
616/2359DominoEffect 1.29.5  (landing page)Marija Buljan , Peter Blattmann  ERROR  
617/2359dominoSignal 1.3.0  (landing page)Jacob T Mitchell  ERROR  
618/2359doppelgangR 1.37.3  (landing page)Levi Waldron  ERROR  
619/2359Doscheda 1.31.0  (landing page)Bruno Contrino  ERROR  
620/2359DOSE 4.3.0  (landing page)Guangchuang Yu  ERROR  
621/2359doseR 1.25.0  (landing page)ake.vastermark  NA  
622/2359DOtools 0.99.11  (landing page)Mariano Ruz Jurado  ERROR  
623/2359doubletrouble 1.9.1  (landing page)Fabrício Almeida-Silva  ERROR  
624/2359drawProteins 1.29.0  (landing page)Paul Brennan  ERROR  
625/2359dreamlet 1.7.1  (landing page)Gabriel Hoffman  ERROR  
626/2359DRIMSeq 1.37.0  (landing page)Malgorzata Nowicka  WARNINGS  
627/2359DriverNet 1.49.0  (landing page)Jiarui Ding  ERROR  
628/2359DropletUtils 1.29.7  (landing page)Jonathan Griffiths  ERROR  
629/2359drugTargetInteractions 1.17.0  (landing page)Thomas Girke  ERROR  
630/2359DrugVsDisease 2.51.0  (landing page)j. Saez-Rodriguez  ERROR  
631/2359DspikeIn 0.99.29  (landing page)Mitra Ghotbi  NA  
632/2359DSS 2.57.0  (landing page)Hao Wu , Hao Feng  ERROR  
633/2359dStruct 1.15.0  (landing page)Krishna Choudhary  NA  
634/2359DTA 2.55.0  (landing page)Bjoern Schwalb  ERROR  
635/2359Dune 1.21.0  (landing page)Hector Roux de Bezieux  ERROR  
636/2359DuplexDiscovereR 1.3.4  (landing page)Egor Semenchenko  NA  
637/2359dupRadar 1.39.1  (landing page)Sergi Sayols , Holger Klein  ERROR  
638/2359dyebias 1.69.0  (landing page)Philip Lijnzaad  NA  
639/2359DynDoc 1.87.0  (landing page)Bioconductor Package Maintainer  WARNINGS  
E
ABCDEFGHIJKLMNOPQRSTUVWXYZ
PackageMaintainerINSTALL/BUILD/CHECK
640/2359easier 1.15.0  (landing page)Oscar Lapuente-Santana  ERROR  
641/2359EasyCellType 1.11.0  (landing page)Ruoxing Li  ERROR  
642/2359easylift 1.7.0  (landing page)Abdullah Al Nahid  ERROR  
643/2359easyreporting 1.21.0  (landing page)Dario Righelli  ERROR  
644/2359easyRNASeq 2.45.1  (landing page)Nicolas Delhomme  WARNINGS  
645/2359EBarrays 2.73.0  (landing page)Ming Yuan  NA  
646/2359EBcoexpress 1.53.0  (landing page)John A. Dawson  WARNINGS  
647/2359EBImage 4.51.0  (landing page)Andrzej Oleś  NA  
648/2359EBSEA 1.37.0  (landing page)Arfa Mehmood  NA  
649/2359EBSeq 2.7.0  (landing page)Xiuyu Ma  WARNINGS  
650/2359ecolitk 1.81.0  (landing page)Laurent Gautier  WARNINGS  
651/2359EDASeq 2.43.0  (landing page)Davide Risso  NA  
652/2359edge 2.41.0  (landing page)John D. Storey , Andrew J. Bass  NA  
653/2359edgeR 4.7.6  (landing page)Yunshun Chen , Gordon Smyth  NA  
654/2359EDIRquery 1.9.0  (landing page)Laura D.T. Vo Ngoc  NA  
655/2359eds 1.11.0  (landing page)Avi Srivastava  NA  
656/2359EGAD 1.37.0  (landing page)Sara Ballouz  WARNINGS  
657/2359EGSEA 1.37.0  (landing page)Monther Alhamdoosh  NA  
658/2359eiR 1.49.0  (landing page)Thomas Girke  NA  
659/2359eisaR 1.21.1  (landing page)Michael Stadler  NA  
660/2359ELMER 2.33.1  (landing page)Tiago Chedraoui Silva  ERROR  
661/2359ELViS 1.1.12  (landing page)Jin-Young Lee  NA  
662/2359EMDomics 2.39.0  (landing page)Sadhika Malladi and Daniel Schmolze  NA  
663/2359EmpiricalBrownsMethod 1.37.0  (landing page)David Gibbs  NA  
664/2359EnhancedVolcano 1.27.0  (landing page)Kevin Blighe  ERROR  
665/2359enhancerHomologSearch 1.15.2  (landing page)Jianhong Ou  ERROR  
666/2359EnMCB 1.21.0  (landing page)Xin Yu  NA  
667/2359ENmix 1.45.3  (landing page)Zongli Xu  NA  
668/2359EnrichDO 1.3.1  (landing page)Hongyu Fu  NA  
669/2359EnrichedHeatmap 1.39.1  (landing page)Zuguang Gu  NA  
670/2359EnrichmentBrowser 2.39.2  (landing page)Ludwig Geistlinger  NA  
671/2359enrichplot 1.29.4  (landing page)Guangchuang Yu  NA  
672/2359enrichViewNet 1.7.3  (landing page)Astrid Deschênes  ERROR  
673/2359ensembldb 2.33.2  (landing page)Johannes Rainer  NA  
674/2359epialleleR 1.17.1  (landing page)Oleksii Nikolaienko  NA  
675/2359EpiCompare 1.13.2  (landing page)Hiranyamaya Dash  NA  
676/2359epidecodeR 1.17.0  (landing page)Kandarp Joshi  NA  
677/2359EpiDISH 2.25.0  (landing page)Shijie C. Zheng  NA  
678/2359epigenomix 1.49.0  (landing page)Hans-Ulrich Klein  NA  
679/2359epigraHMM 1.17.3  (landing page)Pedro Baldoni  ERROR  
680/2359EpiMix 1.11.1  (landing page)Yuanning Zheng  NA  
681/2359epimutacions 1.13.0  (landing page)Dolors Pelegri-Siso  NA  
682/2359epiNEM 1.33.0  (landing page)Martin Pirkl  NA  
683/2359EpipwR 1.3.1  (landing page)Jackson Barth  NA  
684/2359epiregulon 1.99.5  (landing page)Xiaosai Yao  ERROR  
685/2359epiregulon.extra 1.5.1  (landing page)Xiaosai Yao  ERROR  
686/2359epistack 1.15.1  (landing page)DEVAILLY Guillaume  NA  
687/2359epistasisGA 1.11.2  (landing page)Michael Nodzenski  WARNINGS  
688/2359EpiTxDb 1.21.2  (landing page)Felix G.M. Ernst  NA  
689/2359epivizr 2.39.0  (landing page)Hector Corrada Bravo  NA  
690/2359epivizrChart 1.31.0  (landing page)Hector Corrada Bravo  NA  
691/2359epivizrData 1.37.2  (landing page)Hector Corrada Bravo  NA  
692/2359epivizrServer 1.37.0  (landing page)Hector Corrada Bravo  ERROR  
693/2359epivizrStandalone 1.37.1  (landing page)Hector Corrada Bravo  WARNINGS  
694/2359erccdashboard 1.43.0  (landing page)Sarah Munro  NA  
695/2359ERSSA 1.27.0  (landing page)Zixuan Shao  NA  
696/2359esATAC 1.31.1  (landing page)Zheng Wei  NA  
697/2359escape 2.5.5  (landing page)Nick Borcherding  NA  
698/2359escheR 1.9.0  (landing page)Boyi Guo  NA  
699/2359esetVis 1.35.0  (landing page)Laure Cougnaud  NA  
700/2359eudysbiome 1.39.0  (landing page)Xiaoyuan Zhou  NA  
701/2359evaluomeR 1.25.0  (landing page)José Antonio Bernabé-Díaz  WARNINGS  
702/2359EventPointer 3.17.0  (landing page)Juan A. Ferrer-Bonsoms  NA  
703/2359EWCE 1.17.1  (landing page)Hiranyamaya Dash  ERROR  
704/2359ExCluster 1.27.0  (landing page)R. Matthew Tanner  NA  
705/2359ExiMiR 2.51.0  (landing page)Sylvain Gubian  NA  
706/2359ExperimentHub 2.99.6  (landing page)Bioconductor Package Maintainer  WARNINGS  
707/2359ExperimentHubData 1.35.0  (landing page)Bioconductor Package Maintainer  WARNINGS  
708/2359ExperimentSubset 1.19.0  (landing page)Irzam Sarfraz  NA  
709/2359ExploreModelMatrix 1.21.2  (landing page)Charlotte Soneson  NA  
710/2359ExpressionAtlas 2.1.1  (landing page)Anil Thanki  NA  
711/2359extraChIPs 1.13.3  (landing page)Stevie Pederson  NA  
F
ABCDEFGHIJKLMNOPQRSTUVWXYZ
PackageMaintainerINSTALL/BUILD/CHECK
712/2359fabia 2.55.0  (landing page)Andreas Mitterecker  WARNINGS  
713/2359factDesign 1.85.0  (landing page)Denise Scholtens  NA  
714/2359factR 1.11.0  (landing page)Fursham Hamid  ERROR  
715/2359faers 1.5.2  (landing page)Yun Peng  ERROR  
716/2359FamAgg 1.37.0  (landing page)Johannes Rainer  NA  
717/2359famat 1.19.0  (landing page)Mathieu Charles  ERROR  
718/2359fastLiquidAssociation 1.45.0  (landing page)Tina Gunderson  WARNINGS  
719/2359FastqCleaner 1.27.0  (landing page)Leandro Roser  NA  
720/2359fastreeR 1.99.8  (landing page)Anestis Gkanogiannis  NA  
721/2359fastseg 1.55.0  (landing page)Alexander Blume  NA  
722/2359fCCAC 1.35.0  (landing page)Pedro Madrigal  NA  
723/2359fCI 1.39.0  (landing page)Shaojun Tang  NA  
724/2359fcScan 1.23.0  (landing page)Pierre Khoueiry Abdullah El-Kurdi  NA  
725/2359fdrame 1.81.0  (landing page)Effi Kenigsberg  NA  
726/2359FEAST 1.17.0  (landing page)Kenong Su  NA  
727/2359FeatSeekR 1.9.0  (landing page)Tuemay Capraz  NA  
728/2359fedup 1.17.0  (landing page)Catherine Ross  NA  
729/2359FELLA 1.29.0  (landing page)Sergio Picart-Armada  ERROR  
730/2359fenr 1.7.1  (landing page)Marek Gierlinski  NA  
731/2359ffpe 1.53.0  (landing page)Levi Waldron  NA  
732/2359fgga 1.17.0  (landing page)Flavio Spetale  NA  
733/2359FGNet 3.43.0  (landing page)Sara Aibar  WARNINGS  
734/2359fgsea 1.35.8  (landing page)Alexey Sergushichev  NA  
735/2359FilterFFPE 1.19.0  (landing page)Lanying Wei  NA  
736/2359findIPs 1.5.0  (landing page)Shuo Wang  NA  
737/2359FindIT2 1.15.1  (landing page)Guandong Shang  NA  
738/2359FinfoMDS 0.99.2  (landing page)Soobin Kim  NA  
739/2359FISHalyseR 1.43.0  (landing page)Karesh Arunakirinathan  WARNINGS  
740/2359fishpond 2.15.0  (landing page)Michael Love  NA  
741/2359FitHiC 1.35.0  (landing page)Ruyu Tan  NA  
742/2359flagme 1.65.0  (landing page)Mark Robinson , Riccardo Romoli  WARNINGS  
743/2359FLAMES 2.3.5  (landing page)Changqing Wang  ERROR  
744/2359flowAI 1.39.0  (landing page)Gianni Monaco  NA  
745/2359flowBeads 1.47.0  (landing page)Nikolas Pontikos  WARNINGS  
746/2359flowBin 1.45.0  (landing page)Kieran O'Neill  NA  
747/2359flowcatchR 1.43.0  (landing page)Federico Marini  NA  
748/2359flowCHIC 1.43.0  (landing page)Author: Joachim Schumann  NA  
749/2359flowClean 1.47.0  (landing page)Kipper Fletez-Brant  WARNINGS  
750/2359flowClust 3.47.0  (landing page)Greg Finak , Mike Jiang  WARNINGS  
751/2359flowCore 2.21.0  (landing page)Mike Jiang  WARNINGS  
752/2359flowCut 1.19.0  (landing page)Justin Meskas  NA  
753/2359flowCyBar 1.45.0  (landing page)Joachim Schumann  NA  
754/2359flowDensity 1.43.0  (landing page)Mehrnoush Malek  WARNINGS  
755/2359flowFP 1.67.0  (landing page)Herb Holyst , Wade Rogers  WARNINGS  
756/2359flowGate 1.9.0  (landing page)Andrew Wight  NA  
757/2359flowGraph 1.17.0  (landing page)Alice Yue  NA  
758/2359flowMatch 1.45.0  (landing page)Ariful Azad  NA  
759/2359flowMeans 1.69.0  (landing page)Nima Aghaeepour  NA  
760/2359flowMerge 2.57.0  (landing page)Greg Finak  WARNINGS  
761/2359flowPeaks 1.55.0  (landing page)Yongchao Ge  NA  
762/2359flowPloidy 1.35.0  (landing page)Tyler Smith  ERROR  
763/2359flowPlots 1.57.0  (landing page)N. Hawkins  NA  
764/2359FlowSOM 2.17.0  (landing page)Sofie Van Gassen  NA  
765/2359flowSpecs 1.23.0  (landing page)Jakob Theorell  NA  
766/2359flowStats 4.21.0  (landing page)Greg Finak , Mike Jiang  WARNINGS  
767/2359flowTime 1.33.0  (landing page)R. Clay Wright  NA  
768/2359flowTrans 1.61.0  (landing page)Greg Finak  NA  
769/2359flowViz 1.73.0  (landing page)Mike Jiang  NA  
770/2359flowVS 1.41.0  (landing page)Ariful Azad  NA  
771/2359flowWorkspace 4.21.0  (landing page)Greg Finak , Mike Jiang  WARNINGS  
772/2359fmcsR 1.51.0  (landing page)Thomas Girke  WARNINGS  
773/2359fmrs 1.19.0  (landing page)Farhad Shokoohi  NA  
774/2359fobitools 1.17.0  (landing page)Pol Castellano-Escuder  NA  
775/2359FRASER 2.5.2  (landing page)Christian Mertes  NA  
776/2359frenchFISH 1.21.0  (landing page)Adam Berman  NA  
777/2359FRGEpistasis 1.45.0  (landing page)Futao Zhang  NA  
778/2359frma 1.61.0  (landing page)Matthew N. McCall  NA  
779/2359frmaTools 1.61.0  (landing page)Matthew N. McCall  NA  
780/2359funOmics 1.3.0  (landing page)Elisa Gomez de Lope  NA  
781/2359funtooNorm 1.33.0  (landing page)Kathleen Klein  WARNINGS  
782/2359FuseSOM 1.11.0  (landing page)Elijah Willie  NA  
G
ABCDEFGHIJKLMNOPQRSTUVWXYZ
PackageMaintainerINSTALL/BUILD/CHECK
783/2359G4SNVHunter 1.1.6  (landing page)Rongxin Zhang  WARNINGS  
784/2359GA4GHclient 1.33.1  (landing page)Welliton Souza  NA  
785/2359GA4GHshiny 1.31.1  (landing page)Welliton Souza  NA  
786/2359gaga 2.55.0  (landing page)David Rossell  WARNINGS  
787/2359gage 2.59.0  (landing page)Weijun Luo  WARNINGS  
788/2359GAprediction 1.35.0  (landing page)Jon Bohlin  NA  
789/2359garfield 1.37.0  (landing page)Valentina Iotchkova  WARNINGS  
790/2359GARS 1.29.0  (landing page)Mattia Chiesa  NA  
791/2359GateFinder 1.29.0  (landing page)Nima Aghaeepour  WARNINGS  
792/2359gatom 1.7.0  (landing page)Alexey Sergushichev  ERROR  
793/2359GBScleanR 2.3.2  (landing page)Tomoyuki Furuta  ERROR  
794/2359gcapc 1.33.1  (landing page)Mingxiang Teng  NA  
795/2359gcatest 2.9.0  (landing page)Alejandro Ochoa  NA  
796/2359GCPtools 0.99.4  (landing page)Marcel Ramos  NA  
797/2359gCrisprTools 2.15.0  (landing page)Russell Bainer  NA  
798/2359gcrma 2.81.0  (landing page)Z. Wu  NA  
799/2359GDCRNATools 1.29.0  (landing page)Ruidong Li  NA  
800/2359gDNAx 1.7.3  (landing page)Robert Castelo  NA  
801/2359gDR 1.7.2  (landing page)Arkadiusz Gladki  NA  
802/2359gDRcore 1.7.8  (landing page)Arkadiusz Gladki  NA  
803/2359gDRimport 1.7.5  (landing page)Arkadiusz Gladki  NA  
804/2359gDRstyle 1.7.4  (landing page)Arkadiusz Gladki  NA  
805/2359gDRutils 1.7.18  (landing page)Arkadiusz Gladki  NA  
806/2359GDSArray 1.29.0  (landing page)Xiuwen Zheng  NA  
807/2359gdsfmt 1.45.2  (landing page)Xiuwen Zheng  NA  
808/2359GeDi 1.5.0  (landing page)Annekathrin Nedwed  ERROR  
809/2359GEM 1.35.0  (landing page)Hong Pan  NA  
810/2359gemini 1.23.0  (landing page)Sidharth Jain  NA  
811/2359gemma.R 3.5.13  (landing page)Ogan Mancarci  NA  
812/2359genArise 1.85.0  (landing page)IFC Development Team  WARNINGS  
813/2359geneAttribution 1.35.1  (landing page)Arthur Wuster  NA  
814/2359GeneBreak 1.39.0  (landing page)Evert van den Broek  NA  
815/2359geneClassifiers 1.33.0  (landing page)R Kuiper  NA  
816/2359GeneExpressionSignature 1.55.0  (landing page)Yang Cao  NA  
817/2359genefilter 1.91.0  (landing page)Bioconductor Package Maintainer  WARNINGS  
818/2359genefu 2.41.0  (landing page)Benjamin Haibe-Kains  WARNINGS  
819/2359GeneGA 1.59.0  (landing page)Zhenpeng Li  ERROR  
820/2359GeneMeta 1.81.0  (landing page)Bioconductor Package Maintainer  NA  
821/2359GeneNetworkBuilder 1.51.0  (landing page)Jianhong Ou  NA  
822/2359GeneOverlap 1.45.0  (landing page)António Miguel de Jesus Domingues, Max-Planck Institute for Cell Biology and Genetics  NA  
823/2359geneplast 1.35.0  (landing page)Mauro Castro  NA  
824/2359geneplotter 1.87.0  (landing page)Bioconductor Package Maintainer  NA  
825/2359geneRecommender 1.81.0  (landing page)Greg Hather  NA  
826/2359GeneRegionScan 1.65.0  (landing page)Lasse Folkersen  NA  
827/2359geneRxCluster 1.45.0  (landing page)Charles Berry  NA  
828/2359GeneSelectMMD 2.53.0  (landing page)Weiliang Qiu  WARNINGS  
829/2359GENESIS 2.39.3  (landing page)Stephanie M. Gogarten  NA  
830/2359GeneStructureTools 1.29.0  (landing page)Beth Signal  ERROR  
831/2359geNetClassifier 1.49.0  (landing page)Sara Aibar  NA  
832/2359GeneticsPed 1.71.0  (landing page)David Henderson  WARNINGS  
833/2359GeneTonic 3.3.3  (landing page)Federico Marini  ERROR  
834/2359geneXtendeR 1.35.0  (landing page)Bohdan Khomtchouk  WARNINGS  
835/2359GENIE3 1.31.0  (landing page)Van Anh Huynh-Thu  NA  
836/2359genomation 1.41.1  (landing page)Altuna Akalin , Vedran Franke  WARNINGS  
837/2359GenomAutomorphism 1.11.2  (landing page)Robersy Sanchez  NA  
838/2359GenomeInfoDb 1.45.12  (landing page)Hervé Pagès  NA  
839/2359genomeIntervals 1.65.1  (landing page)Julien Gagneur  WARNINGS  
840/2359genomes 3.39.0  (landing page)Chris Stubben  NA  
841/2359GenomicAlignments 1.45.4  (landing page)Hervé Pagès  NA  
842/2359GenomicDataCommons 1.33.1  (landing page)Sean Davis  NA  
843/2359GenomicDistributions 1.17.1  (landing page)Kristyna Kupkova  NA  
844/2359GenomicFeatures 1.61.7  (landing page)H. Pagès  NA  
845/2359GenomicFiles 1.45.2  (landing page)Bioconductor Package Maintainer  NA  
846/2359genomicInstability 1.15.0  (landing page)Mariano Alvarez  NA  
847/2359GenomicInteractionNodes 1.13.1  (landing page)Jianhong Ou  NA  
848/2359GenomicInteractions 1.43.1  (landing page)Liz Ing-Simmons  NA  
849/2359GenomicOZone 1.23.1  (landing page)Hua Zhong, Mingzhou Song  NA  
850/2359GenomicPlot 1.7.2  (landing page)Shuye Pu  NA  
851/2359GenomicRanges 1.61.6  (landing page)Hervé Pagès  ERROR  
852/2359GenomicScores 2.21.4  (landing page)Robert Castelo  NA  
853/2359GenomicSuperSignature 1.17.1  (landing page)Sehyun Oh  WARNINGS  
854/2359GenomicTuples 1.43.1  (landing page)Peter Hickey  NA  
855/2359GenProSeq 1.13.0  (landing page)Dongmin Jung  ERROR  
856/2359GenVisR 1.41.2  (landing page)Zachary Skidmore  ERROR  
857/2359GeoDiff 1.15.0  (landing page)Nicole Ortogero  NA  
858/2359GEOexplorer 1.15.0  (landing page)Guy Hunt  ERROR  
859/2359GEOfastq 1.17.0  (landing page)Alex Pickering  NA  
860/2359GEOmetadb 1.71.0  (landing page)Jack Zhu  ERROR  
861/2359geomeTriD 1.3.21  (landing page)Jianhong Ou  NA  
862/2359GeomxTools 3.13.1  (landing page)Maddy Griswold  NA  
863/2359GEOquery 2.77.6  (landing page)Sean Davis  WARNINGS  
864/2359GEOsubmission 1.61.0  (landing page)Alexandre Kuhn  NA  
865/2359GeoTcgaData 2.9.0  (landing page)Erqiang Hu  NA  
866/2359gep2pep 1.29.0  (landing page)Francesco Napolitano  NA  
867/2359getDEE2 1.19.3  (landing page)Mark 0000-0002-7688-6974 Ziemann  NA  
868/2359geva 1.17.0  (landing page)Itamar José Guimarães Nunes  ERROR  
869/2359GEWIST 1.53.0  (landing page)Wei Q. Deng  NA  
870/2359geyser 1.1.0  (landing page)David McGaughey  NA  
871/2359gg4way 1.7.1  (landing page)Benjamin I Laufer  NA  
872/2359ggbio 1.57.1  (landing page)Michael Lawrence  WARNINGS  
873/2359ggcyto 1.37.1  (landing page)Mike Jiang  WARNINGS  
874/2359ggkegg 1.7.2  (landing page)Noriaki Sato  ERROR  
875/2359ggmanh 1.13.0  (landing page)John Lee  NA  
876/2359ggmsa 1.15.1  (landing page)Guangchuang Yu  WARNINGS  
877/2359GGPA 1.21.0  (landing page)Dongjun Chung  WARNINGS  
878/2359ggsc 1.7.1  (landing page)Guangchuang Yu  NA  
879/2359ggseqalign 1.3.0  (landing page)Simeon Lim Rossmann  NA  
880/2359ggspavis 1.15.9  (landing page)Lukas M. Weber  ERROR  
881/2359ggtree 3.99.2  (landing page)Guangchuang Yu  NA  
882/2359ggtreeDendro 1.11.0  (landing page)Guangchuang Yu  WARNINGS  
883/2359ggtreeExtra 1.19.1  (landing page)Shuangbin Xu  NA  
884/2359ggtreeSpace 1.5.0  (landing page)Guangchuang Yu  WARNINGS  
885/2359GIGSEA 1.27.0  (landing page)Shijia Zhu  NA  
886/2359ginmappeR 1.5.0  (landing page)Fernando Sola  NA  
887/2359gINTomics 1.5.2  (landing page)Angelo Velle  ERROR  
888/2359GLAD 2.73.0  (landing page)Philippe Hupe  WARNINGS  
889/2359GladiaTOX 1.25.3  (landing page)PMP S.A. R Support  NA  
890/2359Glimma 2.19.2  (landing page)Shian Su  NA  
891/2359glmGamPoi 1.21.0  (landing page)Constantin Ahlmann-Eltze  WARNINGS  
892/2359glmSparseNet 1.27.0  (landing page)André Veríssimo  NA  
893/2359GlobalAncova 4.27.0  (landing page)Manuela Hummel  WARNINGS  
894/2359globalSeq 1.37.0  (landing page)Armin Rauschenberger  NA  
895/2359globaltest 5.63.0  (landing page)Jelle Goeman  ERROR  
896/2359GloScope 1.99.2  (landing page)William Torous  NA  
897/2359gmapR 1.51.1  (landing page)Michael Lawrence  ERROR  
898/2359GmicR 1.23.0  (landing page)Richard Virgen-Slane  WARNINGS  
899/2359gmoviz 1.21.1  (landing page)Kathleen Zeglinski  NA  
900/2359GMRP 1.37.0  (landing page)Yuan-De Tan  NA  
901/2359GNET2 1.25.0  (landing page)Chen Chen  NA  
902/2359GNOSIS 1.7.0  (landing page)Lydia King  WARNINGS  
903/2359goatea 0.99.9  (landing page)Maurits Unkel  ERROR  
904/2359GOexpress 1.43.1  (landing page)Kevin Rue-Albrecht  NA  
905/2359GOfuncR 1.29.0  (landing page)Steffi Grote  NA  
906/2359GOpro 1.35.0  (landing page)Lidia Chrabaszcz  NA  
907/2359goProfiles 1.71.0  (landing page)Alex Sanchez  NA  
908/2359GOSemSim 2.35.2  (landing page)Guangchuang Yu  NA  
909/2359goseq 1.61.1  (landing page)Federico Marini  NA  
910/2359goSorensen 1.11.0  (landing page)Pablo Flores  NA  
911/2359goSTAG 1.33.0  (landing page)Brian D. Bennett  NA  
912/2359GOstats 2.75.0  (landing page)Bioconductor Package Maintainer  ERROR  
913/2359GOTHiC 1.45.1  (landing page)Borbala Mifsud  NA  
914/2359goTools 1.83.0  (landing page)Agnes Paquet  NA  
915/2359GPA 1.21.0  (landing page)Dongjun Chung  NA  
916/2359gpls 1.81.0  (landing page)Bioconductor Package Maintainer  WARNINGS  
917/2359gpuMagic 1.25.1  (landing page)Jiefei Wang  ERROR  
918/2359GrafGen 1.5.0  (landing page)William Wheeler  WARNINGS  
919/2359GRaNIE 1.13.0  (landing page)Christian Arnold  NA  
920/2359granulator 1.17.0  (landing page)Sabina Pfister  ERROR  
921/2359graper 1.25.2  (landing page)Britta Velten  NA  
922/2359graph 1.87.0  (landing page)Bioconductor Package Maintainer  NA  
923/2359GraphAlignment 1.73.0  (landing page)Joern P. Meier  WARNINGS  
924/2359GraphAT 1.81.0  (landing page)Thomas LaFramboise  NA  
925/2359graphite 1.55.3  (landing page)Gabriele Sales  NA  
926/2359GRENITS 1.61.0  (landing page)Edward Morrissey  NA  
927/2359GreyListChIP 1.41.1  (landing page)Matt Eldridge  NA  
928/2359GRmetrics 1.35.0  (landing page)Nicholas Clark , Mario Medvedovic  NA  
929/2359groHMM 1.43.1  (landing page)Tulip Nandu  WARNINGS  
930/2359GSALightning 1.37.0  (landing page)Billy Heung Wing Chang  NA  
931/2359GSAR 1.43.2  (landing page)Yasir Rahmatallah , Galina Glazko  NA  
932/2359GSCA 2.39.0  (landing page)Zhicheng Ji  NA  
933/2359gscreend 1.23.0  (landing page)Katharina Imkeller  NA  
934/2359GSEABase 1.71.1  (landing page)Bioconductor Package Maintainer  NA  
935/2359GSEABenchmarkeR 1.29.1  (landing page)Ludwig Geistlinger  NA  
936/2359GSEAlm 1.69.0  (landing page)Assaf Oron  NA  
937/2359GSEAmining 1.19.0  (landing page)Oriol Arqués  NA  
938/2359gsean 1.29.0  (landing page)Dongmin Jung  NA  
939/2359GSgalgoR 1.19.0  (landing page)Carlos Catania  NA  
940/2359GSReg 1.43.0  (landing page)Bahman Afsari , Elana J. Fertig  WARNINGS  
941/2359GSRI 2.57.0  (landing page)Julian Gehring  NA  
942/2359GSVA 2.3.4  (landing page)Robert Castelo  NA  
943/2359gtrellis 1.41.0  (landing page)Zuguang Gu  NA  
944/2359GUIDEseq 1.39.0  (landing page)Lihua Julie Zhu  NA  
945/2359Guitar 2.25.0  (landing page)Jia Meng  NA  
946/2359gVenn 0.99.5  (landing page)Christophe Tav  NA  
947/2359Gviz 1.53.1  (landing page)Robert Ivanek  NA  
948/2359GWAS.BAYES 1.19.0  (landing page)Jacob Williams  NA  
949/2359gwascat 2.41.1  (landing page)VJ Carey  NA  
950/2359GWASTools 1.55.0  (landing page)Stephanie M. Gogarten  NA  
951/2359gwasurvivr 1.27.0  (landing page)Abbas Rizvi  NA  
952/2359GWENA 1.19.0  (landing page)Gwenaëlle Lemoine  ERROR  
953/2359gypsum 1.5.0  (landing page)Aaron Lun  NA  
H
ABCDEFGHIJKLMNOPQRSTUVWXYZ
PackageMaintainerINSTALL/BUILD/CHECK
954/2359h5mread 1.1.1  (landing page)Hervé Pagès  WARNINGS  
955/2359h5vc 2.43.0  (landing page)Paul Theodor Pyl  WARNINGS  
956/2359hapFabia 1.51.0  (landing page)Andreas Mitterecker  WARNINGS  
957/2359Harman 1.37.0  (landing page)Jason Ross  NA  
958/2359HarmonizR 1.7.0  (landing page)Simon Schlumbohm  NA  
959/2359Harshlight 1.81.1  (landing page)Maurizio Pellegrino  ERROR  
960/2359hca 1.17.0  (landing page)Martin Morgan  ERROR  
961/2359HDF5Array 1.37.0  (landing page)Hervé Pagès  ERROR  
962/2359HDTD 1.43.0  (landing page)Anestis Touloumis  NA  
963/2359hdxmsqc 1.5.0  (landing page)Oliver M. Crook  NA  
964/2359heatmaps 1.33.1  (landing page)Malcolm Perry  NA  
965/2359Heatplus 3.17.0  (landing page)Alexander Ploner  NA  
966/2359HelloRanges 1.35.2  (landing page)Michael Lawrence  NA  
967/2359HELP 1.67.0  (landing page)Reid F. Thompson  NA  
968/2359HEM 1.81.0  (landing page)HyungJun Cho  ERROR  
969/2359hermes 1.13.1  (landing page)Daniel Sabanés Bové  NA  
970/2359HERON 1.7.0  (landing page)Sean McIlwain  NA  
971/2359Herper 1.19.3  (landing page)Thomas Carroll  NA  
972/2359HGC 1.17.0  (landing page)XGlab  WARNINGS  
973/2359hiAnnotator 1.43.1  (landing page)Nirav V Malani  ERROR  
974/2359HIBAG 1.45.0  (landing page)Xiuwen Zheng  ERROR  
975/2359HicAggR 1.5.1  (landing page)Olivier Cuvier  WARNINGS  
976/2359HiCaptuRe 0.99.15  (landing page)Laureano Tomas-Daza  NA  
977/2359HiCBricks 1.27.1  (landing page)Koustav Pal  NA  
978/2359HiCcompare 1.31.0  (landing page)Mikhail Dozmorov  NA  
979/2359HiCDCPlus 1.17.0  (landing page)Merve Sahin  NA  
980/2359HiCDOC 1.11.2  (landing page)Maigné Élise  NA  
981/2359HiCExperiment 1.9.2  (landing page)Jacques Serizay  NA  
982/2359HiContacts 1.11.0  (landing page)Jacques Serizay  ERROR  
983/2359HiCool 1.9.1  (landing page)Jacques Serizay  ERROR  
984/2359HiCParser 1.1.1  (landing page)Maigné Élise  NA  
985/2359HiCPotts 0.99.6  (landing page)Itunu. Godwin Osuntoki  NA  
986/2359hicVennDiagram 1.7.3  (landing page)Jianhong Ou  NA  
987/2359hierGWAS 1.39.0  (landing page)Laura Buzdugan  WARNINGS  
988/2359hierinf 1.27.0  (landing page)Claude Renaux  NA  
989/2359HilbertCurve 2.3.0  (landing page)Zuguang Gu  NA  
990/2359HilbertVis 1.67.2  (landing page)Simon Anders  WARNINGS  
991/2359HilbertVisGUI 1.67.1  (landing page)Simon Anders  WARNINGS  
992/2359HiLDA 1.23.0  (landing page)Zhi Yang  ERROR  
993/2359hipathia 3.9.0  (landing page)Marta R. Hidalgo  ERROR  
994/2359HIPPO 1.21.0  (landing page)Tae Kim  NA  
995/2359hiReadsProcessor 1.45.1  (landing page)Nirav V Malani  ERROR  
996/2359HIREewas 1.27.0  (landing page)Xiangyu Luo  NA  
997/2359HiTC 1.53.1  (landing page)Nicolas Servant  WARNINGS  
998/2359hmdbQuery 1.29.0  (landing page)VJ Carey  ERROR  
999/2359HMMcopy 1.51.0  (landing page)Daniel Lai  WARNINGS  
1000/2359HoloFoodR 1.3.1  (landing page)Tuomas Borman  NA  
1001/2359hoodscanR 1.7.0  (landing page)Ning Liu  NA  
1002/2359hopach 2.69.0  (landing page)Katherine S. Pollard  NA  
1003/2359HPAanalyze 1.27.2  (landing page)Anh Nhat Tran  NA  
1004/2359hpar 1.51.0  (landing page)Laurent Gatto  NA  
1005/2359HPiP 1.15.0  (landing page)Matineh Rahmatbakhsh  ERROR  
1006/2359HTqPCR 1.63.0  (landing page)Matthew N. McCall  NA  
1007/2359HTSFilter 1.49.0  (landing page)Andrea Rau  NA  
1008/2359HuBMAPR 1.3.2  (landing page)Christine Hou  NA  
1009/2359HubPub 1.17.1  (landing page)Kayla Interdonato  NA  
1010/2359hummingbird 1.19.0  (landing page)Eleni Adam  NA  
1011/2359HVP 0.99.5  (landing page)Wei Xin Chan  NA  
1012/2359HybridExpress 1.5.0  (landing page)Fabricio Almeida-Silva  NA  
1013/2359HybridMTest 1.53.0  (landing page)Demba Fofana  NA  
1014/2359hypeR 2.7.1  (landing page)Anthony Federico  ERROR  
1015/2359hyperdraw 1.61.0  (landing page)Paul Murrell  NA  
1016/2359hypergraph 1.81.0  (landing page)Bioconductor Package Maintainer  NA  
I
ABCDEFGHIJKLMNOPQRSTUVWXYZ
PackageMaintainerINSTALL/BUILD/CHECK
1017/2359iASeq 1.53.0  (landing page)Yingying Wei  NA  
1018/2359iasva 1.27.0  (landing page)Donghyung Lee , Anthony Cheng  NA  
1019/2359iBBiG 1.53.0  (landing page)Aedin Culhane  NA  
1020/2359Ibex 0.99.34  (landing page)Nick Borcherding  ERROR  
1021/2359ibh 1.57.0  (landing page)Kircicegi Korkmaz  NA  
1022/2359iBMQ 1.49.0  (landing page)Greg Imholte  NA  
1023/2359iCARE 1.37.0  (landing page)Parichoy Pal Choudhury  ERROR  
1024/2359Icens 1.81.0  (landing page)Bioconductor Package Maintainer  NA  
1025/2359icetea 1.27.1  (landing page)Vivek Bhardwaj  WARNINGS  
1026/2359iCheck 1.39.0  (landing page)Weiliang Qiu  NA  
1027/2359iChip 1.63.0  (landing page)Qianxing Mo  WARNINGS  
1028/2359iClusterPlus 1.45.0  (landing page)Qianxing Mo , Ronglai Shen  ERROR  
1029/2359iCNV 1.29.0  (landing page)Zilu Zhou  WARNINGS  
1030/2359iCOBRA 1.37.1  (landing page)Charlotte Soneson  NA  
1031/2359ideal 2.3.0  (landing page)Federico Marini  NA  
1032/2359IdeoViz 1.45.0  (landing page)Shraddha Pai  WARNINGS  
1033/2359idiogram 1.85.0  (landing page)Karl J. Dykema  NA  
1034/2359idpr 1.19.0  (landing page)William M. McFadden  NA  
1035/2359idr2d 1.23.1  (landing page)Konstantin Krismer  NA  
1036/2359IFAA 1.11.0  (landing page)Zhigang Li  NA  
1037/2359igblastr 0.99.23  (landing page)Hervé Pagès  OK  
1038/2359iGC 1.39.0  (landing page)Liang-Bo Wang  NA  
1039/2359IgGeneUsage 1.23.0  (landing page)Simo Kitanovski  NA  
1040/2359igvR 1.29.0  (landing page)Arkadiusz Gladki  NA  
1041/2359igvShiny 1.5.0  (landing page)Arkadiusz Gladki  NA  
1042/2359IHW 1.37.0  (landing page)Nikos Ignatiadis  NA  
1043/2359illuminaio 0.51.0  (landing page)Kasper Daniel Hansen  NA  
1044/2359ILoReg 1.19.0  (landing page)Johannes Smolander  ERROR  
1045/2359imageTCGA 1.1.1  (landing page)Ilaria Billato  NA  
1046/2359IMAS 1.33.1  (landing page)Seonggyun Han  ERROR  
1047/2359imcRtools 1.15.5  (landing page)Daniel Schulz  NA  
1048/2359IMMAN 1.29.0  (landing page)Minoo Ashtiani  NA  
1049/2359immApex 1.3.7  (landing page)Nick Borcherding  ERROR  
1050/2359immunoClust 1.41.2  (landing page)Till Soerensen  ERROR  
1051/2359immunogenViewer 1.3.1  (landing page)Katharina Waury  NA  
1052/2359immunotation 1.17.5  (landing page)Katharina Imkeller  NA  
1053/2359iModMix 0.99.3  (landing page)Isis Narvaez-Bandera  NA  
1054/2359IMPCdata 1.45.0  (landing page)Jeremy Mason  NA  
1055/2359impute 1.83.0  (landing page)Balasubramanian Narasimhan  WARNINGS  
1056/2359INDEED 2.23.0  (landing page)Ressom group  NA  
1057/2359iNETgrate 1.7.0  (landing page)Habil Zare  NA  
1058/2359infercnv 1.25.0  (landing page)Christophe Georgescu  ERROR  
1059/2359infinityFlow 1.19.0  (landing page)Etienne Becht  NA  
1060/2359Informeasure 1.19.0  (landing page)Chu Pan  NA  
1061/2359InPAS 2.17.1  (landing page)Jianhong Ou  ERROR  
1062/2359INPower 1.45.0  (landing page)Bill Wheeler  NA  
1063/2359INSPEcT 1.39.1  (landing page)Stefano de Pretis  NA  
1064/2359INTACT 1.9.0  (landing page)Jeffrey Okamoto  NA  
1065/2359InTAD 1.29.1  (landing page)Konstantin Okonechnikov  NA  
1066/2359intansv 1.49.0  (landing page)Wen Yao  NA  
1067/2359interacCircos 1.19.0  (landing page)Zhe Cui  NA  
1068/2359InteractionSet 1.37.1  (landing page)Aaron Lun  NA  
1069/2359InteractiveComplexHeatmap 1.17.0  (landing page)Zuguang Gu  NA  
1070/2359interactiveDisplay 1.47.1  (landing page)Bioconductor Package Maintainer  NA  
1071/2359interactiveDisplayBase 1.47.1  (landing page)Bioconductor Package Maintainer  NA  
1072/2359InterCellar 2.15.0  (landing page)Marta Interlandi  NA  
1073/2359IntEREst 1.33.0  (landing page)Ali Oghabian  NA  
1074/2359IntramiRExploreR 1.31.0  (landing page)Surajit Bhattacharya  WARNINGS  
1075/2359IONiseR 2.33.0  (landing page)Mike Smith  NA  
1076/2359iPath 1.15.0  (landing page)Kenong Su  ERROR  
1077/2359ipdDb 1.27.0  (landing page)Steffen Klasberg  NA  
1078/2359IPO 1.35.0  (landing page)Thomas Lieb  ERROR  
1079/2359IRanges 2.43.5  (landing page)Hervé Pagès  WARNINGS  
1080/2359ISAnalytics 1.19.3  (landing page)Francesco Gazzo  NA  
1081/2359iscream 0.99.7  (landing page)James Eapen  ERROR  
1082/2359iSEE 2.21.1  (landing page)Kevin Rue-Albrecht  NA  
1083/2359iSEEde 1.7.0  (landing page)Kevin Rue-Albrecht  NA  
1084/2359iSEEfier 1.5.0  (landing page)Najla Abassi  NA  
1085/2359iSEEhex 1.11.0  (landing page)Kevin Rue-Albrecht  NA  
1086/2359iSEEhub 1.11.0  (landing page)Kevin Rue-Albrecht  NA  
1087/2359iSEEindex 1.7.0  (landing page)Kevin Rue-Albrecht  NA  
1088/2359iSEEpathways 1.7.0  (landing page)Kevin Rue-Albrecht  NA  
1089/2359iSEEtree 1.3.2  (landing page)Giulio Benedetti  NA  
1090/2359iSEEu 1.21.0  (landing page)Kevin Rue-Albrecht  WARNINGS  
1091/2359iSeq 1.61.0  (landing page)Qianxing Mo  NA  
1092/2359ISLET 1.11.0  (landing page)Hao Feng  NA  
1093/2359islify 1.1.1  (landing page)Jakob Theorell  NA  
1094/2359isobar 1.55.0  (landing page)Florian P Breitwieser  WARNINGS  
1095/2359IsoBayes 1.7.1  (landing page)Simone Tiberi  NA  
1096/2359IsoCorrectoR 1.27.0  (landing page)Christian Kohler  NA  
1097/2359IsoCorrectoRGUI 1.25.0  (landing page)Christian Kohler  NA  
1098/2359IsoformSwitchAnalyzeR 2.9.1  (landing page)Kristoffer Vitting-Seerup  NA  
1099/2359ISoLDE 1.37.0  (landing page)Christelle Reynès  WARNINGS  
1100/2359isomiRs 1.37.1  (landing page)Lorena Pantano  ERROR  
1101/2359ITALICS 2.69.0  (landing page)Guillem Rigaill  NA  
1102/2359iterativeBMA 1.67.0  (landing page)Ka Yee Yeung  NA  
1103/2359iterativeBMAsurv 1.67.0  (landing page)Ka Yee Yeung  WARNINGS  
1104/2359IVAS 2.29.1  (landing page)Seonggyun Han  WARNINGS  
1105/2359ivygapSE 1.31.0  (landing page)VJ Carey  NA  
1106/2359IWTomics 1.33.0  (landing page)Marzia A Cremona  WARNINGS  
J
ABCDEFGHIJKLMNOPQRSTUVWXYZ
PackageMaintainerINSTALL/BUILD/CHECK
1107/2359jazzPanda 1.1.3  (landing page)Melody Jin  NA  
K
ABCDEFGHIJKLMNOPQRSTUVWXYZ
PackageMaintainerINSTALL/BUILD/CHECK
1108/2359karyoploteR 1.35.3  (landing page)Bernat Gel  NA  
1109/2359katdetectr 1.11.1  (landing page)Daan Hazelaar  NA  
1110/2359KBoost 1.17.0  (landing page)Luis F. Iglesias-Martinez  NA  
1111/2359KCsmart 2.67.0  (landing page)Jorma de Ronde  WARNINGS  
1112/2359kebabs 1.43.1  (landing page)Ulrich Bodenhofer  NA  
1113/2359KEGGgraph 1.69.0  (landing page)Jitao David Zhang  NA  
1114/2359KEGGlincs 1.35.0  (landing page)Shana White , Mario Medvedovic  NA  
1115/2359keggorthology 2.61.0  (landing page)VJ Carey  NA  
1116/2359KEGGREST 1.49.2  (landing page)Bioconductor Package Maintainer  NA  
1117/2359KinSwingR 1.27.0  (landing page)Ashley J. Waardenberg  NA  
1118/2359kissDE 1.29.0  (landing page)Aurélie Siberchicot  NA  
1119/2359kmcut 1.3.0  (landing page)Igor Kuznetsov  NA  
1120/2359KnowSeq 1.23.0  (landing page)Daniel Castillo-Secilla  ERROR  
1121/2359knowYourCG 1.5.2  (landing page)Goldberg David  ERROR  
1122/2359koinar 1.3.0  (landing page)Ludwig Lautenbacher  NA  
L
ABCDEFGHIJKLMNOPQRSTUVWXYZ
PackageMaintainerINSTALL/BUILD/CHECK
1123/2359LACE 2.13.1  (landing page)Davide Maspero  NA  
1124/2359lapmix 1.75.0  (landing page)Yann Ruffieux  ERROR  
1125/2359LBE 1.77.0  (landing page)Cyril Dalmasso  NA  
1126/2359ldblock 1.39.1  (landing page)VJ Carey  NA  
1127/2359LEA 3.21.0  (landing page)Olivier Francois  NA  
1128/2359LedPred 1.43.0  (landing page)Aitor Gonzalez  WARNINGS  
1129/2359lefser 1.19.1  (landing page)Sehyun Oh  NA  
1130/2359lemur 1.7.1  (landing page)Constantin Ahlmann-Eltze  WARNINGS  
1131/2359les 1.59.0  (landing page)Julian Gehring  NA  
1132/2359levi 1.27.0  (landing page)Jose Luiz Rybarczyk Filho  WARNINGS  
1133/2359lfa 2.9.0  (landing page)Alejandro Ochoa  NA  
1134/2359Lheuristic 1.1.0  (landing page)Sanchez Pla Alex  NA  
1135/2359limma 3.65.7  (landing page)Gordon Smyth  NA  
1136/2359limmaGUI 1.85.0  (landing page)Gordon Smyth  NA  
1137/2359limpa 1.1.7  (landing page)Gordon Smyth  NA  
1138/2359limpca 1.5.1  (landing page)Manon Martin  NA  
1139/2359LimROTS 1.1.4  (landing page)Ali Mostafa Anwar  NA  
1140/2359lineagespot 1.13.0  (landing page)Nikolaos Pechlivanis  NA  
1141/2359LinkHD 1.23.0  (landing page)"Laura M Zingaretti"  NA  
1142/2359linkSet 0.99.19  (landing page)Gilbert Han  ERROR  
1143/2359Linnorm 2.33.0  (landing page)Shun Hang Yip  NA  
1144/2359LinTInd 1.13.1  (landing page)Luyue Wang  ERROR  
1145/2359lionessR 1.23.0  (landing page)Ping-Han Hsieh  NA  
1146/2359lipidr 2.23.0  (landing page)Ahmed Mohamed  NA  
1147/2359LipidTrend 0.99.2  (landing page)Wei-Chung Cheng  NA  
1148/2359LiquidAssociation 1.63.0  (landing page)Yen-Yi Ho  NA  
1149/2359lisaClust 1.17.0  (landing page)Ellis Patrick  NA  
1150/2359lmdme 1.51.0  (landing page)Cristobal Fresno  WARNINGS  
1151/2359LOBSTAHS 1.35.1  (landing page)Henry Holm  NA  
1152/2359loci2path 1.29.1  (landing page)Tianlei Xu  NA  
1153/2359logicFS 2.29.0  (landing page)Holger Schwender  NA  
1154/2359LOLA 1.39.1  (landing page)Nathan Sheffield  NA  
1155/2359looking4clusters 0.99.4  (landing page)David Barrios  NA  
1156/2359LoomExperiment 1.27.0  (landing page)Bioconductor Package Maintainer  NA  
1157/2359LPE 1.83.0  (landing page)Nitin Jain  NA  
1158/2359lpNet 2.41.0  (landing page)Lars Kaderali  WARNINGS  
1159/2359lpsymphony 1.37.0  (landing page)Vladislav Kim  WARNINGS  
1160/2359LRBaseDbi 2.19.1  (landing page)Koki Tsuyuzaki  NA  
1161/2359LRcell 1.17.0  (landing page)Wenjing Ma  NA  
1162/2359lumi 2.61.0  (landing page)Lei Huang  WARNINGS  
1163/2359lute 1.5.1  (landing page)Sean K Maden  ERROR  
1164/2359LymphoSeq 1.37.0  (landing page)David Coffey  NA  
M
ABCDEFGHIJKLMNOPQRSTUVWXYZ
PackageMaintainerINSTALL/BUILD/CHECK
1165/2359M3C 1.31.0  (landing page)Christopher John  NA  
1166/2359M3Drop 1.35.0  (landing page)Tallulah Andrews  NA  
1167/2359m6Aboost 1.15.1  (landing page)You Zhou  ERROR  
1168/2359Maaslin2 1.23.0  (landing page)Lauren McIver  ERROR  
1169/2359maaslin3 1.1.2  (landing page)William Nickols  NA  
1170/2359Macarron 1.13.2  (landing page)Sagun Maharjan  ERROR  
1171/2359maCorrPlot 1.79.0  (landing page)Alexander Ploner  NA  
1172/2359MACSQuantifyR 1.23.0  (landing page)Raphaël Bonnet  NA  
1173/2359MACSr 1.17.0  (landing page)Qiang Hu  NA  
1174/2359made4 1.83.0  (landing page)Aedin Culhane  NA  
1175/2359MADSEQ 1.35.1  (landing page)Yu Kong  ERROR  
1176/2359maftools 2.25.10  (landing page)Anand Mayakonda  WARNINGS  
1177/2359MAGAR 1.17.0  (landing page)Michael Scherer  NA  
1178/2359magpie 1.9.0  (landing page)Daoyu Duan  WARNINGS  
1179/2359magrene 1.11.0  (landing page)Fabrício Almeida-Silva  NA  
1180/2359MAI 1.15.0  (landing page)Jonathan Dekermanjian  NA  
1181/2359MAIT 1.43.0  (landing page)Pol Sola-Santos  ERROR  
1182/2359makecdfenv 1.85.0  (landing page)James W. MacDonald  WARNINGS  
1183/2359MANOR 1.81.0  (landing page)Pierre Neuvial  NA  
1184/2359MantelCorr 1.79.0  (landing page)Brian Steinmeyer  NA  
1185/2359MAPFX 1.5.0  (landing page)Hsiao-Chi Liao  NA  
1186/2359maPredictDSC 1.47.0  (landing page)Adi Laurentiu Tarca  TIMEOUT  
1187/2359mapscape 1.33.0  (landing page)Maia Smith  WARNINGS  
1188/2359mariner 1.9.1  (landing page)Eric Davis  ERROR  
1189/2359markeR 0.99.6  (landing page)Rita Martins-Silva  NA  
1190/2359marr 1.19.0  (landing page)Tusharkanti Ghosh  NA  
1191/2359marray 1.87.0  (landing page)Yee Hwa (Jean) Yang  NA  
1192/2359martini 1.29.0  (landing page)Hector Climente-Gonzalez  NA  
1193/2359maser 1.27.1  (landing page)Diogo F.T. Veiga  NA  
1194/2359maSigPro 1.81.0  (landing page)Maria Jose Nueda  NA  
1195/2359maskBAD 1.53.0  (landing page)Michael Dannemann  NA  
1196/2359MassArray 1.61.0  (landing page)Reid F. Thompson  NA  
1197/2359massiR 1.45.0  (landing page)Sam Buckberry  NA  
1198/2359MassSpecWavelet 1.75.1  (landing page)Sergio Oller Moreno  NA  
1199/2359MAST 1.35.2  (landing page)Andrew McDavid  NA  
1200/2359mastR 1.9.1  (landing page)Jinjin Chen  NA  
1201/2359matchBox 1.51.0  (landing page)Luigi Marchionni , Anuj Gupta  NA  
1202/2359MatrixGenerics 1.21.0  (landing page)Peter Hickey  NA  
1203/2359MatrixQCvis 1.17.1  (landing page)Thomas Naake  NA  
1204/2359MatrixRider 1.41.0  (landing page)Elena Grassi  WARNINGS  
1205/2359matter 2.11.2  (landing page)Kylie A. Bemis  NA  
1206/2359MBAmethyl 1.43.0  (landing page)Tao Wang  NA  
1207/2359MBASED 1.43.0  (landing page)Oleg Mayba  NA  
1208/2359MBCB 1.63.0  (landing page)Bo Yao  NA  
1209/2359MBECS 1.13.0  (landing page)Michael Olbrich  NA  
1210/2359mbkmeans 1.25.0  (landing page)Davide Risso  NA  
1211/2359mBPCR 1.63.0  (landing page)P.M.V. Rancoita  NA  
1212/2359MBQN 2.21.0  (landing page)Eva Brombacher  NA  
1213/2359mbQTL 1.9.0  (landing page)Mercedeh Movassagh  NA  
1214/2359MBttest 1.37.0  (landing page)Yuan-De Tan  NA  
1215/2359MCbiclust 1.33.0  (landing page)Robert Bentham  NA  
1216/2359mCSEA 1.29.0  (landing page)Jordi Martorell-Marugán  ERROR  
1217/2359mdp 1.29.0  (landing page)Helder Nakaya  NA  
1218/2359mdqc 1.71.0  (landing page)Gabriela Cohen-Freue  NA  
1219/2359MDTS 1.29.0  (landing page)Jack M.. Fu  NA  
1220/2359MEAL 1.39.0  (landing page)Xavier Escribà Montagut  WARNINGS  
1221/2359MeasurementError.cor 1.81.0  (landing page)Beiying Ding  NA  
1222/2359MEAT 1.21.0  (landing page)Sarah Voisin  WARNINGS  
1223/2359MEB 1.23.1  (landing page)Jiadi Zhu  NA  
1224/2359MEDIPS 1.61.0  (landing page)Lukas Chavez  NA  
1225/2359MEDME 1.69.0  (landing page)Mattia Pelizzola  WARNINGS  
1226/2359megadepth 1.19.0  (landing page)David Zhang  ERROR  
1227/2359MEIGOR 1.43.0  (landing page)Jose A. Egea  NA  
1228/2359Melissa 1.25.0  (landing page)C. A. Kapourani  NA  
1229/2359memes 1.17.2  (landing page)Spencer Nystrom  WARNINGS  
1230/2359Mergeomics 1.37.0  (landing page)Zeyneb Kurt  NA  
1231/2359MeSHDbi 1.45.0  (landing page)Koki Tsuyuzaki  NA  
1232/2359meshes 1.35.0  (landing page)Guangchuang Yu  NA  
1233/2359meshr 2.15.0  (landing page)Koki Tsuyuzaki  NA  
1234/2359MesKit 1.19.0  (landing page)Mengni Liu  WARNINGS  
1235/2359messina 1.45.0  (landing page)Mark Pinese  WARNINGS  
1236/2359metabCombiner 1.19.0  (landing page)Hani Habra  NA  
1237/2359metabinR 1.11.0  (landing page)Anestis Gkanogiannis  NA  
1238/2359MetaboAnnotation 1.13.3  (landing page)Johannes Rainer  NA  
1239/2359MetaboCoreUtils 1.17.1  (landing page)Johannes Rainer  NA  
1240/2359MetaboDynamics 1.99.11  (landing page)Katja Danielzik  ERROR  
1241/2359metabolomicsWorkbenchR 1.19.0  (landing page)Gavin Rhys Lloyd  NA  
1242/2359metabomxtr 1.43.0  (landing page)Michael Nodzenski  NA  
1243/2359MetaboSignal 1.39.0  (landing page)Andrea Rodriguez-Martinez  NA  
1244/2359metaCCA 1.37.0  (landing page)Anna Cichonska  WARNINGS  
1245/2359MetaCyto 1.31.0  (landing page)Zicheng Hu  NA  
1246/2359MetaDICT 0.99.4  (landing page)Bo Yuan  NA  
1247/2359metagene2 1.25.0  (landing page)Eric Fournier  WARNINGS  
1248/2359metagenomeSeq 1.51.0  (landing page)Joseph N. Paulson  NA  
1249/2359metahdep 1.67.0  (landing page)John R. Stevens  ERROR  
1250/2359metaMS 1.45.0  (landing page)Yann Guitton  NA  
1251/2359MetaNeighbor 1.29.0  (landing page)Stephan Fischer  ERROR  
1252/2359MetaPhOR 1.11.0  (landing page)Emily Isenhart  NA  
1253/2359metapod 1.17.0  (landing page)Aaron Lun  NA  
1254/2359metapone 1.15.0  (landing page)Tianwei Yu  TIMEOUT  
1255/2359metaSeq 1.49.0  (landing page)Koki Tsuyuzaki  NA  
1256/2359metaseqR2 1.21.2  (landing page)Panagiotis Moulos  NA  
1257/2359MetCirc 1.39.0  (landing page)Thomas Naake  NA  
1258/2359methimpute 1.31.0  (landing page)Aaron Taudt  WARNINGS  
1259/2359methInheritSim 1.31.1  (landing page)Pascal Belleau  NA  
1260/2359methodical 1.5.1  (landing page)Richard Heery  ERROR  
1261/2359MethPed 1.37.0  (landing page)Helena Carén  NA  
1262/2359MethReg 1.19.0  (landing page)Tiago Silva  NA  
1263/2359methrix 1.23.1  (landing page)Anand Mayakonda  NA  
1264/2359MethTargetedNGS 1.41.0  (landing page)Muhammad Ahmer Jamil  NA  
1265/2359MethylAid 1.43.0  (landing page)L.J.Sinke  NA  
1266/2359methylCC 1.23.0  (landing page)Stephanie C. Hicks  NA  
1267/2359methylclock 1.15.0  (landing page)Dolors Pelegri-Siso  NA  
1268/2359methylGSA 1.27.0  (landing page)Xu Ren  NA  
1269/2359methyLImp2 1.5.0  (landing page)Anna Plaksienko  NA  
1270/2359methylInheritance 1.33.1  (landing page)Astrid Deschênes  NA  
1271/2359methylKit 1.35.1  (landing page)Altuna Akalin , Alexander Blume  NA  
1272/2359MethylMix 2.39.0  (landing page)Olivier Gevaert  NA  
1273/2359methylMnM 1.47.0  (landing page)Yan Zhou  NA  
1274/2359methylPipe 1.43.1  (landing page)Mattia Furlan  WARNINGS  
1275/2359methylscaper 1.17.0  (landing page)Bacher Rhonda  NA  
1276/2359MethylSeekR 1.49.3  (landing page)Lukas Burger  NA  
1277/2359methylSig 1.21.2  (landing page)Raymond G. Cavalcante  NA  
1278/2359methylumi 2.55.0  (landing page)Sean Davis  NA  
1279/2359MetID 1.27.0  (landing page)Zhenzhi Li  NA  
1280/2359MetMashR 1.3.3  (landing page)Gavin Rhys Lloyd  NA  
1281/2359MetNet 1.27.3  (landing page)Thomas Naake  ERROR  
1282/2359mfa 1.31.0  (landing page)Kieran Campbell  ERROR  
1283/2359Mfuzz 2.69.0  (landing page)Matthias Futschik  NA  
1284/2359MGFM 1.43.0  (landing page)Khadija El Amrani  NA  
1285/2359MGFR 1.35.0  (landing page)Khadija El Amrani  ERROR  
1286/2359MGnifyR 1.5.1  (landing page)Tuomas Borman  NA  
1287/2359mgsa 1.57.0  (landing page)Sebastian Bauer  WARNINGS  
1288/2359mia 1.17.10  (landing page)Tuomas Borman  ERROR  
1289/2359miaDash 1.1.5  (landing page)Giulio Benedetti  NA  
1290/2359miaSim 1.15.1  (landing page)Yagmur Simsek  TIMEOUT  
1291/2359miaTime 0.99.13  (landing page)Tuomas Borman  NA  
1292/2359miaViz 1.17.10  (landing page)Tuomas Borman  NA  
1293/2359MiChip 1.63.0  (landing page)Jonathon Blake  NA  
1294/2359microbiome 1.31.4  (landing page)Leo Lahti  NA  
1295/2359microbiomeDASim 1.23.0  (landing page)Justin Williams  NA  
1296/2359microbiomeExplorer 1.19.0  (landing page)Janina Reeder  NA  
1297/2359MicrobiomeProfiler 1.15.0  (landing page)Guangchuang Yu  NA  
1298/2359MicrobiotaProcess 1.21.2  (landing page)Shuangbin Xu  NA  
1299/2359microRNA 1.67.0  (landing page)"Michael Lawrence"  NA  
1300/2359microSTASIS 1.9.0  (landing page)Pedro Sánchez-Sánchez  ERROR  
1301/2359MICSQTL 1.7.0  (landing page)Qian Li  NA  
1302/2359midasHLA 1.17.0  (landing page)Maciej Migdał  ERROR  
1303/2359miloR 2.5.2  (landing page)Mike Morgan  NA  
1304/2359mimager 1.33.0  (landing page)Aaron Wolen  NA  
1305/2359mina 1.17.0  (landing page)Rui Guan  ERROR  
1306/2359MineICA 1.49.0  (landing page)Anne Biton  ERROR  
1307/2359minet 3.67.0  (landing page)Patrick E. Meyer  NA  
1308/2359minfi 1.55.1  (landing page)Kasper Daniel Hansen  NA  
1309/2359MinimumDistance 1.53.1  (landing page)Robert Scharpf  WARNINGS  
1310/2359MiPP 1.81.0  (landing page)Sukwoo Kim  NA  
1311/2359miQC 1.17.0  (landing page)Ariel Hippen  ERROR  
1312/2359MIRA 1.31.0  (landing page)John Lawson  NA  
1313/2359MiRaGE 1.51.0  (landing page)Y-h. Taguchi  WARNINGS  
1314/2359miRBaseConverter 1.33.0  (landing page)Taosheng Xu Taosheng Xu  NA  
1315/2359miRcomp 1.39.1  (landing page)Matthew N. McCall  NA  
1316/2359mirIntegrator 1.39.0  (landing page)Diana Diaz  NA  
1317/2359MIRit 1.5.2  (landing page)Jacopo Ronchi  NA  
1318/2359miRLAB 1.39.0  (landing page)Thuc Duy Le  WARNINGS  
1319/2359miRNAmeConverter 1.37.0  (landing page)Stefan J. Haunsberger  WARNINGS  
1320/2359miRNApath 1.69.0  (landing page)James M. Ward  NA  
1321/2359miRNAtap 1.43.0  (landing page)T. Ian Simpson  NA  
1322/2359miRSM 2.5.4  (landing page)Junpeng Zhang  NA  
1323/2359miRspongeR 2.13.5  (landing page)Junpeng Zhang  NA  
1324/2359mirTarRnaSeq 1.17.0  (landing page)Mercedeh Movassagh  NA  
1325/2359missMethyl 1.43.1  (landing page)Belinda Phipson  WARNINGS  
1326/2359missRows 1.29.0  (landing page)Gonzalez Ignacio  NA  
1327/2359mist 1.1.0  (landing page)Daoyu Duan  WARNINGS  
1328/2359mistyR 1.17.0  (landing page)Jovan Tanevski  ERROR  
1329/2359mitch 1.21.3  (landing page)Mark Ziemann  NA  
1330/2359mitoClone2 1.15.4  (landing page)Benjamin Story  WARNINGS  
1331/2359mitology 1.1.3  (landing page)Stefania Pirrotta  NA  
1332/2359mixOmics 6.33.0  (landing page)Eva Hamrud  NA  
1333/2359MLInterfaces 1.89.2  (landing page)Vincent Carey  WARNINGS  
1334/2359MLP 1.57.0  (landing page)Tobias Verbeke  ERROR  
1335/2359MLSeq 2.27.0  (landing page)Gokmen Zararsiz  NA  
1336/2359MMDiff2 1.37.1  (landing page)Gabriele Schweikert  NA  
1337/2359MMUPHin 1.23.0  (landing page)Siyuan MA  NA  
1338/2359mnem 1.25.0  (landing page)Martin Pirkl  NA  
1339/2359moanin 1.17.0  (landing page)Nelle Varoquaux  NA  
1340/2359mobileRNA 1.5.2  (landing page)Katie Jeynes-Cupper  ERROR  
1341/2359MODA 1.35.0  (landing page)Dong Li  NA  
1342/2359ModCon 1.17.0  (landing page)Johannes Ptok  NA  
1343/2359Modstrings 1.25.0  (landing page)Felix G.M. Ernst  NA  
1344/2359MOFA2 1.19.0  (landing page)Ricard Argelaguet  ERROR  
1345/2359MOGAMUN 1.19.0  (landing page)Elva-María Novoa-del-Toro  ERROR  
1346/2359mogsa 1.43.0  (landing page)Chen Meng  NA  
1347/2359MoleculeExperiment 1.9.0  (landing page)Shila Ghazanfar  NA  
1348/2359MOMA 1.21.0  (landing page)Sunny Jones  NA  
1349/2359monaLisa 1.15.3  (landing page)Michael Stadler  ERROR  
1350/2359monocle 2.37.0  (landing page)Cole Trapnell  NA  
1351/2359Moonlight2R 1.7.4  (landing page)Matteo Tiberti  NA  
1352/2359MoonlightR 1.35.0  (landing page)Matteo Tiberti  NA  
1353/2359mosaics 2.47.1  (landing page)Dongjun Chung  NA  
1354/2359mosbi 1.15.0  (landing page)Tim Daniel Rose  ERROR  
1355/2359MOSClip 1.3.3  (landing page)Paolo Martini  NA  
1356/2359mosdef 1.5.1  (landing page)Federico Marini  NA  
1357/2359MOSim 2.5.0  (landing page)Sonia Tarazona  WARNINGS  
1358/2359Motif2Site 1.13.0  (landing page)Peyman Zarrineh  NA  
1359/2359motifbreakR 2.23.0  (landing page)Simon Gert Coetzee  WARNINGS  
1360/2359motifcounter 1.33.0  (landing page)Wolfgang Kopp  NA  
1361/2359MotifDb 1.51.0  (landing page)Paul Shannon  WARNINGS  
1362/2359motifmatchr 1.31.1  (landing page)Alicia Schep  NA  
1363/2359MotifPeeker 1.1.3  (landing page)Hiranyamaya Dash  NA  
1364/2359motifStack 1.53.1  (landing page)Jianhong Ou  NA  
1365/2359motifTestR 1.5.6  (landing page)Stevie Pederson  NA  
1366/2359MouseFM 1.19.1  (landing page)Matthias Munz  NA  
1367/2359MPAC 1.3.1  (landing page)Peng Liu  NA  
1368/2359MPFE 1.45.0  (landing page)Conrad Burden  NA  
1369/2359mpra 1.31.0  (landing page)Leslie Myint  NA  
1370/2359MPRAnalyze 1.27.0  (landing page)Tal Ashuach  NA  
1371/2359msa 1.41.3  (landing page)Ulrich Bodenhofer  WARNINGS  
1372/2359MSA2dist 1.13.0  (landing page)Kristian K Ullrich  NA  
1373/2359MsBackendMassbank 1.17.1  (landing page)RforMassSpectrometry Package Maintainer  NA  
1374/2359MsBackendMetaboLights 1.3.1  (landing page)Johannes Rainer  NA  
1375/2359MsBackendMgf 1.17.0  (landing page)RforMassSpectrometry Package Maintainer  NA  
1376/2359MsBackendMsp 1.13.0  (landing page)Johannes Rainer  NA  
1377/2359MsBackendRawFileReader 1.15.1  (landing page)Christian Panse  ERROR  
1378/2359MsBackendSql 1.9.4  (landing page)Johannes Rainer  NA  
1379/2359MsCoreUtils 1.21.0  (landing page)RforMassSpectrometry Package Maintainer  NA  
1380/2359MsDataHub 1.9.0  (landing page)Laurent Gatto  ERROR  
1381/2359MsExperiment 1.11.1  (landing page)Laurent Gatto  NA  
1382/2359MsFeatures 1.17.1  (landing page)Johannes Rainer  NA  
1383/2359msgbsR 1.33.1  (landing page)Benjamin Mayne  ERROR  
1384/2359msImpute 1.19.0  (landing page)Soroor Hediyeh-zadeh  NA  
1385/2359mslp 1.11.0  (landing page)Chunxuan Shao  ERROR  
1386/2359msmsEDA 1.47.0  (landing page)Josep Gregori  NA  
1387/2359msmsTests 1.47.0  (landing page)Josep Gregori i Font  NA  
1388/2359MSnbase 2.35.2  (landing page)Laurent Gatto  NA  
1389/2359MSnID 1.43.0  (landing page)Vlad Petyuk  ERROR  
1390/2359mspms 1.1.0  (landing page)Charlie Bayne  NA  
1391/2359MSPrep 1.19.0  (landing page)Max McGrath  ERROR  
1392/2359msPurity 1.35.0  (landing page)Thomas N. Lawson  ERROR  
1393/2359msqrob2 1.17.1  (landing page)Lieven Clement  NA  
1394/2359MsQuality 1.9.2  (landing page)Thomas Naake  ERROR  
1395/2359MSstats 4.17.2  (landing page)Meena Choi  WARNINGS  
1396/2359MSstatsBig 1.7.0  (landing page)Mateusz Staniak  NA  
1397/2359MSstatsBioNet 1.1.7  (landing page)Anthony Wu  NA  
1398/2359MSstatsConvert 1.19.3  (landing page)Mateusz Staniak  NA  
1399/2359MSstatsLiP 1.15.3  (landing page)Anthony Wu  NA  
1400/2359MSstatsLOBD 1.17.0  (landing page)Devon Kohler  NA  
1401/2359MSstatsPTM 2.11.5  (landing page)Anthony Wu  WARNINGS  
1402/2359MSstatsQC 2.27.0  (landing page)Eralp Dogu  NA  
1403/2359MSstatsQCgui 1.29.0  (landing page)Eralp Dogu  NA  
1404/2359MSstatsResponse 0.99.2  (landing page)Sarah Szvetecz  NA  
1405/2359MSstatsShiny 1.11.6  (landing page)Anthony Wu  WARNINGS  
1406/2359MSstatsTMT 2.17.0  (landing page)Devon Kohler  NA  
1407/2359MuData 1.13.0  (landing page)Ilia Kats  NA  
1408/2359Mulcom 1.59.0  (landing page)Claudio Isella  WARNINGS  
1409/2359MultiAssayExperiment 1.35.9  (landing page)Marcel Ramos  NA  
1410/2359MultiBaC 1.19.0  (landing page)The package maintainer  NA  
1411/2359multiClust 1.39.0  (landing page)Nathan Lawlor  NA  
1412/2359multicrispr 1.19.1  (landing page)Aditya Bhagwat  ERROR  
1413/2359MultiDataSet 1.37.0  (landing page)Xavier Escribà Montagut  WARNINGS  
1414/2359multiGSEA 1.19.0  (landing page)Sebastian Canzler  NA  
1415/2359multiHiCcompare 1.27.0  (landing page)Mikhail Dozmorov  NA  
1416/2359MultiMed 2.31.0  (landing page)Simina M. Boca  NA  
1417/2359multiMiR 1.31.0  (landing page)Spencer Mahaffey  NA  
1418/2359MultimodalExperiment 1.9.0  (landing page)Lucas Schiffer  NA  
1419/2359MultiRNAflow 1.7.2  (landing page)Rodolphe Loubaton  ERROR  
1420/2359multiscan 1.69.0  (landing page)Mizanur Khondoker  NA  
1421/2359multistateQTL 2.1.2  (landing page)Amelia Dunstone  NA  
1422/2359multiWGCNA 1.7.0  (landing page)Dario Tommasini  ERROR  
1423/2359multtest 2.65.0  (landing page)Katherine S. Pollard  WARNINGS  
1424/2359mumosa 1.17.0  (landing page)Aaron Lun  NA  
1425/2359MungeSumstats 1.17.5  (landing page)Alan Murphy  ERROR  
1426/2359muscat 1.23.2  (landing page)Helena L. Crowell  NA  
1427/2359muscle 3.51.0  (landing page)Alex T. Kalinka  WARNINGS  
1428/2359musicatk 2.3.2  (landing page)Joshua D. Campbell  ERROR  
1429/2359MutationalPatterns 3.19.1  (landing page)Mark van Roosmalen  ERROR  
1430/2359mutscan 0.99.2  (landing page)Charlotte Soneson  NA  
1431/2359MVCClass 1.83.0  (landing page)Elizabeth Whalen  NA  
1432/2359MWASTools 1.33.0  (landing page)Andrea Rodriguez-Martinez , Rafael Ayala  NA  
1433/2359mygene 1.45.0  (landing page)Adam Mark, Cyrus Afrasiabi, Chunlei Wu  NA  
1434/2359myvariant 1.39.1  (landing page)Adam Mark, Chunlei Wu  NA  
1435/2359mzID 1.47.0  (landing page)Laurent Gatto  NA  
1436/2359mzR 2.43.3  (landing page)Steffen Neumann  WARNINGS  
N
ABCDEFGHIJKLMNOPQRSTUVWXYZ
PackageMaintainerINSTALL/BUILD/CHECK
1437/2359NADfinder 1.33.0  (landing page)Jianhong Ou  ERROR  
1438/2359NanoMethViz 3.5.6  (landing page)Shian Su  NA  
1439/2359NanoStringDiff 1.39.0  (landing page)tingting zhai ,hong wang  WARNINGS  
1440/2359NanoStringNCTools 1.17.2  (landing page)Maddy Griswold  NA  
1441/2359NanoTube 1.15.0  (landing page)Caleb Class  NA  
1442/2359NBAMSeq 1.25.0  (landing page)Xu Ren  NA  
1443/2359ncdfFlow 2.55.0  (landing page)Mike Jiang  WARNINGS  
1444/2359ncGTW 1.23.0  (landing page)Chiung-Ting Wu  NA  
1445/2359NCIgraph 1.57.0  (landing page)Laurent Jacob  NA  
1446/2359ncRNAtools 1.19.0  (landing page)Lara Selles Vidal  NA  
1447/2359ndexr 1.31.0  (landing page)Florian Auer  NA  
1448/2359nearBynding 1.19.1  (landing page)Veronica Busa  NA  
1449/2359Nebulosa 1.19.0  (landing page)Jose Alquicira-Hernandez  NA  
1450/2359nempi 1.17.0  (landing page)Martin Pirkl  NA  
1451/2359NetActivity 1.11.0  (landing page)Carlos Ruiz-Arenas  NA  
1452/2359netboost 2.17.0  (landing page)Pascal Schlosser  ERROR  
1453/2359nethet 1.41.0  (landing page)Nicolas Staedler  WARNINGS  
1454/2359NetPathMiner 1.45.0  (landing page)Ahmed Mohamed  NA  
1455/2359netprioR 1.35.0  (landing page)Fabian Schmich  NA  
1456/2359netresponse 1.69.0  (landing page)Leo Lahti  NA  
1457/2359NetSAM 1.49.0  (landing page)Zhiao Shi  NA  
1458/2359netSmooth 1.29.0  (landing page)Jonathan Ronen  NA  
1459/2359netZooR 1.13.23  (landing page)Marouen Ben Guebila  ERROR  
1460/2359NewWave 1.19.0  (landing page)Federico Agostinis  NA  
1461/2359ngsReports 2.11.1  (landing page)Stevie Pederson  NA  
1462/2359nipalsMCIA 1.7.0  (landing page)Maximilian Mattessich  ERROR  
1463/2359nnNorm 2.73.0  (landing page)Adi Laurentiu Tarca  NA  
1464/2359nnSVG 1.13.1  (landing page)Lukas M. Weber  NA  
1465/2359NOISeq 2.53.0  (landing page)Sonia Tarazona  NA  
1466/2359nondetects 2.39.1  (landing page)Valeriia Sherina  NA  
1467/2359NoRCE 1.21.2  (landing page)Gulden Olgun  NA  
1468/2359normalize450K 1.37.0  (landing page)Jonathan Alexander Heiss  NA  
1469/2359NormalyzerDE 1.27.0  (landing page)Jakob Willforss  WARNINGS  
1470/2359NormqPCR 1.55.0  (landing page)James Perkins  NA  
1471/2359normr 1.35.0  (landing page)Johannes Helmuth  WARNINGS  
1472/2359notame 0.99.8  (landing page)Vilhelm Suksi  NA  
1473/2359notameStats 0.99.2  (landing page)Vilhelm Suksi  NA  
1474/2359notameViz 0.99.6  (landing page)Vilhelm Suksi  NA  
1475/2359NPARC 1.21.0  (landing page)Nils Kurzawa  NA  
1476/2359npGSEA 1.45.0  (landing page)Jessica Larson  NA  
1477/2359NTW 1.59.0  (landing page)Yuanhua Liu  WARNINGS  
1478/2359nucleoSim 1.37.0  (landing page)Astrid Deschênes  NA  
1479/2359nucleR 2.41.1  (landing page)Alba Sala  WARNINGS  
1480/2359nuCpos 1.27.0  (landing page)Hiroaki Kato  NA  
1481/2359nullranges 1.15.1  (landing page)Michael Love  NA  
1482/2359NuPoP 2.17.0  (landing page)Ji-Ping Wang  NA  
O
ABCDEFGHIJKLMNOPQRSTUVWXYZ
PackageMaintainerINSTALL/BUILD/CHECK
1483/2359occugene 1.69.0  (landing page)Oliver Will  NA  
1484/2359OCplus 1.83.0  (landing page)Alexander Ploner  NA  
1485/2359octad 1.11.1  (landing page)E. Chekalin  NA  
1486/2359odseq 1.37.0  (landing page)José Jiménez  NA  
1487/2359OGRE 1.13.1  (landing page)Sven Berres  NA  
1488/2359oligo 1.73.0  (landing page)Benilton Carvalho  NA  
1489/2359oligoClasses 1.71.0  (landing page)Benilton Carvalho and Robert Scharpf  WARNINGS  
1490/2359OLIN 1.87.0  (landing page)Matthias Futschik  NA  
1491/2359OLINgui 1.83.0  (landing page)Matthias Futschik  NA  
1492/2359omada 1.11.0  (landing page)Sokratis Kariotis  NA  
1493/2359OmaDB 2.25.0  (landing page)Klara Kaleb , Adrian Altenhoff  ERROR  
1494/2359omicade4 1.49.0  (landing page)Chen Meng  NA  
1495/2359OmicCircos 1.47.0  (landing page)Ying Hu  WARNINGS  
1496/2359omicplotR 1.29.0  (landing page)Daniel Giguere  NA  
1497/2359omicRexposome 1.31.0  (landing page)Xavier Escribà Montagut  NA  
1498/2359OmicsMLRepoR 1.3.3  (landing page)Sehyun Oh  NA  
1499/2359OMICsPCA 1.27.1  (landing page)Subhadeep Das  NA  
1500/2359omicsPrint 1.29.0  (landing page)Davy Cats  WARNINGS  
1501/2359omicsViewer 1.13.2  (landing page)Chen Meng  NA  
1502/2359Omixer 1.19.0  (landing page)Lucy Sinke  NA  
1503/2359OmnipathR 3.17.6  (landing page)Denes Turei  ERROR  
1504/2359ompBAM 1.13.0  (landing page)Alex Chit Hei Wong  NA  
1505/2359omXplore 1.3.1  (landing page)Samuel Wieczorek  ERROR  
1506/2359oncomix 1.31.0  (landing page)Daniel Pique  NA  
1507/2359oncoscanR 1.11.1  (landing page)Yann Christinat  NA  
1508/2359OncoScore 1.37.1  (landing page)Luca De Sano  NA  
1509/2359OncoSimulR 4.11.1  (landing page)Ramon Diaz-Uriarte  NA  
1510/2359onlineFDR 2.17.0  (landing page)David S. Robertson  ERROR  
1511/2359ontoProc 2.3.11  (landing page)Vincent Carey  ERROR  
1512/2359openCyto 2.21.1  (landing page)Mike Jiang  WARNINGS  
1513/2359openPrimeR 1.31.1  (landing page)Matthias Döring  NA  
1514/2359OpenStats 1.21.0  (landing page)Marina Kan  NA  
1515/2359oposSOM 2.27.0  (landing page)Henry Loeffler-Wirth  WARNINGS  
1516/2359oppar 1.37.0  (landing page)Soroor Hediyeh zadeh  WARNINGS  
1517/2359oppti 1.23.1  (landing page)Abdulkadir Elmas  ERROR  
1518/2359optimalFlow 1.21.0  (landing page)Hristo Inouzhe  NA  
1519/2359OPWeight 1.31.0  (landing page)Mohamad Hasan  NA  
1520/2359OrderedList 1.81.0  (landing page)Claudio Lottaz  NA  
1521/2359ORFhunteR 1.17.0  (landing page)Vasily V. Grinev  WARNINGS  
1522/2359ORFik 1.29.9  (landing page)Haakon Tjeldnes  NA  
1523/2359Organism.dplyr 1.37.1  (landing page)Martin Morgan  ERROR  
1524/2359OrganismDbi 1.51.5  (landing page)Bioconductor Package Maintainer  NA  
1525/2359orthogene 1.15.02  (landing page)Brian Schilder  ERROR  
1526/2359orthos 1.7.4  (landing page)Panagiotis Papasaikas  NA  
1527/2359OSAT 1.57.0  (landing page)Li Yan  NA  
1528/2359Oscope 1.39.0  (landing page)Ning Leng  NA  
1529/2359OSTA.data 1.1.2  (landing page)Yixing E. Dong  ERROR  
1530/2359OTUbase 1.59.0  (landing page)Daniel Beck  NA  
1531/2359OUTRIDER 1.27.2  (landing page)Christian Mertes  NA  
1532/2359OutSplice 1.9.0  (landing page)Theresa Guo  NA  
1533/2359OVESEG 1.25.0  (landing page)Lulu Chen  NA  
P
ABCDEFGHIJKLMNOPQRSTUVWXYZ
PackageMaintainerINSTALL/BUILD/CHECK
1534/2359PAA 1.43.0  (landing page)Michael Turewicz , Martin Eisenacher  NA  
1535/2359packFinder 1.21.0  (landing page)Jack Gisby  NA  
1536/2359padma 1.19.0  (landing page)Andrea Rau  NA  
1537/2359PADOG 1.51.0  (landing page)Adi L. Tarca  NA  
1538/2359pageRank 1.19.0  (landing page)Hongxu Ding  NA  
1539/2359PAIRADISE 1.25.0  (landing page)Qiang Hu , Levon Demirdjian  NA  
1540/2359paircompviz 1.47.0  (landing page)Michal Burda  NA  
1541/2359pairedGSEA 1.9.0  (landing page)Søren Helweg Dam  NA  
1542/2359pairkat 1.15.0  (landing page)Max McGrath  NA  
1543/2359pandaR 1.41.0  (landing page)Joseph N. Paulson , Dan Schlauch  WARNINGS  
1544/2359panelcn.mops 1.31.2  (landing page)Gundula Povysil  NA  
1545/2359PanomiR 1.13.0  (landing page)Pourya Naderi  NA  
1546/2359panp 1.79.0  (landing page)Peter Warren  NA  
1547/2359PANR 1.55.0  (landing page)Xin Wang  NA  
1548/2359parglms 1.41.0  (landing page)VJ Carey  NA  
1549/2359parody 1.67.0  (landing page)Vince Carey  NA  
1550/2359partCNV 1.7.0  (landing page)Ziyi Li  NA  
1551/2359PAST 1.25.0  (landing page)Thrash Adam  WARNINGS  
1552/2359Path2PPI 1.39.0  (landing page)Oliver Philipp  NA  
1553/2359pathifier 1.47.0  (landing page)Assif Yitzhaky  NA  
1554/2359pathlinkR 1.5.3  (landing page)Travis Blimkie  NA  
1555/2359pathMED 1.1.6  (landing page)Jordi Martorell-Marugán  ERROR  
1556/2359PathNet 1.49.0  (landing page)Ludwig Geistlinger  NA  
1557/2359PathoStat 1.35.0  (landing page)Solaiappan Manimaran  NA  
1558/2359pathRender 1.77.0  (landing page)Vince Carey  NA  
1559/2359pathview 1.49.0  (landing page)Weijun Luo  WARNINGS  
1560/2359pathwayPCA 1.25.0  (landing page)Gabriel Odom  NA  
1561/2359pcaExplorer 3.3.0  (landing page)Federico Marini  NA  
1562/2359pcaMethods 2.1.0  (landing page)Henning Redestig  NA  
1563/2359PCAN 1.37.0  (landing page)Matthew Page and Patrice Godard  NA  
1564/2359PCAtools 2.21.0  (landing page)Kevin Blighe  ERROR  
1565/2359PDATK 1.17.0  (landing page)Benjamin Haibe-Kains  WARNINGS  
1566/2359pdInfoBuilder 1.73.0  (landing page)Benilton Carvalho  NA  
1567/2359PeacoQC 1.19.0  (landing page)Annelies Emmaneel  NA  
1568/2359peakCombiner 0.99.603  (landing page)Markus Muckenhuber  NA  
1569/2359peakPantheR 1.23.3  (landing page)Arnaud Wolfer  NA  
1570/2359PECA 1.45.0  (landing page)Tomi Suomi  NA  
1571/2359peco 1.21.1  (landing page)Chiaowen Joyce Hsiao  NA  
1572/2359Pedixplorer 1.5.6  (landing page)Louis Le Nezet  NA  
1573/2359pengls 1.15.2  (landing page)Stijn Hawinkel  NA  
1574/2359PepSetTest 1.3.0  (landing page)Junmin Wang  NA  
1575/2359PepsNMR 1.27.0  (landing page)Manon Martin  NA  
1576/2359pepStat 1.43.0  (landing page)Gregory C Imholte  NA  
1577/2359pepXMLTab 1.43.0  (landing page)Xiaojing Wang  NA  
1578/2359periodicDNA 1.19.1  (landing page)Jacques Serizay  WARNINGS  
1579/2359pfamAnalyzeR 1.9.0  (landing page)Kristoffer Vitting-Seerup  NA  
1580/2359pgca 1.33.0  (landing page)Gabriela Cohen-Freue  NA  
1581/2359pgxRpi 1.5.5  (landing page)Hangjia Zhao  ERROR  
1582/2359phantasus 1.29.0  (landing page)Alexey Sergushichev  NA  
1583/2359phantasusLite 1.7.0  (landing page)Alexey Sergushichev  NA  
1584/2359PharmacoGx 3.13.2  (landing page)Benjamin Haibe-Kains  NA  
1585/2359PhenoGeneRanker 1.17.0  (landing page)Cagatay Dursun  NA  
1586/2359phenomis 1.11.0  (landing page)Etienne A. Thevenot  NA  
1587/2359phenopath 1.33.0  (landing page)Kieran Campbell  NA  
1588/2359phenoTest 1.57.0  (landing page)Evarist Planet  NA  
1589/2359PhenStat 2.45.1  (landing page)Hamed Haselimashhadi  ERROR  
1590/2359philr 1.35.0  (landing page)Justin Silverman  NA  
1591/2359PhIPData 1.17.0  (landing page)Athena Chen  NA  
1592/2359phosphonormalizer 1.33.0  (landing page)Sohrab Saraei  NA  
1593/2359PhosR 1.19.2  (landing page)Di Xiao  NA  
1594/2359PhyloProfile 2.1.13  (landing page)Vinh Tran  NA  
1595/2359phyloseq 1.53.0  (landing page)Paul J. McMurdie  ERROR  
1596/2359piano 2.25.0  (landing page)Leif Varemo Wigge  NA  
1597/2359PICB 1.1.1  (landing page)Franziska Ahrend  NA  
1598/2359pickgene 1.81.0  (landing page)Brian S. Yandell  WARNINGS  
1599/2359Pigengene 1.35.0  (landing page)Habil Zare  ERROR  
1600/2359pipeComp 1.19.0  (landing page)Pierre-Luc Germain  NA  
1601/2359pipeFrame 1.25.1  (landing page)Zheng Wei  NA  
1602/2359PIPETS 1.5.0  (landing page)Quinlan Furumo  NA  
1603/2359Pirat 1.3.6  (landing page)Lucas Etourneau  ERROR  
1604/2359PIUMA 1.5.0  (landing page)Mattia Chiesa  ERROR  
1605/2359planet 1.17.0  (landing page)Victor Yuan  NA  
1606/2359planttfhunter 1.9.0  (landing page)Fabrício Almeida-Silva  NA  
1607/2359plasmut 1.7.0  (landing page)Adith Arun  NA  
1608/2359plgem 1.81.0  (landing page)Norman Pavelka  NA  
1609/2359plier 1.79.0  (landing page)Crispin Miller  WARNINGS  
1610/2359plotgardener 1.15.1  (landing page)Nicole Kramer  WARNINGS  
1611/2359plotGrouper 1.27.0  (landing page)John D. Gagnon  NA  
1612/2359PLPE 1.69.0  (landing page)Soo-heang Eo  NA  
1613/2359PLSDAbatch 1.5.0  (landing page)Yiwen (Eva) Wang  NA  
1614/2359plyinteractions 1.7.1  (landing page)Jacques Serizay  ERROR  
1615/2359plyranges 1.29.1  (landing page)Michael Love  ERROR  
1616/2359plyxp 1.3.11  (landing page)Justin Landis  NA  
1617/2359pmm 1.41.0  (landing page)Anna Drewek  NA  
1618/2359pmp 1.21.0  (landing page)Gavin Rhys Lloyd  ERROR  
1619/2359PMScanR 0.99.6  (landing page)Jan Pawel Jastrzebski  NA  
1620/2359PoDCall 1.17.1  (landing page)Hans Petter Brodal  NA  
1621/2359podkat 1.41.1  (landing page)Ulrich Bodenhofer  ERROR  
1622/2359poem 1.1.2  (landing page)Siyuan Luo  NA  
1623/2359pogos 1.29.0  (landing page)VJ Carey  NA  
1624/2359PolySTest 1.3.1  (landing page)Veit Schwämmle  NA  
1625/2359Polytect 1.1.0  (landing page)Yao Chen  NA  
1626/2359POMA 1.19.0  (landing page)Pol Castellano-Escuder  NA  
1627/2359powerTCR 1.29.0  (landing page)Hillary Koch  WARNINGS  
1628/2359POWSC 1.17.1  (landing page)Kenong Su  NA  
1629/2359ppcseq 1.17.0  (landing page)Stefano Mangiola  ERROR  
1630/2359PPInfer 1.35.0  (landing page)Dongmin Jung  NA  
1631/2359pqsfinder 2.25.0  (landing page)Jiri Hon  ERROR  
1632/2359pram 1.25.1  (landing page)Peng Liu  NA  
1633/2359prebs 1.49.1  (landing page)Karolis Uziela  NA  
1634/2359preciseTAD 1.19.0  (landing page)Mikhail Dozmorov  NA  
1635/2359PREDA 1.55.0  (landing page)Francesco Ferrari  WARNINGS  
1636/2359preprocessCore 1.71.2  (landing page)Ben Bolstad  WARNINGS  
1637/2359primirTSS 1.27.0  (landing page)Pumin Li  WARNINGS  
1638/2359PrInCE 1.25.0  (landing page)Michael Skinnider  WARNINGS  
1639/2359proActiv 1.19.3  (landing page)Joseph Lee  NA  
1640/2359proBAMr 1.43.1  (landing page)Xiaojing Wang  NA  
1641/2359PROcess 1.85.0  (landing page)Xiaochun Li  NA  
1642/2359procoil 2.37.1  (landing page)Ulrich Bodenhofer  NA  
1643/2359proDA 1.23.0  (landing page)Constantin Ahlmann-Eltze  NA  
1644/2359profileplyr 1.25.1  (landing page)Tom Carroll , Doug Barrows  NA  
1645/2359profileScoreDist 1.37.0  (landing page)Paal O. Westermark  ERROR  
1646/2359progeny 1.31.0  (landing page)Aurélien Dugourd  NA  
1647/2359projectR 1.25.0  (landing page)Genevieve Stein-O'Brien  NA  
1648/2359pRoloc 1.49.3  (landing page)Lisa Breckels  WARNINGS  
1649/2359pRolocGUI 2.19.0  (landing page)Lisa Breckels  NA  
1650/2359PROMISE 1.61.0  (landing page)Stan Pounds , Xueyuan Cao  NA  
1651/2359PRONE 1.3.2  (landing page)Lis Arend  ERROR  
1652/2359PROPER 1.41.0  (landing page)Hao Wu  WARNINGS  
1653/2359PROPS 1.31.0  (landing page)Lichy Han  NA  
1654/2359Prostar 1.41.0  (landing page)Samuel Wieczorek  WARNINGS  
1655/2359proteinProfiles 1.49.0  (landing page)Julian Gehring  NA  
1656/2359ProteoDisco 1.15.1  (landing page)Job van Riet  TIMEOUT  
1657/2359ProteoMM 1.27.0  (landing page)Yuliya V Karpievitch  NA  
1658/2359protGear 1.13.0  (landing page)Kennedy Mwai  NA  
1659/2359ProtGenerics 1.41.0  (landing page)Laurent Gatto  NA  
1660/2359psichomics 1.35.0  (landing page)Nuno Saraiva-Agostinho  NA  
1661/2359PSMatch 1.13.2  (landing page)Laurent Gatto  NA  
1662/2359ptairMS 1.17.0  (landing page)camille Roquencourt  WARNINGS  
1663/2359puma 3.51.0  (landing page)Xuejun Liu  WARNINGS  
1664/2359PureCN 2.15.4  (landing page)Markus Riester  NA  
1665/2359pvac 1.57.0  (landing page)Jun Lu , Pierre R. Bushel  NA  
1666/2359pvca 1.49.0  (landing page)Jianying LI  NA  
1667/2359Pviz 1.43.0  (landing page)Renan Sauteraud  WARNINGS  
1668/2359pwalign 1.5.0  (landing page)Hervé Pagès  NA  
1669/2359PWMEnrich 4.45.0  (landing page)Diego Diez  NA  
Q
ABCDEFGHIJKLMNOPQRSTUVWXYZ
PackageMaintainerINSTALL/BUILD/CHECK
1670/2359qckitfastq 1.25.1  (landing page)August Guang  ERROR  
1671/2359qcmetrics 1.47.0  (landing page)Laurent Gatto  NA  
1672/2359QDNAseq 1.45.1  (landing page)Daoud Sie  NA  
1673/2359QFeatures 1.19.4  (landing page)Laurent Gatto  NA  
1674/2359qmtools 1.13.0  (landing page)Jaehyun Joo  NA  
1675/2359qpcrNorm 1.67.0  (landing page)Jessica Mar  NA  
1676/2359qpgraph 2.43.1  (landing page)Robert Castelo  NA  
1677/2359qPLEXanalyzer 1.27.0  (landing page)Ashley Sawle  ERROR  
1678/2359QRscore 1.1.1  (landing page)Fanding Zhou  WARNINGS  
1679/2359qsea 1.35.1  (landing page)Matthias Lienhard  ERROR  
1680/2359qsmooth 1.25.0  (landing page)Stephanie C. Hicks  WARNINGS  
1681/2359QSutils 1.27.0  (landing page)Mercedes Guerrero-Murillo  NA  
1682/2359qsvaR 1.13.3  (landing page)Nicholas J. Eagles  NA  
1683/2359QTLExperiment 2.1.2  (landing page)Amelia Dunstone  NA  
1684/2359Qtlizer 1.23.0  (landing page)Matthias Munz  NA  
1685/2359quantiseqr 1.17.0  (landing page)Federico Marini  NA  
1686/2359quantro 1.43.0  (landing page)Stephanie Hicks  NA  
1687/2359quantsmooth 1.75.0  (landing page)Jan Oosting  NA  
1688/2359QuasR 1.49.3  (landing page)Michael Stadler  WARNINGS  
1689/2359QuaternaryProd 1.43.0  (landing page)Carl Tony Fakhry  NA  
1690/2359QUBIC 1.37.0  (landing page)Yu Zhang  NA  
1691/2359qusage 2.43.0  (landing page)Christopher Bolen  NA  
1692/2359qvalue 2.41.0  (landing page)John D. Storey , Andrew J. Bass  NA  
R
ABCDEFGHIJKLMNOPQRSTUVWXYZ
PackageMaintainerINSTALL/BUILD/CHECK
1693/2359R3CPET 1.41.0  (landing page)Mohamed Nadhir Djekidel  WARNINGS  
1694/2359r3Cseq 1.55.1  (landing page)Supat Thongjuea or  NA  
1695/2359R453Plus1Toolbox 1.59.0  (landing page)Hans-Ulrich Klein  ERROR  
1696/2359R4RNA 1.37.0  (landing page)Daniel Lai  NA  
1697/2359RadioGx 2.13.0  (landing page)Benjamin Haibe-Kains  NA  
1698/2359raer 1.7.2  (landing page)Kent Riemondy  NA  
1699/2359RaggedExperiment 1.33.7  (landing page)Marcel Ramos  NA  
1700/2359RAIDS 1.7.3  (landing page)Pascal Belleau  NA  
1701/2359rain 1.43.0  (landing page)Paul F. Thaben  NA  
1702/2359ramr 1.17.1  (landing page)Oleksii Nikolaienko  NA  
1703/2359ramwas 1.33.0  (landing page)Andrey A Shabalin  NA  
1704/2359randPack 1.55.0  (landing page)Robert Gentleman  NA  
1705/2359randRotation 1.21.0  (landing page)Peter Hettegger  ERROR  
1706/2359RankProd 3.35.0  (landing page)Francesco Del Carratore  NA  
1707/2359RAREsim 1.13.0  (landing page)Ryan Barnard  NA  
1708/2359RareVariantVis 2.37.0  (landing page)Tomasz Stokowy  NA  
1709/2359Rarr 1.9.18  (landing page)Hugo Gruson  NA  
1710/2359rawDiag 1.5.3  (landing page)Christian Panse  ERROR  
1711/2359rawrr 1.17.13  (landing page)Christian Panse  ERROR  
1712/2359RbcBook1 1.77.0  (landing page)Vince Carey  WARNINGS  
1713/2359Rbec 1.17.0  (landing page)Pengfan Zhang  ERROR  
1714/2359RBGL 1.85.0  (landing page)Bioconductor Package Maintainer  WARNINGS  
1715/2359RBioFormats 1.9.0  (landing page)Andrzej Oleś  NA  
1716/2359rBiopaxParser 2.49.0  (landing page)Frank Kramer  NA  
1717/2359rBLAST 1.5.0  (landing page)Michael Hahsler  NA  
1718/2359RBM 1.41.0  (landing page)Dongmei Li  NA  
1719/2359Rbowtie 1.49.0  (landing page)Michael Stadler  WARNINGS  
1720/2359Rbowtie2 2.15.0  (landing page)Zheng Wei  NA  
1721/2359RbowtieCuda 1.1.10  (landing page)Franck RICHARD  unknown  
1722/2359rbsurv 2.67.0  (landing page)Soo-heang Eo  NA  
1723/2359Rbwa 1.13.0  (landing page)Jean-Philippe Fortin  WARNINGS  
1724/2359RCAS 1.35.0  (landing page)Bora Uyar  ERROR  
1725/2359RCASPAR 1.55.0  (landing page)Douaa Mugahid , Lars Kaderali  NA  
1726/2359rcellminer 2.31.1  (landing page)Augustin Luna , Vinodh Rajapakse  WARNINGS  
1727/2359rCGH 1.39.1  (landing page)Frederic Commo  NA  
1728/2359RcisTarget 1.29.0  (landing page)Gert Hulselmans  ERROR  
1729/2359RCM 1.25.1  (landing page)Stijn Hawinkel  NA  
1730/2359Rcollectl 1.9.0  (landing page)Vincent Carey  ERROR  
1731/2359Rcpi 1.45.0  (landing page)Nan Xiao  NA  
1732/2359RCSL 1.17.0  (landing page)Qinglin Mei  NA  
1733/2359Rcwl 1.25.0  (landing page)Qiang Hu  NA  
1734/2359RcwlPipelines 1.25.0  (landing page)Qiang Hu  NA  
1735/2359RCX 1.13.1  (landing page)Florian Auer  NA  
1736/2359RCy3 2.29.2  (landing page)Alex Pico  NA  
1737/2359RCyjs 2.31.0  (landing page)Paul Shannon  WARNINGS  
1738/2359Rdisop 1.69.2  (landing page)Steffen Neumann  NA  
1739/2359RDRToolbox 1.59.0  (landing page)Christoph Bartenhagen  NA  
1740/2359ReactomeGraph4R 1.17.1  (landing page)Chi-Lam Poon  ERROR  
1741/2359ReactomeGSA 1.23.0  (landing page)Johannes Griss  NA  
1742/2359ReactomePA 1.53.0  (landing page)Guangchuang Yu  NA  
1743/2359ReadqPCR 1.55.0  (landing page)James Perkins  NA  
1744/2359REBET 1.27.0  (landing page)Bill Wheeler  NA  
1745/2359rebook 1.19.0  (landing page)Aaron Lun  WARNINGS  
1746/2359receptLoss 1.21.0  (landing page)Daniel Pique  ERROR  
1747/2359reconsi 1.21.0  (landing page)Stijn Hawinkel  NA  
1748/2359recount 1.35.0  (landing page)Leonardo Collado-Torres  NA  
1749/2359recount3 1.19.3  (landing page)Leonardo Collado-Torres  NA  
1750/2359recountmethylation 1.19.0  (landing page)Sean K Maden  NA  
1751/2359recoup 1.37.1  (landing page)Panagiotis Moulos  NA  
1752/2359RedeR 3.5.0  (landing page)Mauro Castro  NA  
1753/2359RedisParam 1.11.0  (landing page)Martin Morgan  NA  
1754/2359REDseq 1.55.0  (landing page)Lihua Julie Zhu  NA  
1755/2359ReducedExperiment 1.1.2  (landing page)Jack Gisby  NA  
1756/2359RegEnrich 1.19.0  (landing page)Weiyang Tao  ERROR  
1757/2359regionalpcs 1.7.0  (landing page)Tiffany Eulalio  NA  
1758/2359RegionalST 1.7.1  (landing page)Ziyi Li  NA  
1759/2359regioneR 1.41.3  (landing page)Bernat Gel  NA  
1760/2359regioneReloaded 1.11.0  (landing page)Roberto Malinverni  NA  
1761/2359regionReport 1.43.1  (landing page)Leonardo Collado-Torres  NA  
1762/2359regsplice 1.35.0  (landing page)Lukas M. Weber  NA  
1763/2359regutools 1.21.0  (landing page)Joselyn Chavez  NA  
1764/2359REMP 1.33.1  (landing page)Yinan Zheng  ERROR  
1765/2359Repitools 1.55.2  (landing page)Mark Robinson  ERROR  
1766/2359ReportingTools 2.49.0  (landing page)Jason A. Hackney , Gabriel Becker  NA  
1767/2359RepViz 1.25.0  (landing page)Thomas Faux, Asta Laiho   ERROR  
1768/2359ResidualMatrix 1.19.0  (landing page)Aaron Lun  NA  
1769/2359RESOLVE 1.11.2  (landing page)Luca De Sano  ERROR  
1770/2359retrofit 1.9.0  (landing page)Adam Park  NA  
1771/2359ReUseData 1.9.0  (landing page)Qian Liu  NA  
1772/2359rexposome 1.31.0  (landing page)Xavier Escribà Montagut  WARNINGS  
1773/2359rfaRm 1.21.0  (landing page)Lara Selles Vidal  NA  
1774/2359Rfastp 1.19.1  (landing page)Thomas Carroll  ERROR  
1775/2359RFLOMICS 1.1.4  (landing page)Nadia Bessoltane  NA  
1776/2359rfPred 1.47.1  (landing page)Hugo Varet  NA  
1777/2359rGADEM 2.57.1  (landing page)Arnaud Droit  ERROR  
1778/2359rGenomeTracks 1.15.0  (landing page)Omar Elashkar  NA  
1779/2359RgnTX 1.11.1  (landing page)Yue Wang  ERROR  
1780/2359rgoslin 1.13.0  (landing page)Nils Hoffmann  NA  
1781/2359RGraph2js 1.37.0  (landing page)Stephane Cano  NA  
1782/2359Rgraphviz 2.53.0  (landing page)Kasper Daniel Hansen  WARNINGS  
1783/2359rGREAT 2.11.0  (landing page)Zuguang Gu  ERROR  
1784/2359RGSEA 1.43.0  (landing page)Chengcheng Ma  NA  
1785/2359rgsepd 1.41.0  (landing page)Karl Stamm  NA  
1786/2359rhdf5 2.53.6  (landing page)Hugo Gruson  WARNINGS  
1787/2359rhdf5client 1.31.2  (landing page)Alexey Sergushichev  NA  
1788/2359rhdf5filters 1.21.4  (landing page)Hugo Gruson  NA  
1789/2359Rhdf5lib 1.31.1  (landing page)Hugo Gruson  WARNINGS  
1790/2359rhinotypeR 1.3.1  (landing page)Martha Luka  ERROR  
1791/2359Rhisat2 1.25.0  (landing page)Charlotte Soneson  WARNINGS  
1792/2359Rhtslib 3.5.1  (landing page)Hervé Pagès  NA  
1793/2359RiboCrypt 1.15.4  (landing page)Michal Swirski  NA  
1794/2359RiboDiPA 1.17.1  (landing page)Ji-Ping Wang  NA  
1795/2359RiboProfiling 1.39.1  (landing page)A. Popa  ERROR  
1796/2359ribor 1.21.0  (landing page)Michael Geng  NA  
1797/2359riboSeqR 1.43.1  (landing page)Samuel Granjeaud  NA  
1798/2359ribosomeProfilingQC 1.21.2  (landing page)Jianhong Ou  NA  
1799/2359rifi 1.13.1  (landing page)Jens Georg  WARNINGS  
1800/2359rifiComparative 1.9.0  (landing page)Loubna Youssar  NA  
1801/2359Rigraphlib 1.1.2  (landing page)Aaron Lun  WARNINGS  
1802/2359rigvf 1.1.3  (landing page)Michael Love  NA  
1803/2359RImmPort 1.37.0  (landing page)Zicheng Hu , Ravi Shankar  NA  
1804/2359RITAN 1.33.0  (landing page)Michael Zimmermann  WARNINGS  
1805/2359RIVER 1.33.0  (landing page)Yungil Kim  NA  
1806/2359RJMCMCNucleosomes 1.33.2  (landing page)Astrid Deschênes  NA  
1807/2359RLassoCox 1.17.0  (landing page)Wei Liu  NA  
1808/2359RLMM 1.71.0  (landing page)Nusrat Rabbee  NA  
1809/2359Rmagpie 1.65.0  (landing page)Camille Maumet  NA  
1810/2359RMassBank 3.19.0  (landing page)RMassBank at Eawag  NA  
1811/2359rmelting 1.25.0  (landing page)J. Aravind  NA  
1812/2359Rmmquant 1.27.0  (landing page)Zytnicki Matthias  NA  
1813/2359rmspc 1.15.0  (landing page)Meriem Bahda  NA  
1814/2359RNAAgeCalc 1.21.0  (landing page)Xu Ren  NA  
1815/2359RNAdecay 1.29.0  (landing page)Reed Sorenson  ERROR  
1816/2359rnaEditr 1.19.2  (landing page)Lanyu Zhang  WARNINGS  
1817/2359RNAmodR 1.23.2  (landing page)Felix G.M. Ernst  NA  
1818/2359RNAmodR.AlkAnilineSeq 1.23.1  (landing page)Felix G.M. Ernst  NA  
1819/2359RNAmodR.ML 1.23.0  (landing page)Felix G.M. Ernst  NA  
1820/2359RNAmodR.RiboMethSeq 1.23.1  (landing page)Felix G.M. Ernst  NA  
1821/2359RNAsense 1.23.0  (landing page)Marcus Rosenblatt  WARNINGS  
1822/2359rnaseqcomp 1.39.0  (landing page)Mingxiang Teng  NA  
1823/2359RNAseqCovarImpute 1.7.0  (landing page)Brennan Baker  NA  
1824/2359RNASeqPower 1.49.0  (landing page)Terry M Therneau  NA  
1825/2359RnaSeqSampleSize 2.19.0  (landing page)Shilin Zhao Developer  ERROR  
1826/2359RnBeads 2.27.2  (landing page)Fabian Mueller  NA  
1827/2359Rnits 1.43.0  (landing page)Dipen P. Sangurdekar  WARNINGS  
1828/2359roar 1.45.0  (landing page)Elena Grassi  NA  
1829/2359roastgsa 1.7.0  (landing page)Adria Caballe  NA  
1830/2359ROC 1.85.0  (landing page)Vince Carey  NA  
1831/2359ROCpAI 1.21.0  (landing page)Juan-Pedro Garcia  NA  
1832/2359RolDE 1.13.0  (landing page)Medical Bioinformatics Centre  NA  
1833/2359rols 3.5.0  (landing page)Laurent Gatto  ERROR  
1834/2359ROntoTools 2.37.0  (landing page)Sorin Draghici  WARNINGS  
1835/2359ropls 1.41.0  (landing page)Etienne A. Thevenot  NA  
1836/2359ROSeq 1.21.0  (landing page)Krishan Gupta  WARNINGS  
1837/2359ROTS 2.1.1  (landing page)Tomi Suomi  NA  
1838/2359RPA 1.65.0  (landing page)Leo Lahti  NA  
1839/2359rprimer 1.13.0  (landing page)Sofia Persson  NA  
1840/2359RProtoBufLib 2.21.0  (landing page)Mike Jiang  WARNINGS  
1841/2359rpx 2.17.0  (landing page)Laurent Gatto  ERROR  
1842/2359Rqc 1.43.0  (landing page)Welliton Souza  NA  
1843/2359rqt 1.35.0  (landing page)Ilya Zhbannikov  NA  
1844/2359rqubic 1.55.0  (landing page)Jitao David Zhang  WARNINGS  
1845/2359rRDP 1.43.1  (landing page)Michael Hahsler  NA  
1846/2359RRHO 1.49.0  (landing page)Jonathan Rosenblatt  NA  
1847/2359rrvgo 1.21.5  (landing page)Sergi Sayols  NA  
1848/2359Rsamtools 2.25.3  (landing page)Bioconductor Package Maintainer  WARNINGS  
1849/2359rsbml 2.67.0  (landing page)Michael Lawrence  ERROR  
1850/2359rScudo 1.25.0  (landing page)Matteo Ciciani  NA  
1851/2359rsemmed 1.19.0  (landing page)Leslie Myint  NA  
1852/2359RSeqAn 1.29.0  (landing page)August Guang  NA  
1853/2359Rsubread 2.23.8  (landing page)Wei Shi , Yang Liao and Gordon K Smyth  NA  
1854/2359RSVSim 1.49.0  (landing page)Christoph Bartenhagen  NA  
1855/2359rSWeeP 1.21.0  (landing page)Camila P Perico  NA  
1856/2359RTCA 1.61.0  (landing page)Jitao David Zhang  WARNINGS  
1857/2359RTCGA 1.39.0  (landing page)Marcin Kosinski  NA  
1858/2359RTCGAToolbox 2.39.1  (landing page)Marcel Ramos  NA  
1859/2359RTN 2.33.0  (landing page)Mauro Castro  NA  
1860/2359RTNduals 1.33.0  (landing page)Mauro Castro , Clarice Groeneveld  NA  
1861/2359RTNsurvival 1.33.1  (landing page)Clarice Groeneveld , Mauro A. A. Castro  NA  
1862/2359RTopper 1.55.0  (landing page)Luigi Marchionni  NA  
1863/2359Rtpca 1.19.1  (landing page)Nils Kurzawa  NA  
1864/2359rtracklayer 1.69.1  (landing page)Michael Lawrence  WARNINGS  
1865/2359rTRM 1.47.0  (landing page)Diego Diez  NA  
1866/2359rTRMui 1.47.0  (landing page)Diego Diez  NA  
1867/2359RUCova 1.1.0  (landing page)Rosario Astaburuaga-García  NA  
1868/2359runibic 1.31.0  (landing page)Patryk Orzechowski  NA  
1869/2359RUVcorr 1.41.0  (landing page)Saskia Freytag  WARNINGS  
1870/2359RUVnormalize 1.43.0  (landing page)Laurent Jacob  NA  
1871/2359RUVSeq 1.43.0  (landing page)Davide Risso  NA  
1872/2359Rvisdiff 1.7.1  (landing page)David Barrios  NA  
1873/2359RVS 1.31.0  (landing page)Alexandre Bureau  WARNINGS  
1874/2359rWikiPathways 1.29.2  (landing page)Egon Willighagen  NA  
S
ABCDEFGHIJKLMNOPQRSTUVWXYZ
PackageMaintainerINSTALL/BUILD/CHECK
1875/2359S4Arrays 1.9.1  (landing page)Hervé Pagès  NA  
1876/2359S4Vectors 0.47.4  (landing page)Hervé Pagès  WARNINGS  
1877/2359safe 3.49.0  (landing page)Ludwig Geistlinger  NA  
1878/2359sagenhaft 1.79.0  (landing page)Tim Beissbarth  WARNINGS  
1879/2359SAIGEgds 2.9.3  (landing page)Xiuwen Zheng  NA  
1880/2359sampleClassifier 1.33.0  (landing page)Khadija El Amrani  NA  
1881/2359SamSPECTRAL 1.63.0  (landing page)Habil  WARNINGS  
1882/2359sangeranalyseR 1.19.0  (landing page)Kuan-Hao Chao  ERROR  
1883/2359sangerseqR 1.45.0  (landing page)Jonathon Hill  NA  
1884/2359SanityR 0.99.3  (landing page)Teo Sakel  NA  
1885/2359SANTA 2.45.0  (landing page)Alex Cornish  NA  
1886/2359SARC 1.7.1  (landing page)Krutik Patel  ERROR  
1887/2359sarks 1.21.0  (landing page)Dennis Wylie  NA  
1888/2359saseR 1.5.1  (landing page)Alexandre Segers  WARNINGS  
1889/2359satuRn 1.17.0  (landing page)Jeroen Gilis  NA  
1890/2359SBGNview 1.23.0  (landing page)Weijun Luo  NA  
1891/2359SBMLR 2.5.0  (landing page)Tomas Radivoyevitch  NA  
1892/2359SC3 1.37.0  (landing page)Vladimir Kiselev  NA  
1893/2359scafari 0.99.12  (landing page)Sophie Wind  NA  
1894/2359Scale4C 1.31.1  (landing page)Carolin Walter  NA  
1895/2359ScaledMatrix 1.17.0  (landing page)Aaron Lun  NA  
1896/2359SCAN.UPC 2.51.0  (landing page)Stephen R. Piccolo  NA  
1897/2359scanMiR 1.15.1  (landing page)Pierre-Luc Germain  NA  
1898/2359scanMiRApp 1.15.1  (landing page)Pierre-Luc Germain  NA  
1899/2359scAnnotatR 1.15.0  (landing page)Johannes Griss  WARNINGS  
1900/2359SCANVIS 1.23.0  (landing page)Phaedra Agius  NA  
1901/2359SCArray 1.17.0  (landing page)Xiuwen Zheng  NA  
1902/2359SCArray.sat 1.9.0  (landing page)Xiuwen Zheng  NA  
1903/2359scater 1.37.0  (landing page)Alan O'Callaghan  ERROR  
1904/2359scatterHatch 1.15.0  (landing page)Atul Deshpande  NA  
1905/2359scBFA 1.23.0  (landing page)Ruoxin Li  NA  
1906/2359SCBN 1.27.0  (landing page)Yan Zhou  NA  
1907/2359scBubbletree 1.11.0  (landing page)Simo Kitanovski  NA  
1908/2359scCB2 1.19.0  (landing page)Zijian Ni  NA  
1909/2359scClassify 1.21.0  (landing page)Yingxin Lin  NA  
1910/2359sccomp 2.1.18  (landing page)Stefano Mangiola  NA  
1911/2359scDataviz 1.19.1  (landing page)Kevin Blighe  NA  
1912/2359scDblFinder 1.23.9  (landing page)Pierre-Luc Germain  NA  
1913/2359scDD 1.33.1  (landing page)Keegan Korthauer  NA  
1914/2359scDDboost 1.11.0  (landing page)Xiuyu Ma  NA  
1915/2359scde 2.37.0  (landing page)Evan Biederstedt  WARNINGS  
1916/2359scDesign3 1.7.7  (landing page)Dongyuan Song  NA  
1917/2359scDiagnostics 1.3.0  (landing page)Anthony Christidis  NA  
1918/2359scDotPlot 1.3.1  (landing page)Benjamin I Laufer  NA  
1919/2359scds 1.25.1  (landing page)Dennis Kostka  NA  
1920/2359SCFA 1.19.0  (landing page)Duc Tran  NA  
1921/2359scFeatureFilter 1.29.0  (landing page)Guillaume Devailly  NA  
1922/2359scFeatures 1.9.0  (landing page)Yue Cao  ERROR  
1923/2359scGPS 1.23.0  (landing page)Quan Nguyen  ERROR  
1924/2359scGraphVerse 0.99.21  (landing page)Francesco Cecere  NA  
1925/2359schex 1.23.0  (landing page)Saskia Freytag  NA  
1926/2359scHiCcompare 1.1.0  (landing page)My Nguyen  NA  
1927/2359scHOT 1.21.0  (landing page)Shila Ghazanfar  NA  
1928/2359scider 1.7.3  (landing page)Yunshun Chen  NA  
1929/2359scifer 1.11.5  (landing page)Rodrigo Arcoverde Cerveira  NA  
1930/2359scLANE 0.99.999999  (landing page)Jack R. Leary  ERROR  
1931/2359scmap 1.31.0  (landing page)Vladimir Kiselev  NA  
1932/2359scMerge 1.25.1  (landing page)Yingxin Lin  ERROR  
1933/2359scMET 1.11.0  (landing page)Andreas C. Kapourani  NA  
1934/2359scmeth 1.29.1  (landing page)Divy Kangeyan  ERROR  
1935/2359scMitoMut 1.5.0  (landing page)Wenjie Sun  NA  
1936/2359scMultiSim 1.5.0  (landing page)Hechen Li  NA  
1937/2359SCnorm 1.31.1  (landing page)Rhonda Bacher  NA  
1938/2359scone 1.33.0  (landing page)Davide Risso  NA  
1939/2359Sconify 1.29.1  (landing page)Tyler J Burns  NA  
1940/2359SCOPE 1.21.0  (landing page)Rujin Wang  NA  
1941/2359scoreInvHap 1.31.0  (landing page)Dolors Pelegri-Siso  NA  
1942/2359scoup 1.3.0  (landing page)Hassan Sadiq  NA  
1943/2359scp 1.19.5  (landing page)Christophe Vanderaa  ERROR  
1944/2359scPCA 1.23.0  (landing page)Philippe Boileau  NA  
1945/2359scPipe 2.9.0  (landing page)Shian Su  NA  
1946/2359scQTLtools 1.1.7  (landing page)Xiaofeng Wu  ERROR  
1947/2359scran 1.37.0  (landing page)Aaron Lun  WARNINGS  
1948/2359scrapper 1.3.17  (landing page)Aaron Lun  WARNINGS  
1949/2359scReClassify 1.15.1  (landing page)Taiyun Kim  NA  
1950/2359scRecover 1.25.0  (landing page)Zhun Miao  NA  
1951/2359screenCounter 1.9.0  (landing page)Aaron Lun  NA  
1952/2359ScreenR 1.11.0  (landing page)Emanuel Michele Soda  ERROR  
1953/2359scRepertoire 2.5.8  (landing page)Nick Borcherding  NA  
1954/2359scRNAseqApp 1.9.26  (landing page)Jianhong Ou  NA  
1955/2359scruff 1.27.1  (landing page)Zhe Wang  NA  
1956/2359scry 1.21.0  (landing page)Kelly Street  NA  
1957/2359scShapes 1.15.0  (landing page)Malindrie Dharmaratne  NA  
1958/2359scTensor 2.19.2  (landing page)Koki Tsuyuzaki  WARNINGS  
1959/2359scTGIF 1.23.0  (landing page)Koki Tsuyuzaki  NA  
1960/2359scTHI 1.21.0  (landing page)Michele Ceccarelli  NA  
1961/2359scTreeViz 1.15.0  (landing page)Jayaram Kancherla  NA  
1962/2359scuttle 1.19.0  (landing page)Aaron Lun  NA  
1963/2359scviR 1.9.14  (landing page)Vincent Carey  ERROR  
1964/2359SDAMS 1.29.0  (landing page)Yuntong Li  NA  
1965/2359seahtrue 1.3.0  (landing page)Vincent de Boer  ERROR  
1966/2359sechm 1.17.1  (landing page)Pierre-Luc Germain  NA  
1967/2359segmenter 1.15.0  (landing page)Mahmoud Ahmed  NA  
1968/2359segmentSeq 2.43.1  (landing page)Samuel Granjeaud  NA  
1969/2359selectKSigs 1.21.0  (landing page)Zhi Yang  ERROR  
1970/2359SELEX 1.41.0  (landing page)Harmen J. Bussemaker  NA  
1971/2359SemDist 1.43.0  (landing page)Ian Gonzalez  NA  
1972/2359semisup 1.33.0  (landing page)Armin Rauschenberger  NA  
1973/2359seq.hotSPOT 1.9.0  (landing page)Sydney Grant  NA  
1974/2359seq2pathway 1.41.0  (landing page)Arjun Kinstlick  ERROR  
1975/2359seqArchR 1.13.1  (landing page)Sarvesh Nikumbh  ERROR  
1976/2359seqArchRplus 1.9.2  (landing page)Sarvesh Nikumbh  ERROR  
1977/2359SeqArray 1.49.8  (landing page)Xiuwen Zheng  NA  
1978/2359seqCAT 1.31.0  (landing page)Erik Fasterius  NA  
1979/2359seqcombo 1.31.0  (landing page)Guangchuang Yu  NA  
1980/2359SeqGate 1.19.0  (landing page)Stéphanie Rialle  NA  
1981/2359SeqGSEA 1.49.0  (landing page)Xi Wang  NA  
1982/2359Seqinfo 0.99.3  (landing page)Hervé Pagès  NA  
1983/2359seqLogo 1.75.0  (landing page)Robert Ivanek  NA  
1984/2359seqPattern 1.41.0  (landing page)Vanja Haberle  NA  
1985/2359seqsetvis 1.29.1  (landing page)Joseph R Boyd  NA  
1986/2359SeqSQC 1.31.0  (landing page)Qian Liu  WARNINGS  
1987/2359seqTools 1.43.1  (landing page)Wolfgang Kaisers  ERROR  
1988/2359SeqVarTools 1.47.0  (landing page)Stephanie M. Gogarten  NA  
1989/2359SEraster 1.1.0  (landing page)Gohta Aihara  NA  
1990/2359sesame 1.27.1  (landing page)Wanding Zhou  NA  
1991/2359SETA 0.99.7  (landing page)Kyle Kimler  NA  
1992/2359SEtools 1.23.3  (landing page)Pierre-Luc Germain  NA  
1993/2359sevenbridges 1.39.0  (landing page)Phil Webster  NA  
1994/2359sevenC 1.29.2  (landing page)Jonas Ibn-Salem  NA  
1995/2359SGCP 1.9.0  (landing page)Niloofar AghaieAbiane  ERROR  
1996/2359SGSeq 1.43.1  (landing page)Leonard Goldstein  NA  
1997/2359SharedObject 1.23.0  (landing page)Jiefei Wang  WARNINGS  
1998/2359shiny.gosling 1.5.0  (landing page)Appsilon  ERROR  
1999/2359shinybiocloader 0.99.1  (landing page)Marcel Ramos  NA  
2000/2359shinyDSP 1.1.2  (landing page)Seung J. Kim  NA  
2001/2359shinyepico 1.17.0  (landing page)Octavio Morante-Palacios  NA  
2002/2359shinyMethyl 1.45.0  (landing page)Jean-Philippe Fortin  NA  
2003/2359ShortRead 1.67.1  (landing page)Bioconductor Package Maintainer  WARNINGS  
2004/2359SIAMCAT 2.13.0  (landing page)Jakob Wirbel  NA  
2005/2359SICtools 1.39.0  (landing page)Xiaobin Xing  WARNINGS  
2006/2359SigCheck 2.41.0  (landing page)Rory Stark  NA  
2007/2359sigFeature 1.27.0  (landing page)Pijush Das Developer  WARNINGS  
2008/2359SigFuge 1.47.0  (landing page)Patrick Kimes  ERROR  
2009/2359siggenes 1.83.0  (landing page)Holger Schwender  NA  
2010/2359sights 1.35.0  (landing page)Elika Garg  NA  
2011/2359signatureSearch 1.23.0  (landing page)Brendan Gongol  NA  
2012/2359signeR 2.11.2  (landing page)Renan Valieris  NA  
2013/2359signifinder 1.11.0  (landing page)Stefania Pirrotta  NA  
2014/2359SigsPack 1.23.0  (landing page)Franziska Schumann  NA  
2015/2359sigsquared 1.41.0  (landing page)UnJin Lee  NA  
2016/2359SIM 1.79.0  (landing page)Renee X. de Menezes  WARNINGS  
2017/2359SIMAT 1.41.0  (landing page)M. R. Nezami Ranjbar  NA  
2018/2359SimBu 1.11.0  (landing page)Alexander Dietrich  NA  
2019/2359SIMD 1.27.0  (landing page)Jiadi Zhu  NA  
2020/2359SimFFPE 1.21.0  (landing page)Lanying Wei  NA  
2021/2359similaRpeak 1.41.0  (landing page)Astrid Deschênes  NA  
2022/2359SIMLR 1.35.1  (landing page)Luca De Sano  NA  
2023/2359simona 1.7.1  (landing page)Zuguang Gu  NA  
2024/2359simPIC 1.5.3  (landing page)Sagrika Chugh  NA  
2025/2359simpleSeg 1.11.1  (landing page)Ellis Patrick  NA  
2026/2359simplifyEnrichment 2.3.0  (landing page)Zuguang Gu  NA  
2027/2359sincell 1.41.0  (landing page)Miguel Julia , Antonio Rausell  NA  
2028/2359SingleCellAlleleExperiment 1.5.1  (landing page)Jonas Schuck  NA  
2029/2359SingleCellExperiment 1.31.1  (landing page)Davide Risso  NA  
2030/2359SingleCellSignalR 1.99.1  (landing page)Jean-Philippe Villemin  WARNINGS  
2031/2359singleCellTK 2.19.2  (landing page)Joshua David Campbell  NA  
2032/2359SingleMoleculeFootprinting 2.3.2  (landing page)Guido Barzaghi  ERROR  
2033/2359SingleR 2.11.4  (landing page)Aaron Lun  NA  
2034/2359singscore 1.29.1  (landing page)Malvika Kharbanda  NA  
2035/2359SiPSiC 1.9.0  (landing page)Daniel Davis  NA  
2036/2359sitadela 1.17.1  (landing page)Panagiotis Moulos  ERROR  
2037/2359Site2Target 1.1.0  (landing page)Peyman Zarrineh  NA  
2038/2359sitePath 1.25.1  (landing page)Chengyang Ji  NA  
2039/2359sizepower 1.79.0  (landing page)Weiliang Qiu  NA  
2040/2359sketchR 1.5.2  (landing page)Charlotte Soneson  NA  
2041/2359skewr 1.41.0  (landing page)Ryan Putney  NA  
2042/2359slalom 1.31.1  (landing page)Davis McCarthy  ERROR  
2043/2359slingshot 2.17.0  (landing page)Kelly Street  ERROR  
2044/2359SLqPCR 1.75.0  (landing page)Matthias Kohl  NA  
2045/2359SMAD 1.25.0  (landing page)Qingzhou Zhang  WARNINGS  
2046/2359smartid 1.5.0  (landing page)Jinjin Chen  NA  
2047/2359SmartPhos 0.99.30  (landing page)Shubham Agrawal  NA  
2048/2359SMITE 1.37.0  (landing page)Neil Ari Wijetunga  NA  
2049/2359smoothclust 1.5.7  (landing page)Lukas M. Weber  NA  
2050/2359smoppix 1.1.10  (landing page)Stijn Hawinkel  NA  
2051/2359SNAGEE 1.49.0  (landing page)David Venet  NA  
2052/2359snapcount 1.21.0  (landing page)Rone Charles  ERROR  
2053/2359snifter 1.19.3  (landing page)Alan O'Callaghan  NA  
2054/2359snm 1.57.0  (landing page)John D. Storey  NA  
2055/2359SNPediaR 1.35.0  (landing page)David Montaner  NA  
2056/2359SNPhood 1.39.0  (landing page)Christian Arnold  NA  
2057/2359SNPRelate 1.43.2  (landing page)Xiuwen Zheng  NA  
2058/2359snpStats 1.59.2  (landing page)David Clayton  WARNINGS  
2059/2359soGGi 1.41.2  (landing page)Tom Carroll  ERROR  
2060/2359SomaticSignatures 2.45.1  (landing page)Julian Gehring  ERROR  
2061/2359SOMNiBUS 1.17.0  (landing page)Kathleen Klein  NA  
2062/2359sosta 1.1.2  (landing page)Samuel Gunz  NA  
2063/2359SpaceMarkers 1.5.0  (landing page)Atul Deshpande  ERROR  
2064/2359SpaceTrooper 0.99.47  (landing page)Dario Righelli  NA  
2065/2359spacexr 1.1.1  (landing page)Gabriel Grajeda  NA  
2066/2359Spaniel 1.23.0  (landing page)Rachel Queen  NA  
2067/2359SpaNorm 1.3.1  (landing page)Dharmesh D. Bhuva  NA  
2068/2359spARI 0.99.17  (landing page)Yinqiao Yan  NA  
2069/2359sparrow 1.15.0  (landing page)Steve Lianoglou  NA  
2070/2359SparseArray 1.9.1  (landing page)Hervé Pagès  ERROR  
2071/2359sparseMatrixStats 1.21.0  (landing page)Constantin Ahlmann-Eltze  NA  
2072/2359sparsenetgls 1.27.0  (landing page)Irene Zeng  NA  
2073/2359SparseSignatures 2.19.2  (landing page)Luca De Sano  ERROR  
2074/2359spaSim 1.11.0  (landing page)Yuzhou Feng  NA  
2075/2359SpatialCPie 1.25.0  (landing page)Joseph Bergenstraahle  NA  
2076/2359spatialDE 1.15.1  (landing page)Gabriele Sales  NA  
2077/2359SpatialDecon 1.19.0  (landing page)Maddy Griswold  NA  
2078/2359SpatialExperiment 1.19.1  (landing page)Dario Righelli  NA  
2079/2359SpatialExperimentIO 1.1.0  (landing page)Yixing E. Dong  NA  
2080/2359spatialFDA 1.1.21  (landing page)Martin Emons  NA  
2081/2359SpatialFeatureExperiment 1.11.1  (landing page)Lambda Moses  ERROR  
2082/2359spatialHeatmap 2.15.2  (landing page)Jianhai Zhang  ERROR  
2083/2359SpatialOmicsOverlay 1.9.2  (landing page)Maddy Griswold  TIMEOUT  
2084/2359spatialSimGP 1.3.0  (landing page)Kinnary Shah  NA  
2085/2359spatzie 1.15.1  (landing page)Jennifer Hammelman  ERROR  
2086/2359speckle 1.9.1  (landing page)Belinda Phipson  NA  
2087/2359specL 1.43.0  (landing page)Christian Panse  NA  
2088/2359SpeCond 1.63.0  (landing page)Florence Cavalli  NA  
2089/2359Spectra 1.19.11  (landing page)RforMassSpectrometry Package Maintainer  NA  
2090/2359SpectralTAD 1.25.0  (landing page)Mikhail Dozmorov  NA  
2091/2359SpectraQL 1.3.1  (landing page)Johannes Rainer  NA  
2092/2359SpectriPy 0.99.13  (landing page)Johannes Rainer  ERROR  
2093/2359SPEM 1.49.0  (landing page)Xinyi YANG  NA  
2094/2359SPIA 2.61.0  (landing page)Adi Laurentiu Tarca  NA  
2095/2359SPIAT 1.11.1  (landing page)Yuzhou Feng  NA  
2096/2359SPICEY 0.99.5  (landing page)Georgina Fuentes-Páez  NA  
2097/2359spicyR 1.21.9  (landing page)Ellis Patrick  NA  
2098/2359spikeLI 2.69.0  (landing page)Enrico Carlon  NA  
2099/2359spiky 1.15.0  (landing page)Tim Triche  NA  
2100/2359spillR 1.5.0  (landing page)Marco Guazzini  NA  
2101/2359spkTools 1.65.0  (landing page)Matthew N McCall  NA  
2102/2359splatter 1.33.1  (landing page)Luke Zappia  NA  
2103/2359SpliceWiz 1.11.0  (landing page)Alex Chit Hei Wong  WARNINGS  
2104/2359SplicingFactory 1.17.0  (landing page)Endre Sebestyen  NA  
2105/2359SplicingGraphs 1.49.1  (landing page)H. Pagès  ERROR  
2106/2359SplineDV 1.1.1  (landing page)Shreyan Gupta  NA  
2107/2359splineTimeR 1.37.0  (landing page)Herbert Braselmann , Martin Selmansberger  NA  
2108/2359SPLINTER 1.35.1  (landing page)Diana Low  ERROR  
2109/2359splots 1.75.0  (landing page)Wolfgang Huber  NA  
2110/2359SPONGE 1.31.0  (landing page)Markus List  WARNINGS  
2111/2359spoon 1.5.0  (landing page)Kinnary Shah  NA  
2112/2359SpotClean 1.11.0  (landing page)Zijian Ni  NA  
2113/2359SPOTlight 1.13.2  (landing page)Marc Elosua-Bayes  NA  
2114/2359SpotSweeper 1.5.1  (landing page)Michael Totty  NA  
2115/2359spqn 1.21.0  (landing page)Yi Wang  NA  
2116/2359SPsimSeq 1.19.0  (landing page)Joris Meys  NA  
2117/2359SQLDataFrame 1.23.0  (landing page)Qian Liu  ERROR  
2118/2359squallms 1.3.0  (landing page)William Kumler  NA  
2119/2359sRACIPE 2.1.1  (landing page)Mingyang Lu  NA  
2120/2359SRAdb 1.71.0  (landing page)Jack Zhu  NA  
2121/2359srnadiff 1.29.1  (landing page)Zytnicki Matthias  WARNINGS  
2122/2359sscu 2.39.0  (landing page)Yu Sun  WARNINGS  
2123/2359sSeq 1.47.0  (landing page)Danni Yu  NA  
2124/2359ssize 1.83.0  (landing page)Gregory R. Warnes  NA  
2125/2359sSNAPPY 1.13.0  (landing page)Wenjun Liu  NA  
2126/2359ssPATHS 1.23.0  (landing page)Natalie R. Davidson  NA  
2127/2359ssrch 1.25.0  (landing page)VJ Carey  NA  
2128/2359ssviz 1.43.0  (landing page)Diana Low  NA  
2129/2359StabMap 1.3.0  (landing page)Shila Ghazanfar  NA  
2130/2359STADyUM 0.99.4  (landing page)Rebecca Hassett  NA  
2131/2359stageR 1.31.0  (landing page)Koen Van den Berge  WARNINGS  
2132/2359standR 1.13.0  (landing page)Ning Liu  NA  
2133/2359STATegRa 1.45.0  (landing page)David Gomez-Cabrero , Núria Planell  NA  
2134/2359Statial 1.11.7  (landing page)Farhan Ameen  NA  
2135/2359statTarget 1.39.0  (landing page)Hemi Luan  NA  
2136/2359stepNorm 1.81.0  (landing page)Yuanyuan Xiao  NA  
2137/2359stJoincount 1.11.0  (landing page)Jiarong Song  NA  
2138/2359stPipe 0.99.995  (landing page)Yang Xu  WARNINGS  
2139/2359strandCheckR 1.27.2  (landing page)Thu-Hien To  NA  
2140/2359Streamer 1.55.1  (landing page)Martin Morgan  NA  
2141/2359STRINGdb 2.21.0  (landing page)Damian Szklarczyk  NA  
2142/2359struct 1.21.1  (landing page)Gavin Rhys Lloyd  NA  
2143/2359Structstrings 1.25.3  (landing page)Felix G.M. Ernst  NA  
2144/2359structToolbox 1.21.0  (landing page)Gavin Rhys Lloyd  NA  
2145/2359StructuralVariantAnnotation 1.25.0  (landing page)Daniel Cameron  NA  
2146/2359SubCellBarCode 1.25.0  (landing page)Taner Arslan  WARNINGS  
2147/2359subSeq 1.39.0  (landing page)Andrew J. Bass , John D. Storey  NA  
2148/2359SUITOR 1.11.0  (landing page)Bill Wheeler  ERROR  
2149/2359SummarizedExperiment 1.39.2  (landing page)Hervé Pagès  NA  
2150/2359Summix 2.15.0  (landing page)Audrey Hendricks  NA  
2151/2359SuperCellCyto 0.99.3  (landing page)Givanna Putri  NA  
2152/2359supersigs 1.17.0  (landing page)Albert Kuo  WARNINGS  
2153/2359surfaltr 1.15.0  (landing page)Pooja Gangras  NA  
2154/2359SurfR 1.5.2  (landing page)Aurora Maurizio  NA  
2155/2359survClust 1.3.0  (landing page)Arshi Arora  WARNINGS  
2156/2359survcomp 1.59.0  (landing page)Benjamin Haibe-Kains  WARNINGS  
2157/2359survtype 1.25.0  (landing page)Dongmin Jung  NA  
2158/2359sva 3.57.0  (landing page)Jeffrey T. Leek , John D. Storey  NA  
2159/2359svaNUMT 1.15.1  (landing page)Ruining Dong  NA  
2160/2359svaRetro 1.15.1  (landing page)Ruining Dong  ERROR  
2161/2359SVMDO 1.9.0  (landing page)Mustafa Erhan Ozer  NA  
2162/2359SVP 1.1.1  (landing page)Shuangbin Xu  ERROR  
2163/2359SWATH2stats 1.39.1  (landing page)Peter Blattmann  NA  
2164/2359SwathXtend 2.31.0  (landing page)Jemma Wu  NA  
2165/2359swfdr 1.35.0  (landing page)Simina M. Boca , Jeffrey T. Leek  ERROR  
2166/2359switchBox 1.45.0  (landing page)Bahman Afsari , Luigi Marchionni  WARNINGS  
2167/2359switchde 1.35.0  (landing page)Kieran Campbell  NA  
2168/2359synapsis 1.15.0  (landing page)Lucy McNeill  NA  
2169/2359synergyfinder 3.17.0  (landing page)Shuyu Zheng  WARNINGS  
2170/2359SynExtend 1.21.2  (landing page)Nicholas Cooley  NA  
2171/2359synlet 2.9.0  (landing page)Chunxuan Shao  NA  
2172/2359SynMut 1.25.0  (landing page)Haogao Gu  NA  
2173/2359syntenet 1.11.2  (landing page)Fabrício Almeida-Silva  NA  
2174/2359systemPipeR 2.15.2  (landing page)Thomas Girke  NA  
2175/2359systemPipeShiny 1.19.1  (landing page)Le Zhang  NA  
2176/2359systemPipeTools 1.17.0  (landing page)Daniela Cassol  WARNINGS  
T
ABCDEFGHIJKLMNOPQRSTUVWXYZ
PackageMaintainerINSTALL/BUILD/CHECK
2177/2359tadar 1.7.1  (landing page)Lachlan Baer  NA  
2178/2359TADCompare 1.19.0  (landing page)Mikhail Dozmorov  NA  
2179/2359tanggle 1.15.3  (landing page)Klaus Schliep  NA  
2180/2359TAPseq 1.21.0  (landing page)Andreas R. Gschwind  WARNINGS  
2181/2359target 1.23.1  (landing page)Mahmoud Ahmed  NA  
2182/2359TargetDecoy 1.15.0  (landing page)Elke Debrie  NA  
2183/2359TargetScore 1.47.0  (landing page)Yue Li  NA  
2184/2359TargetSearch 2.11.1  (landing page)Alvaro Cuadros-Inostroza  NA  
2185/2359TaxSEA 1.1.9  (landing page)Feargal Ryan  NA  
2186/2359TBSignatureProfiler 1.21.4  (landing page)Kiloni Quiles  NA  
2187/2359TCC 1.49.1  (landing page)Jianqiang Sun  NA  
2188/2359TCGAbiolinks 2.37.3  (landing page)Tiago Chedraoui Silva  WARNINGS  
2189/2359TCGAutils 1.29.5  (landing page)Marcel Ramos  ERROR  
2190/2359TCseq 1.33.0  (landing page)Mengjun Wu  WARNINGS  
2191/2359TDbasedUFE 1.9.0  (landing page)Y-h. Taguchi  NA  
2192/2359TDbasedUFEadv 1.9.1  (landing page)Y-h. Taguchi  NA  
2193/2359TEKRABber 1.13.1  (landing page)Yao-Chung Chen  NA  
2194/2359TENET 1.1.90  (landing page)Rhie Lab at the University of Southern California  ERROR  
2195/2359TENxIO 1.11.5  (landing page)Marcel Ramos  ERROR  
2196/2359tenXplore 1.31.0  (landing page)VJ Carey  NA  
2197/2359TEQC 4.31.1  (landing page)Sarah Bonnin  WARNINGS  
2198/2359terapadog 1.1.0  (landing page)Gionmattia Carancini  NA  
2199/2359ternarynet 1.53.0  (landing page)McCall N. Matthew  NA  
2200/2359terraTCGAdata 1.13.0  (landing page)Marcel Ramos  NA  
2201/2359TFARM 1.31.0  (landing page)Liuba Nausicaa Martino  NA  
2202/2359TFBSTools 1.47.1  (landing page)Ge Tan  NA  
2203/2359TFEA.ChIP 1.29.4  (landing page)Yosra Berrouayel  NA  
2204/2359TFHAZ 1.31.0  (landing page)Gaia Ceddia  WARNINGS  
2205/2359TFutils 1.29.1  (landing page)Vincent Carey  NA  
2206/2359tidybulk 1.99.4  (landing page)Stefano Mangiola  NA  
2207/2359tidyCoverage 1.5.0  (landing page)Jacques Serizay  NA  
2208/2359tidyFlowCore 1.3.0  (landing page)Timothy Keyes  NA  
2209/2359tidyomics 1.5.0  (landing page)Stefano Mangiola  WARNINGS  
2210/2359tidysbml 1.3.0  (landing page)Veronica Paparozzi  NA  
2211/2359tidySingleCellExperiment 1.19.1  (landing page)Stefano Mangiola  NA  
2212/2359tidySpatialExperiment 1.5.1  (landing page)William Hutchison  NA  
2213/2359tidySummarizedExperiment 1.19.7  (landing page)Stefano Mangiola  NA  
2214/2359tidytof 1.3.0  (landing page)Timothy Keyes  ERROR  
2215/2359tigre 1.63.0  (landing page)Antti Honkela  NA  
2216/2359TileDBArray 1.19.1  (landing page)Aaron Lun  ERROR  
2217/2359tilingArray 1.87.0  (landing page)Zhenyu Xu  NA  
2218/2359timecourse 1.81.0  (landing page)Yu Chuan Tai  NA  
2219/2359timeOmics 1.21.0  (landing page)Antoine Bodein  WARNINGS  
2220/2359timescape 1.33.0  (landing page)Maia Smith  WARNINGS  
2221/2359TIN 1.41.0  (landing page)Bjarne Johannessen  NA  
2222/2359TissueEnrich 1.29.0  (landing page)Ashish Jain  NA  
2223/2359TitanCNA 1.47.1  (landing page)Gavin Ha  ERROR  
2224/2359tkWidgets 1.87.0  (landing page)J. Zhang  NA  
2225/2359tLOH 1.17.0  (landing page)Michelle Webb  NA  
2226/2359TMixClust 1.31.0  (landing page)Monica Golumbeanu  NA  
2227/2359TMSig 1.3.0  (landing page)Tyler Sagendorf  NA  
2228/2359TnT 1.31.0  (landing page)Jialin Ma  NA  
2229/2359TOAST 1.23.0  (landing page)Ziyi Li  NA  
2230/2359tomoda 1.19.0  (landing page)Wendao Liu  NA  
2231/2359tomoseqr 1.13.0  (landing page)Ryosuke Matsuzawa  NA  
2232/2359TOP 1.9.0  (landing page)Harry Robertson  NA  
2233/2359topconfects 1.25.0  (landing page)Paul Harrison  NA  
2234/2359topdownr 1.31.1  (landing page)Sebastian Gibb  NA  
2235/2359topGO 2.61.1  (landing page)Federico Marini  WARNINGS  
2236/2359ToxicoGx 2.13.0  (landing page)Benjamin Haibe-Kains  NA  
2237/2359TPP 3.37.0  (landing page)Dorothee Childs  NA  
2238/2359TPP2D 1.25.2  (landing page)Nils Kurzawa  NA  
2239/2359tpSVG 1.5.0  (landing page)Boyi Guo  NA  
2240/2359tracktables 1.43.0  (landing page)Tom Carroll  WARNINGS  
2241/2359trackViewer 1.45.2  (landing page)Jianhong Ou  NA  
2242/2359tradeSeq 1.23.0  (landing page)Hector Roux de Bezieux  NA  
2243/2359TrajectoryGeometry 1.17.0  (landing page)Michael Shapiro  NA  
2244/2359TrajectoryUtils 1.17.0  (landing page)Aaron Lun  NA  
2245/2359transcriptogramer 1.31.0  (landing page)Diego Morais  NA  
2246/2359transcriptR 1.37.0  (landing page)Armen R. Karapetyan  ERROR  
2247/2359transformGamPoi 1.15.0  (landing page)Constantin Ahlmann-Eltze  NA  
2248/2359transite 1.27.1  (landing page)Konstantin Krismer  NA  
2249/2359tRanslatome 1.47.0  (landing page)Toma Tebaldi , Erik Dassi  NA  
2250/2359transmogR 1.5.3  (landing page)Stevie Pederson  NA  
2251/2359transomics2cytoscape 1.19.0  (landing page)Kozo Nishida  NA  
2252/2359TransView 1.53.1  (landing page)Julius Muller  ERROR  
2253/2359traseR 1.39.0  (landing page)li chen  NA  
2254/2359traviz 1.15.1  (landing page)Koen Van den Berge  ERROR  
2255/2359TreeAndLeaf 1.21.0  (landing page)Milena A. Cardoso  NA  
2256/2359treeclimbR 1.5.1  (landing page)Charlotte Soneson  NA  
2257/2359treeio 1.33.0  (landing page)Guangchuang Yu  NA  
2258/2359treekoR 1.17.0  (landing page)Adam Chan  NA  
2259/2359TreeSummarizedExperiment 2.17.1  (landing page)Ruizhu Huang  NA  
2260/2359TREG 1.13.0  (landing page)Louise Huuki-Myers  NA  
2261/2359Trendy 1.31.0  (landing page)Rhonda Bacher  NA  
2262/2359TRESS 1.15.0  (landing page)Zhenxing Guo  NA  
2263/2359tricycle 1.17.1  (landing page)Shijie Zheng  WARNINGS  
2264/2359TrIdent 1.1.5  (landing page)Jessie Maier  NA  
2265/2359trio 3.47.0  (landing page)Holger Schwender  NA  
2266/2359triplex 1.49.0  (landing page)Jiri Hon  WARNINGS  
2267/2359tripr 1.15.0  (landing page)Nikolaos Pechlivanis  WARNINGS  
2268/2359tRNA 1.27.1  (landing page)Felix GM Ernst  NA  
2269/2359tRNAdbImport 1.27.0  (landing page)Felix G.M. Ernst  NA  
2270/2359tRNAscanImport 1.29.1  (landing page)Felix G.M. Ernst  NA  
2271/2359TRONCO 2.41.1  (landing page)Luca De Sano  NA  
2272/2359TSAR 1.7.0  (landing page)Xinlin Gao  NA  
2273/2359TSCAN 1.47.0  (landing page)Zhicheng Ji  NA  
2274/2359ttgsea 1.17.0  (landing page)Dongmin Jung  ERROR  
2275/2359TTMap 1.31.0  (landing page)Rachel Jeitziner  NA  
2276/2359TurboNorm 1.57.0  (landing page)Maarten van Iterson  NA  
2277/2359TVTB 1.35.2  (landing page)Kevin Rue-Albrecht  NA  
2278/2359tweeDEseq 1.55.0  (landing page)Dolors Pelegri-Siso  WARNINGS  
2279/2359twilight 1.85.0  (landing page)Stefanie Senger  NA  
2280/2359twoddpcr 1.33.0  (landing page)Anthony Chiu  NA  
2281/2359txcutr 1.15.2  (landing page)Mervin Fansler  NA  
2282/2359txdbmaker 1.5.6  (landing page)H. Pagès  NA  
2283/2359tximeta 1.27.16  (landing page)Michael Love  NA  
2284/2359tximport 1.37.2  (landing page)Michael Love  NA  
U
ABCDEFGHIJKLMNOPQRSTUVWXYZ
PackageMaintainerINSTALL/BUILD/CHECK
2285/2359UCell 2.13.3  (landing page)Massimo Andreatta  NA  
2286/2359UCSC.utils 1.5.0  (landing page)Hervé Pagès  NA  
2287/2359Ularcirc 1.27.2  (landing page)David Humphreys  WARNINGS  
2288/2359UMI4Cats 1.19.3  (landing page)Mireia Ramos-Rodriguez  NA  
2289/2359uncoverappLib 1.19.0  (landing page)Emanuela Iovino  NA  
2290/2359UNDO 1.51.0  (landing page)Niya Wang  NA  
2291/2359unifiedWMWqPCR 1.45.0  (landing page)Joris Meys  NA  
2292/2359UniProt.ws 2.49.4  (landing page)Marcel Ramos  NA  
2293/2359Uniquorn 2.29.2  (landing page)Raik Otto  NA  
2294/2359universalmotif 1.27.4  (landing page)Benjamin Jean-Marie Tremblay  NA  
2295/2359updateObject 1.13.0  (landing page)Hervé Pagès  NA  
2296/2359UPDhmm 1.5.1  (landing page)Marta Sevilla  NA  
2297/2359uSORT 1.35.0  (landing page)Hao Chen  WARNINGS  
V
ABCDEFGHIJKLMNOPQRSTUVWXYZ
PackageMaintainerINSTALL/BUILD/CHECK
2298/2359VAExprs 1.15.0  (landing page)Dongmin Jung  ERROR  
2299/2359VanillaICE 1.71.0  (landing page)Robert Scharpf  NA  
2300/2359VarCon 1.17.0  (landing page)Johannes Ptok  NA  
2301/2359variancePartition 1.39.3  (landing page)Gabriel E. Hoffman  NA  
2302/2359VariantAnnotation 1.55.2  (landing page)Bioconductor Package Maintainer  WARNINGS  
2303/2359VariantExperiment 1.23.0  (landing page)Qian Liu  ERROR  
2304/2359VariantFiltering 1.45.3  (landing page)Robert Castelo  ERROR  
2305/2359VariantTools 1.51.0  (landing page)Michael Lawrence  ERROR  
2306/2359VaSP 1.21.0  (landing page)Huihui Yu  NA  
2307/2359vbmp 1.77.0  (landing page)Nicola Lama  NA  
2308/2359VCFArray 1.25.0  (landing page)Qian Liu  NA  
2309/2359VDJdive 1.11.0  (landing page)Kelly Street  NA  
2310/2359VegaMC 3.47.0  (landing page)Sandro Morganella  WARNINGS  
2311/2359velociraptor 1.19.1  (landing page)Kevin Rue-Albrecht  ERROR  
2312/2359veloviz 1.15.0  (landing page)Lyla Atta  NA  
2313/2359VennDetail 1.25.3  (landing page)Kai Guo  WARNINGS  
2314/2359VERSO 1.19.1  (landing page)Davide Maspero  NA  
2315/2359vidger 1.29.1  (landing page)Brandon Monier  NA  
2316/2359viper 1.43.0  (landing page)Mariano J Alvarez  WARNINGS  
2317/2359ViSEAGO 1.23.0  (landing page)Aurelien Brionne  WARNINGS  
2318/2359VisiumIO 1.5.11  (landing page)Marcel Ramos  NA  
2319/2359visiumStitched 1.1.3  (landing page)Nicholas J. Eagles  NA  
2320/2359vissE 1.17.0  (landing page)Dharmesh D. Bhuva  NA  
2321/2359vmrseq 1.1.2  (landing page)Ning Shen  NA  
2322/2359Voyager 1.11.0  (landing page)Lambda Moses  WARNINGS  
2323/2359VplotR 1.19.1  (landing page)Jacques Serizay  ERROR  
2324/2359vsclust 1.11.2  (landing page)Veit Schwammle  NA  
2325/2359vsn 3.77.0  (landing page)Wolfgang Huber  NA  
2326/2359vtpnet 0.49.0  (landing page)VJ Carey  NA  
2327/2359vulcan 1.31.0  (landing page)Federico M. Giorgi  NA  
W
ABCDEFGHIJKLMNOPQRSTUVWXYZ
PackageMaintainerINSTALL/BUILD/CHECK
2328/2359waddR 1.23.0  (landing page)Julian Flesch  ERROR  
2329/2359wateRmelon 2.15.0  (landing page)Leo C Schalkwyk  WARNINGS  
2330/2359wavClusteR 2.43.0  (landing page)Federico Comoglio  NA  
2331/2359weaver 1.75.0  (landing page)Seth Falcon  WARNINGS  
2332/2359webbioc 1.81.0  (landing page)Colin A. Smith  NA  
2333/2359weitrix 1.21.0  (landing page)Paul Harrison  NA  
2334/2359widgetTools 1.87.0  (landing page)Jianhua Zhang  NA  
2335/2359wiggleplotr 1.33.2  (landing page)Kaur Alasoo  NA  
2336/2359wpm 1.19.0  (landing page)Helene Borges  NA  
2337/2359wppi 1.17.0  (landing page)Ana Galhoz  NA  
2338/2359Wrench 1.27.0  (landing page)Hector Corrada Bravo  NA  
X
ABCDEFGHIJKLMNOPQRSTUVWXYZ
PackageMaintainerINSTALL/BUILD/CHECK
2339/2359XAItest 1.1.5  (landing page)Ghislain FIEVET  WARNINGS  
2340/2359xCell2 1.1.0  (landing page)Almog Angel  NA  
2341/2359xcms 4.7.3  (landing page)Steffen Neumann  NA  
2342/2359xcore 1.13.0  (landing page)Maciej Migdał  NA  
2343/2359XDE 2.55.0  (landing page)Robert Scharpf  WARNINGS  
2344/2359XeniumIO 1.1.3  (landing page)Marcel Ramos  ERROR  
2345/2359xenLite 1.3.0  (landing page)Vincent Carey  ERROR  
2346/2359Xeva 1.25.0  (landing page)Benjamin Haibe-Kains  NA  
2347/2359XINA 1.27.0  (landing page)Lang Ho Lee  NA  
2348/2359xmapbridge 1.67.0  (landing page)Chris Wirth  NA  
2349/2359XNAString 1.17.1  (landing page)Marianna Plucinska  ERROR  
2350/2359XVector 0.49.1  (landing page)Hervé Pagès  WARNINGS  
Y
ABCDEFGHIJKLMNOPQRSTUVWXYZ
PackageMaintainerINSTALL/BUILD/CHECK
2351/2359yamss 1.35.0  (landing page)Leslie Myint  NA  
2352/2359YAPSA 1.35.1  (landing page)Zuguang Gu  NA  
2353/2359yarn 1.35.0  (landing page)Joseph N Paulson  NA  
Z
ABCDEFGHIJKLMNOPQRSTUVWXYZ
PackageMaintainerINSTALL/BUILD/CHECK
2354/2359zellkonverter 1.19.3  (landing page)Luke Zappia  ERROR  
2355/2359zenith 1.11.0  (landing page)Gabriel Hoffman  WARNINGS  
2356/2359zFPKM 1.31.0  (landing page)Ron Ammar  NA  
2357/2359zinbwave 1.31.0  (landing page)Davide Risso  NA  
2358/2359zitools 1.3.0  (landing page)Carlotta Meyring  WARNINGS  
2359/2359ZygosityPredictor 1.9.1  (landing page)Marco Rheinnecker  NA