Package: immunotation Version: 1.17.5 Command: /home/biocbuild/bbs-3.22-bioc/R/bin/R CMD INSTALL immunotation StartedAt: 2025-10-27 15:11:37 -0400 (Mon, 27 Oct 2025) EndedAt: 2025-10-27 15:12:51 -0400 (Mon, 27 Oct 2025) EllapsedTime: 74.1 seconds RetCode: 0 Status: OK