Package: immunogenViewer Version: 1.4.0 Command: /home/biocbuild/R/R/bin/R CMD build --keep-empty-dirs --no-resave-data immunogenViewer StartedAt: 2025-11-18 02:27:48 -0000 (Tue, 18 Nov 2025) EndedAt: 2025-11-18 02:28:30 -0000 (Tue, 18 Nov 2025) EllapsedTime: 42.0 seconds RetCode: 0 Status: OK PackageFile: immunogenViewer_1.4.0.tar.gz PackageFileSize: 584.6 KiB