Package: immunogenViewer Version: 1.3.1 Command: /home/biocbuild/bbs-3.22-bioc/R/bin/R CMD build --keep-empty-dirs --no-resave-data --md5 immunogenViewer StartedAt: 2025-10-24 18:23:09 -0400 (Fri, 24 Oct 2025) EndedAt: 2025-10-24 18:23:41 -0400 (Fri, 24 Oct 2025) EllapsedTime: 32.0 seconds RetCode: 0 Status: OK PackageFile: immunogenViewer_1.3.1.tar.gz PackageFileSize: 569.8 KiB