Package: immunogenViewer Version: 1.3.1 Command: rm -rf immunogenViewer.buildbin-libdir && mkdir immunogenViewer.buildbin-libdir && /Users/biocbuild/BBS/utils/build-universal.sh immunogenViewer_1.3.1.tar.gz /Library/Frameworks/R.framework/Resources/bin/R immunogenViewer.buildbin-libdir StartedAt: 2025-10-25 01:45:34 -0400 (Sat, 25 Oct 2025) EndedAt: 2025-10-25 01:45:59 -0400 (Sat, 25 Oct 2025) EllapsedTime: 24.5 seconds RetCode: 0 Status: OK PackageFile: immunogenViewer_1.3.1.tgz PackageFileSize: 574.2 KiB