Package: immunoClust Version: 1.42.0 Command: /home/biocbuild/bbs-3.22-bioc/R/bin/R CMD build --keep-empty-dirs --no-resave-data --md5 immunoClust StartedAt: 2025-11-03 18:14:33 -0500 (Mon, 03 Nov 2025) EndedAt: 2025-11-03 18:18:07 -0500 (Mon, 03 Nov 2025) EllapsedTime: 214.1 seconds RetCode: 0 Status: OK PackageFile: immunoClust_1.42.0.tar.gz PackageFileSize: 2.508 MiB