Package: imageTCGA Version: 1.1.1 Command: /home/biocbuild/bbs-3.22-bioc/R/bin/R CMD INSTALL imageTCGA StartedAt: 2025-10-24 15:21:39 -0400 (Fri, 24 Oct 2025) EndedAt: 2025-10-24 15:21:45 -0400 (Fri, 24 Oct 2025) EllapsedTime: 6.1 seconds RetCode: 0 Status: OK