Package: imageTCGA Version: 1.1.1 Command: /Library/Frameworks/R.framework/Resources/bin/R CMD INSTALL imageTCGA StartedAt: 2025-10-24 15:08:55 -0400 (Fri, 24 Oct 2025) EndedAt: 2025-10-24 15:08:59 -0400 (Fri, 24 Oct 2025) EllapsedTime: 3.2 seconds RetCode: 0 Status: OK