Package: imageTCGA Version: 1.1.1 Command: /Library/Frameworks/R.framework/Resources/bin/R CMD build --keep-empty-dirs --no-resave-data imageTCGA StartedAt: 2025-10-24 16:46:45 -0400 (Fri, 24 Oct 2025) EndedAt: 2025-10-24 16:46:52 -0400 (Fri, 24 Oct 2025) EllapsedTime: 7.1 seconds RetCode: 0 Status: OK PackageFile: imageTCGA_1.1.1.tar.gz PackageFileSize: 2.604 MiB