Package: imageTCGA Version: 1.1.1 Command: rm -rf imageTCGA.buildbin-libdir && mkdir imageTCGA.buildbin-libdir && /Users/biocbuild/BBS/utils/build-universal.sh imageTCGA_1.1.1.tar.gz /Library/Frameworks/R.framework/Resources/bin/R imageTCGA.buildbin-libdir StartedAt: 2025-10-24 23:06:35 -0400 (Fri, 24 Oct 2025) EndedAt: 2025-10-24 23:06:40 -0400 (Fri, 24 Oct 2025) EllapsedTime: 4.1 seconds RetCode: 0 Status: OK PackageFile: imageTCGA_1.1.1.tgz PackageFileSize: 1.833 MiB