Package: igvShiny Version: 1.5.0 Command: /home/biocbuild/bbs-3.22-bioc/R/bin/R CMD INSTALL igvShiny StartedAt: 2025-10-24 15:27:19 -0400 (Fri, 24 Oct 2025) EndedAt: 2025-10-24 15:27:30 -0400 (Fri, 24 Oct 2025) EllapsedTime: 11.4 seconds RetCode: 0 Status: OK