Package: igvR Version: 1.30.0 Command: /home/biocbuild/bbs-3.22-bioc/R/bin/R CMD build --keep-empty-dirs --no-resave-data --md5 igvR StartedAt: 2025-11-14 18:15:18 -0500 (Fri, 14 Nov 2025) EndedAt: 2025-11-14 18:16:10 -0500 (Fri, 14 Nov 2025) EllapsedTime: 52.0 seconds RetCode: 0 Status: OK PackageFile: igvR_1.30.0.tar.gz PackageFileSize: 8.594 MiB