Package: igblastr Version: 0.99.23 Command: /home/biocbuild/bbs-3.22-bioc/R/bin/R CMD build --keep-empty-dirs --no-resave-data --md5 igblastr StartedAt: 2025-10-24 18:21:04 -0400 (Fri, 24 Oct 2025) EndedAt: 2025-10-24 18:26:14 -0400 (Fri, 24 Oct 2025) EllapsedTime: 310.3 seconds RetCode: 0 Status: OK PackageFile: igblastr_0.99.23.tar.gz PackageFileSize: 4.314 MiB