Package: idr2d Version: 1.23.1 Command: /home/biocbuild/bbs-3.22-bioc/R/bin/R CMD INSTALL idr2d StartedAt: 2025-10-24 15:42:18 -0400 (Fri, 24 Oct 2025) EndedAt: 2025-10-24 15:42:35 -0400 (Fri, 24 Oct 2025) EllapsedTime: 16.1 seconds RetCode: 0 Status: OK