Package: idpr Version: 1.19.0 Command: /home/biocbuild/bbs-3.22-bioc/R/bin/R CMD build --keep-empty-dirs --no-resave-data --md5 idpr StartedAt: 2025-10-24 18:20:56 -0400 (Fri, 24 Oct 2025) EndedAt: 2025-10-24 18:23:09 -0400 (Fri, 24 Oct 2025) EllapsedTime: 133.2 seconds RetCode: 0 Status: OK PackageFile: idpr_1.19.0.tar.gz PackageFileSize: 3.279 MiB