Package: idiogram Version: 1.86.0 Command: /Library/Frameworks/R.framework/Resources/bin/R CMD build --keep-empty-dirs --no-resave-data idiogram StartedAt: 2025-11-06 16:43:53 -0500 (Thu, 06 Nov 2025) EndedAt: 2025-11-06 16:44:04 -0500 (Thu, 06 Nov 2025) EllapsedTime: 11.1 seconds RetCode: 0 Status: OK PackageFile: idiogram_1.86.0.tar.gz PackageFileSize: 1.795 MiB