Package: ideal Version: 2.3.0 Command: rm -rf ideal.buildbin-libdir && mkdir ideal.buildbin-libdir && /Users/biocbuild/BBS/utils/build-universal.sh ideal_2.3.0.tar.gz /Library/Frameworks/R.framework/Resources/bin/R ideal.buildbin-libdir StartedAt: 2025-10-28 23:03:10 -0400 (Tue, 28 Oct 2025) EndedAt: 2025-10-28 23:03:36 -0400 (Tue, 28 Oct 2025) EllapsedTime: 25.6 seconds RetCode: 0 Status: OK PackageFile: ideal_2.3.0.tgz PackageFileSize: 5.551 MiB