Package: icetea Version: 1.28.0 Command: /home/biocbuild/bbs-3.22-bioc/R/bin/R CMD INSTALL icetea StartedAt: 2025-11-14 15:55:26 -0500 (Fri, 14 Nov 2025) EndedAt: 2025-11-14 15:56:17 -0500 (Fri, 14 Nov 2025) EllapsedTime: 50.4 seconds RetCode: 0 Status: OK