Package: icetea Version: 1.28.0 Command: /home/biocbuild/bbs-3.22-bioc/R/bin/R CMD build --keep-empty-dirs --no-resave-data --md5 icetea StartedAt: 2025-11-14 18:14:08 -0500 (Fri, 14 Nov 2025) EndedAt: 2025-11-14 18:15:55 -0500 (Fri, 14 Nov 2025) EllapsedTime: 106.1 seconds RetCode: 0 Status: OK PackageFile: icetea_1.28.0.tar.gz PackageFileSize: 790.4 KiB