Package: ibh Version: 1.57.0 Command: /home/biocbuild/bbs-3.22-bioc/R/bin/R CMD INSTALL ibh StartedAt: 2025-10-24 15:12:40 -0400 (Fri, 24 Oct 2025) EndedAt: 2025-10-24 15:12:51 -0400 (Fri, 24 Oct 2025) EllapsedTime: 11.2 seconds RetCode: 0 Status: OK