Package: iSeq Version: 1.62.0 Command: /Library/Frameworks/R.framework/Resources/bin/R CMD INSTALL iSeq StartedAt: 2025-11-03 15:10:15 -0500 (Mon, 03 Nov 2025) EndedAt: 2025-11-03 15:10:54 -0500 (Mon, 03 Nov 2025) EllapsedTime: 39.6 seconds RetCode: 0 Status: OK