Package: iSeq Version: 1.62.0 Command: /Library/Frameworks/R.framework/Resources/bin/R CMD build --keep-empty-dirs --no-resave-data iSeq StartedAt: 2025-11-03 17:30:36 -0500 (Mon, 03 Nov 2025) EndedAt: 2025-11-03 17:31:01 -0500 (Mon, 03 Nov 2025) EllapsedTime: 24.1 seconds RetCode: 0 Status: OK PackageFile: iSeq_1.62.0.tar.gz PackageFileSize: 1.325 MiB