Package: iSeq Version: 1.62.0 Command: rm -rf iSeq.buildbin-libdir && mkdir iSeq.buildbin-libdir && /Users/biocbuild/BBS/utils/build-universal.sh iSeq_1.62.0.tar.gz /Library/Frameworks/R.framework/Resources/bin/R iSeq.buildbin-libdir StartedAt: 2025-11-04 01:46:17 -0500 (Tue, 04 Nov 2025) EndedAt: 2025-11-04 01:46:23 -0500 (Tue, 04 Nov 2025) EllapsedTime: 6.8 seconds RetCode: 0 Status: OK PackageFile: iSeq_1.62.0.tgz PackageFileSize: 1.543 MiB