Package: iSeq Version: 1.61.0 Command: /Library/Frameworks/R.framework/Resources/bin/R CMD INSTALL iSeq StartedAt: 2025-10-24 15:04:37 -0400 (Fri, 24 Oct 2025) EndedAt: 2025-10-24 15:04:47 -0400 (Fri, 24 Oct 2025) EllapsedTime: 10.4 seconds RetCode: 0 Status: OK