Package: iSeq Version: 1.62.0 Maintainer: Qianxing Mo MaintainerEmail: qianxing.mo at moffitt.org git_url: https://git.bioconductor.org/packages/iSeq git_branch: RELEASE_3_22 git_last_commit: 693b8cc git_last_commit_date: 2025-10-29 10:05:51 -0400 (Wed, 29 Oct 2025)