Package: iSEEtree Version: 1.3.2 Command: /home/biocbuild/R/R/bin/R CMD build --keep-empty-dirs --no-resave-data iSEEtree StartedAt: 2025-10-21 00:41:22 -0000 (Tue, 21 Oct 2025) EndedAt: 2025-10-21 00:42:55 -0000 (Tue, 21 Oct 2025) EllapsedTime: 93.0 seconds RetCode: 0 Status: OK PackageFile: iSEEtree_1.3.2.tar.gz PackageFileSize: 7.667 MiB