Package: iSEEtree Version: 1.3.2 Command: /home/biocbuild/bbs-3.22-bioc/R/bin/R CMD INSTALL iSEEtree StartedAt: 2025-10-24 16:08:03 -0400 (Fri, 24 Oct 2025) EndedAt: 2025-10-24 16:08:50 -0400 (Fri, 24 Oct 2025) EllapsedTime: 47.1 seconds RetCode: 0 Status: OK