Package: iSEEtree Version: 1.3.2 Command: /home/biocbuild/bbs-3.22-bioc/R/bin/R CMD check --install=check:iSEEtree.install-out.txt --library=/home/biocbuild/bbs-3.22-bioc/R/site-library --timings iSEEtree_1.3.2.tar.gz StartedAt: 2025-10-25 00:50:36 -0400 (Sat, 25 Oct 2025) EndedAt: 2025-10-25 00:56:43 -0400 (Sat, 25 Oct 2025) EllapsedTime: 367.4 seconds RetCode: 0 Status: OK CheckDir: iSEEtree.Rcheck Warnings: 0