Package: iSEEtree Version: 1.4.0 Command: /Library/Frameworks/R.framework/Resources/bin/R CMD check --install=check:iSEEtree.install-out.txt --library=/Library/Frameworks/R.framework/Resources/library --no-vignettes --timings iSEEtree_1.4.0.tar.gz StartedAt: 2025-11-03 22:01:31 -0500 (Mon, 03 Nov 2025) EndedAt: 2025-11-03 22:08:00 -0500 (Mon, 03 Nov 2025) EllapsedTime: 389.4 seconds RetCode: 0 Status: OK CheckDir: iSEEtree.Rcheck Warnings: 0