Package: iSEEtree Version: 1.3.2 Command: /Library/Frameworks/R.framework/Resources/bin/R CMD INSTALL iSEEtree StartedAt: 2025-10-26 15:31:09 -0400 (Sun, 26 Oct 2025) EndedAt: 2025-10-26 15:31:28 -0400 (Sun, 26 Oct 2025) EllapsedTime: 19.8 seconds RetCode: 0 Status: OK