Package: iSEEtree Version: 1.3.2 Command: /Library/Frameworks/R.framework/Resources/bin/R CMD check --install=check:iSEEtree.install-out.txt --library=/Library/Frameworks/R.framework/Resources/library --no-vignettes --timings iSEEtree_1.3.2.tar.gz StartedAt: 2025-10-26 20:13:43 -0400 (Sun, 26 Oct 2025) EndedAt: 2025-10-26 20:15:54 -0400 (Sun, 26 Oct 2025) EllapsedTime: 131.5 seconds RetCode: 0 Status: OK CheckDir: iSEEtree.Rcheck Warnings: 0