Package: iSEEpathways Version: 1.7.0 Command: /home/biocbuild/bbs-3.22-bioc/R/bin/R CMD INSTALL iSEEpathways StartedAt: 2025-10-24 15:35:02 -0400 (Fri, 24 Oct 2025) EndedAt: 2025-10-24 15:35:34 -0400 (Fri, 24 Oct 2025) EllapsedTime: 32.0 seconds RetCode: 0 Status: OK