Package: iSEEpathways Version: 1.7.0 Command: /home/biocbuild/bbs-3.22-bioc/R/bin/R CMD build --keep-empty-dirs --no-resave-data --md5 iSEEpathways StartedAt: 2025-10-24 18:27:30 -0400 (Fri, 24 Oct 2025) EndedAt: 2025-10-24 18:30:19 -0400 (Fri, 24 Oct 2025) EllapsedTime: 168.2 seconds RetCode: 0 Status: OK PackageFile: iSEEpathways_1.7.0.tar.gz PackageFileSize: 2.14 MiB