Package: iSEEpathways Version: 1.7.0 Command: /Library/Frameworks/R.framework/Resources/bin/R CMD INSTALL iSEEpathways StartedAt: 2025-10-26 15:12:54 -0400 (Sun, 26 Oct 2025) EndedAt: 2025-10-26 15:13:08 -0400 (Sun, 26 Oct 2025) EllapsedTime: 13.8 seconds RetCode: 0 Status: OK