Package: iSEEindex Version: 1.8.0 Command: /home/biocbuild/bbs-3.22-bioc/R/bin/R CMD INSTALL iSEEindex StartedAt: 2025-10-31 15:33:34 -0400 (Fri, 31 Oct 2025) EndedAt: 2025-10-31 15:34:11 -0400 (Fri, 31 Oct 2025) EllapsedTime: 37.6 seconds RetCode: 0 Status: OK