Package: iSEEindex Version: 1.8.0 Command: /home/biocbuild/bbs-3.22-bioc/R/bin/R CMD build --keep-empty-dirs --no-resave-data --md5 iSEEindex StartedAt: 2025-10-31 18:27:23 -0400 (Fri, 31 Oct 2025) EndedAt: 2025-10-31 18:28:13 -0400 (Fri, 31 Oct 2025) EllapsedTime: 50.1 seconds RetCode: 0 Status: OK PackageFile: iSEEindex_1.8.0.tar.gz PackageFileSize: 1.381 MiB