Package: iSEEhex Version: 1.12.0 Command: /home/biocbuild/bbs-3.22-bioc/R/bin/R CMD INSTALL iSEEhex StartedAt: 2025-11-17 17:33:38 -0500 (Mon, 17 Nov 2025) EndedAt: 2025-11-17 17:34:12 -0500 (Mon, 17 Nov 2025) EllapsedTime: 33.5 seconds RetCode: 0 Status: OK