Package: iSEEde Version: 1.7.0 Command: /home/biocbuild/bbs-3.22-bioc/R/bin/R CMD build --keep-empty-dirs --no-resave-data --md5 iSEEde StartedAt: 2025-10-24 18:26:41 -0400 (Fri, 24 Oct 2025) EndedAt: 2025-10-24 18:28:35 -0400 (Fri, 24 Oct 2025) EllapsedTime: 114.1 seconds RetCode: 0 Status: OK PackageFile: iSEEde_1.7.0.tar.gz PackageFileSize: 3.091 MiB